BEGIN:VCALENDAR
VERSION:2.0
PRODID:-//South Lake Church - ECPv6.15.20//NONSGML v1.0//EN
CALSCALE:GREGORIAN
METHOD:PUBLISH
X-WR-CALNAME:South Lake Church
X-ORIGINAL-URL:https://southlakelc.org
X-WR-CALDESC:Events for South Lake Church
REFRESH-INTERVAL;VALUE=DURATION:PT1H
X-Robots-Tag:noindex
X-PUBLISHED-TTL:PT1H
BEGIN:VTIMEZONE
TZID:America/Chicago
BEGIN:DAYLIGHT
TZOFFSETFROM:-0600
TZOFFSETTO:-0500
TZNAME:CDT
DTSTART:20230312T080000
END:DAYLIGHT
BEGIN:STANDARD
TZOFFSETFROM:-0500
TZOFFSETTO:-0600
TZNAME:CST
DTSTART:20231105T070000
END:STANDARD
BEGIN:DAYLIGHT
TZOFFSETFROM:-0600
TZOFFSETTO:-0500
TZNAME:CDT
DTSTART:20240310T080000
END:DAYLIGHT
BEGIN:STANDARD
TZOFFSETFROM:-0500
TZOFFSETTO:-0600
TZNAME:CST
DTSTART:20241103T070000
END:STANDARD
BEGIN:DAYLIGHT
TZOFFSETFROM:-0600
TZOFFSETTO:-0500
TZNAME:CDT
DTSTART:20250309T080000
END:DAYLIGHT
BEGIN:STANDARD
TZOFFSETFROM:-0500
TZOFFSETTO:-0600
TZNAME:CST
DTSTART:20251102T070000
END:STANDARD
END:VTIMEZONE
BEGIN:VEVENT
DTSTART;TZID=America/Chicago:20240711T123000
DTEND;TZID=America/Chicago:20240711T133000
DTSTAMP:20260425T231851
CREATED:20240624T210246Z
LAST-MODIFIED:20240710T171052Z
UID:59803-1720701000-1720704600@southlakelc.org
SUMMARY:South Lake Luncheon
DESCRIPTION:This week’s meeting has been canceled due to Hurricane Beryl. Please join us next time! \nMore Info \n  \nEngage | Grow | Share
URL:https://southlakelc.org/calendar/south-lake-luncheon-52
LOCATION:TX
CATEGORIES:Community,Food,Outreach
ATTACH;FMTTYPE=image/png:https://southlakelc.org/wp-content/uploads/2024/03/Luncheon-1.png
END:VEVENT
BEGIN:VEVENT
DTSTART;TZID=America/Chicago:20240711T130000
DTEND;TZID=America/Chicago:20240711T143000
DTSTAMP:20260425T231851
CREATED:20240108T165822Z
LAST-MODIFIED:20240318T155119Z
UID:43186-1720702800-1720708200@southlakelc.org
SUMMARY:Small Group - Renschen's
DESCRIPTION:Meet us every Thursdays at 1pm at the Renschen’s home to discuss The Book of Hebrews with a 26 week video Bible study taught by scholar George H. Guthriee. \nWeek 26: Review \nFor more information and to register\, click here.
URL:https://southlakelc.org/calendar/small-group-renschens-14
LOCATION:TX
CATEGORIES:Community,Outreach
ATTACH;FMTTYPE=image/jpeg:https://southlakelc.org/wp-content/uploads/2023/03/small_groups-title-2-Wide-16x9-1.jpg
END:VEVENT
END:VCALENDAR