BEGIN:VCALENDAR
VERSION:2.0
PRODID:-//South Lake Church - ECPv6.15.20//NONSGML v1.0//EN
CALSCALE:GREGORIAN
METHOD:PUBLISH
X-WR-CALNAME:South Lake Church
X-ORIGINAL-URL:https://southlakelc.org
X-WR-CALDESC:Events for South Lake Church
REFRESH-INTERVAL;VALUE=DURATION:PT1H
X-Robots-Tag:noindex
X-PUBLISHED-TTL:PT1H
BEGIN:VTIMEZONE
TZID:America/Chicago
BEGIN:DAYLIGHT
TZOFFSETFROM:-0600
TZOFFSETTO:-0500
TZNAME:CDT
DTSTART:20240310T080000
END:DAYLIGHT
BEGIN:STANDARD
TZOFFSETFROM:-0500
TZOFFSETTO:-0600
TZNAME:CST
DTSTART:20241103T070000
END:STANDARD
BEGIN:DAYLIGHT
TZOFFSETFROM:-0600
TZOFFSETTO:-0500
TZNAME:CDT
DTSTART:20250309T080000
END:DAYLIGHT
BEGIN:STANDARD
TZOFFSETFROM:-0500
TZOFFSETTO:-0600
TZNAME:CST
DTSTART:20251102T070000
END:STANDARD
BEGIN:DAYLIGHT
TZOFFSETFROM:-0600
TZOFFSETTO:-0500
TZNAME:CDT
DTSTART:20260308T080000
END:DAYLIGHT
BEGIN:STANDARD
TZOFFSETFROM:-0500
TZOFFSETTO:-0600
TZNAME:CST
DTSTART:20261101T070000
END:STANDARD
END:VTIMEZONE
BEGIN:VEVENT
DTSTART;TZID=America/Chicago:20251001T070000
DTEND;TZID=America/Chicago:20251001T080000
DTSTAMP:20260424T221935
CREATED:20250828T151051Z
LAST-MODIFIED:20250828T151051Z
UID:102190-1759302000-1759305600@southlakelc.org
SUMMARY:Wednesday Recap Breakfast
DESCRIPTION:Got questions or thoughts from this past Sunday or just hungry to start your morning? Join us at Kelley’s Country Cookin 7am each Wednesday to go over the reading from last Sunday\, discuss\, and be together as we begin the work day. Another great opportunity to share with friends and invite them to get to know Jesus. \n1502 FM518\, League City\, TX 77573 \n  \nEngage | Grow | Share
URL:https://southlakelc.org/calendar/wednesday-recap-breakfast-135
LOCATION:TX
CATEGORIES:Community,Food,Outreach
ATTACH;FMTTYPE=image/jpeg:https://southlakelc.org/wp-content/uploads/2024/10/Breakfast-Wednesday-Morning-web-scaled.jpg
END:VEVENT
BEGIN:VEVENT
DTSTART;TZID=America/Chicago:20251001T130000
DTEND;TZID=America/Chicago:20251001T140000
DTSTAMP:20260424T221935
CREATED:20250828T151519Z
LAST-MODIFIED:20250922T151546Z
UID:102198-1759323600-1759327200@southlakelc.org
SUMMARY:Small Group - Renschen's
DESCRIPTION:Meet us every Wednesday at 1pm at the Renschen’s home. In this series on the book of John\, taught by scholar and professor Gary M. Burge\, you’ll learn about the text itself\, explore issues in John’s culture and in ours that help us understand the ultimate meaning of each passage\, and discover ways in which the eternal theology of John can be understood and lived out in our modern culture. \nFor more information and to register\, click here. \n  \nEngage | Grow | Share
URL:https://southlakelc.org/calendar/small-group-renschens-99
LOCATION:TX
CATEGORIES:Community,Outreach
ATTACH;FMTTYPE=image/jpeg:https://southlakelc.org/wp-content/uploads/2023/03/small_groups-title-2-Wide-16x9-1.jpg
END:VEVENT
END:VCALENDAR