BEGIN:VCALENDAR
VERSION:2.0
PRODID:-//South Lake Church - ECPv6.15.20//NONSGML v1.0//EN
CALSCALE:GREGORIAN
METHOD:PUBLISH
X-WR-CALNAME:South Lake Church
X-ORIGINAL-URL:https://southlakelc.org
X-WR-CALDESC:Events for South Lake Church
REFRESH-INTERVAL;VALUE=DURATION:PT1H
X-Robots-Tag:noindex
X-PUBLISHED-TTL:PT1H
BEGIN:VTIMEZONE
TZID:America/Chicago
BEGIN:DAYLIGHT
TZOFFSETFROM:-0600
TZOFFSETTO:-0500
TZNAME:CDT
DTSTART:20240310T080000
END:DAYLIGHT
BEGIN:STANDARD
TZOFFSETFROM:-0500
TZOFFSETTO:-0600
TZNAME:CST
DTSTART:20241103T070000
END:STANDARD
BEGIN:DAYLIGHT
TZOFFSETFROM:-0600
TZOFFSETTO:-0500
TZNAME:CDT
DTSTART:20250309T080000
END:DAYLIGHT
BEGIN:STANDARD
TZOFFSETFROM:-0500
TZOFFSETTO:-0600
TZNAME:CST
DTSTART:20251102T070000
END:STANDARD
BEGIN:DAYLIGHT
TZOFFSETFROM:-0600
TZOFFSETTO:-0500
TZNAME:CDT
DTSTART:20260308T080000
END:DAYLIGHT
BEGIN:STANDARD
TZOFFSETFROM:-0500
TZOFFSETTO:-0600
TZNAME:CST
DTSTART:20261101T070000
END:STANDARD
END:VTIMEZONE
BEGIN:VEVENT
DTSTART;TZID=America/Chicago:20251026T103000
DTEND;TZID=America/Chicago:20251026T113000
DTSTAMP:20260424T204640
CREATED:20250922T145852Z
LAST-MODIFIED:20250922T145852Z
UID:104636-1761474600-1761478200@southlakelc.org
SUMMARY:Weekly Worship
DESCRIPTION:Weekly Worship Sundays 10:30am\nHometown Heroes Park\n1001 E League City Pkwy\, League City\, TX 77573\n\n\nLive Stream – SouthLakeLC.org
URL:https://southlakelc.org/calendar/weekly-worship-55
LOCATION:TX
CATEGORIES:Community,Music,Outreach
ATTACH;FMTTYPE=image/jpeg:https://southlakelc.org/wp-content/uploads/2020/11/worship-2-orh4uyww62p8wcxyfofslvas4h3zxl5gtyzjhk1g_26784dd1e7ecdceb97fd98a90e6b97d4-opt-1.jpg
END:VEVENT
BEGIN:VEVENT
DTSTART;TZID=America/Chicago:20251026T120000
DTEND;TZID=America/Chicago:20251026T140000
DTSTAMP:20260424T204640
CREATED:20251009T131928Z
LAST-MODIFIED:20251009T132047Z
UID:106322-1761480000-1761487200@southlakelc.org
SUMMARY:Joint Ladies Gathering
DESCRIPTION:           \nRenewal and Thursday’s Luncheon are part of  South Lake’s Women’s Gatherings. A chance for women from all over our League City community to gather together\, be renewed from all that life throws at us and be reminded we walk together on our faith journey. Both groups will be meeting immediately following church on October 26\, 2025. \n\nLocation: South Shore Grill – 2800 Marina Bay Dr Suite F\, League City\, TX 77573 \nFor more information and to register: click here \n\n  \nEngage | Grow | Share
URL:https://southlakelc.org/calendar/joint-ladies-gathering
LOCATION:South Shore Grill\, 2800 Marina Bay Dr Suite F\, League City\, 77573\, United States
END:VEVENT
END:VCALENDAR