BEGIN:VCALENDAR
VERSION:2.0
PRODID:-//South Lake Church - ECPv6.15.20//NONSGML v1.0//EN
CALSCALE:GREGORIAN
METHOD:PUBLISH
X-ORIGINAL-URL:https://southlakelc.org
X-WR-CALDESC:Events for South Lake Church
REFRESH-INTERVAL;VALUE=DURATION:PT1H
X-Robots-Tag:noindex
X-PUBLISHED-TTL:PT1H
BEGIN:VTIMEZONE
TZID:America/Chicago
BEGIN:DAYLIGHT
TZOFFSETFROM:-0600
TZOFFSETTO:-0500
TZNAME:CDT
DTSTART:20240310T080000
END:DAYLIGHT
BEGIN:STANDARD
TZOFFSETFROM:-0500
TZOFFSETTO:-0600
TZNAME:CST
DTSTART:20241103T070000
END:STANDARD
BEGIN:DAYLIGHT
TZOFFSETFROM:-0600
TZOFFSETTO:-0500
TZNAME:CDT
DTSTART:20250309T080000
END:DAYLIGHT
BEGIN:STANDARD
TZOFFSETFROM:-0500
TZOFFSETTO:-0600
TZNAME:CST
DTSTART:20251102T070000
END:STANDARD
BEGIN:DAYLIGHT
TZOFFSETFROM:-0600
TZOFFSETTO:-0500
TZNAME:CDT
DTSTART:20260308T080000
END:DAYLIGHT
BEGIN:STANDARD
TZOFFSETFROM:-0500
TZOFFSETTO:-0600
TZNAME:CST
DTSTART:20261101T070000
END:STANDARD
END:VTIMEZONE
BEGIN:VEVENT
DTSTART;TZID=America/Chicago:20251029T070000
DTEND;TZID=America/Chicago:20251029T080000
DTSTAMP:20260424T205534
CREATED:20250922T150943Z
LAST-MODIFIED:20250922T150943Z
UID:104659-1761721200-1761724800@southlakelc.org
SUMMARY:Wednesday Recap Breakfast
DESCRIPTION:Got questions or thoughts from this past Sunday or just hungry to start your morning? Join us at Kelley’s Country Cookin 7am each Wednesday to go over the reading from last Sunday\, discuss\, and be together as we begin the work day. Another great opportunity to share with friends and invite them to get to know Jesus. \n1502 FM518\, League City\, TX 77573 \n  \nEngage | Grow | Share
URL:https://southlakelc.org/calendar/wednesday-recap-breakfast-137
LOCATION:TX
CATEGORIES:Community,Food,Outreach
ATTACH;FMTTYPE=image/jpeg:https://southlakelc.org/wp-content/uploads/2024/10/Breakfast-Wednesday-Morning-web-scaled.jpg
END:VEVENT
BEGIN:VEVENT
DTSTART;TZID=America/Chicago:20251029T130000
DTEND;TZID=America/Chicago:20251029T143000
DTSTAMP:20260424T205534
CREATED:20250922T151458Z
LAST-MODIFIED:20251011T121356Z
UID:104670-1761742800-1761748200@southlakelc.org
SUMMARY:Small Group - Renschen's
DESCRIPTION:Meet us Wednesday’s at 1pm at the Renschen’s home.  In this series\, we will be looking at Christian History\, Made Easy! \nFor more information and to register\, click here. \n  \nEngage | Grow | Share
URL:https://southlakelc.org/calendar/small-group-renschens-100
LOCATION:TX
CATEGORIES:Community,Outreach
ATTACH;FMTTYPE=image/jpeg:https://southlakelc.org/wp-content/uploads/2023/03/small_groups-title-2-Wide-16x9-1.jpg
END:VEVENT
BEGIN:VEVENT
DTSTART;TZID=America/Chicago:20251029T183000
DTEND;TZID=America/Chicago:20251029T200000
DTSTAMP:20260424T205534
CREATED:20251011T125321Z
LAST-MODIFIED:20251011T131056Z
UID:106542-1761762600-1761768000@southlakelc.org
SUMMARY:Small Group- Engage\, Share\, Grow
DESCRIPTION:Join us Wednesday’s from 6:30 PM to 8:00 PM as we Engage\, Share and Grow. In this series\, we will study Missionary Pathways. We will meet at the Wilson’s home. \nTo find out more and to register for the event\, click here. \nEngage | Grow | Share
URL:https://southlakelc.org/calendar/small-group-engage-share-grow-3
LOCATION:TX
CATEGORIES:Community,Outreach
END:VEVENT
END:VCALENDAR