BEGIN:VCALENDAR
VERSION:2.0
PRODID:-//South Lake Church - ECPv6.15.20//NONSGML v1.0//EN
CALSCALE:GREGORIAN
METHOD:PUBLISH
X-WR-CALNAME:South Lake Church
X-ORIGINAL-URL:https://southlakelc.org
X-WR-CALDESC:Events for South Lake Church
REFRESH-INTERVAL;VALUE=DURATION:PT1H
X-Robots-Tag:noindex
X-PUBLISHED-TTL:PT1H
BEGIN:VTIMEZONE
TZID:America/Chicago
BEGIN:DAYLIGHT
TZOFFSETFROM:-0600
TZOFFSETTO:-0500
TZNAME:CDT
DTSTART:20240310T080000
END:DAYLIGHT
BEGIN:STANDARD
TZOFFSETFROM:-0500
TZOFFSETTO:-0600
TZNAME:CST
DTSTART:20241103T070000
END:STANDARD
BEGIN:DAYLIGHT
TZOFFSETFROM:-0600
TZOFFSETTO:-0500
TZNAME:CDT
DTSTART:20250309T080000
END:DAYLIGHT
BEGIN:STANDARD
TZOFFSETFROM:-0500
TZOFFSETTO:-0600
TZNAME:CST
DTSTART:20251102T070000
END:STANDARD
BEGIN:DAYLIGHT
TZOFFSETFROM:-0600
TZOFFSETTO:-0500
TZNAME:CDT
DTSTART:20260308T080000
END:DAYLIGHT
BEGIN:STANDARD
TZOFFSETFROM:-0500
TZOFFSETTO:-0600
TZNAME:CST
DTSTART:20261101T070000
END:STANDARD
END:VTIMEZONE
BEGIN:VEVENT
DTSTART;TZID=America/Chicago:20250622T103000
DTEND;TZID=America/Chicago:20250622T113000
DTSTAMP:20260425T072923
CREATED:20250527T160130Z
LAST-MODIFIED:20250527T160130Z
UID:93040-1750588200-1750591800@southlakelc.org
SUMMARY:Weekly Worship
DESCRIPTION:Weekly Worship Sundays 10:30am\nHometown Heroes Park\n1001 E League City Pkwy\, League City\, TX 77573\n\n\nLive Stream – SouthLakeLC.org
URL:https://southlakelc.org/calendar/weekly-worship-39
LOCATION:TX
CATEGORIES:Community,Music,Outreach
ATTACH;FMTTYPE=image/jpeg:https://southlakelc.org/wp-content/uploads/2020/11/worship-2-orh4uyww62p8wcxyfofslvas4h3zxl5gtyzjhk1g_26784dd1e7ecdceb97fd98a90e6b97d4-opt-1.jpg
END:VEVENT
BEGIN:VEVENT
DTSTART;TZID=America/Chicago:20250621T180000
DTEND;TZID=America/Chicago:20250621T203000
DTSTAMP:20260425T072923
CREATED:20250527T150156Z
LAST-MODIFIED:20250609T142145Z
UID:93001-1750528800-1750537800@southlakelc.org
SUMMARY:Pool Party
DESCRIPTION:Join us for fun\, food\, and fellowship at the Flores’ home for our annual Summer pool party. We’ll be serving birria tacos\, you’re welcome to bring sides or any other dish you’d like to share! \n**Note: new day and time! \n\nSaturday June 21st\n5pm\nLocation: Flores’ home\n\nLearn more\n\nEngage | Grow | Share
URL:https://southlakelc.org/calendar/pool-party-kickoff
LOCATION:TX
CATEGORIES:Community,Food,Music,Outreach
ATTACH;FMTTYPE=image/jpeg:https://southlakelc.org/wp-content/uploads/2025/05/Image.jpg
END:VEVENT
BEGIN:VEVENT
DTSTART;TZID=America/Chicago:20250621T080000
DTEND;TZID=America/Chicago:20250621T090000
DTSTAMP:20260425T072923
CREATED:20250527T155814Z
LAST-MODIFIED:20250612T125627Z
UID:93031-1750492800-1750496400@southlakelc.org
SUMMARY:Immerse
DESCRIPTION:Join us as we continue the 16-week series: Beginnings. Getting to know Jesus the best way possible. We’ll be reading together from the Old Testament about God’s plan from the very beginning and need of His love and forgiveness. Meet us 8am Saturdays. \nMore info: https://southlakelc.churchcenter.com/registrations/events/524440 \n\nContact Rob Bailey at rbailey@southlakelc.org\n\n  \nEngage | Grow | Share
URL:https://southlakelc.org/calendar/immerse-138
LOCATION:TX
CATEGORIES:Community,Food,Outreach
ATTACH;FMTTYPE=image/png:https://southlakelc.org/wp-content/uploads/2025/06/Immerse-Bible-Experience.png
END:VEVENT
BEGIN:VEVENT
DTSTART;TZID=America/Chicago:20250618T130000
DTEND;TZID=America/Chicago:20250618T140000
DTSTAMP:20260425T072923
CREATED:20250527T155540Z
LAST-MODIFIED:20250527T155540Z
UID:93022-1750251600-1750255200@southlakelc.org
SUMMARY:Small Group - Renschen's
DESCRIPTION:Meet us every Wednesday at 1pm at the Renschen’s home.  In this series on the book of John\, taught by scholar and professor Gary M. Burge\, you’ll learn about the text itself\, explore issues in John’s culture and in ours that help us understand the ultimate meaning of each passage\, and discover ways in which the eternal theology of John can be understood and lived out in our modern culture. \nFor more information and to register\, click here. \n  \nEngage | Grow | Share
URL:https://southlakelc.org/calendar/small-group-renschens-85
LOCATION:TX
CATEGORIES:Community,Outreach
ATTACH;FMTTYPE=image/jpeg:https://southlakelc.org/wp-content/uploads/2023/03/small_groups-title-2-Wide-16x9-1.jpg
END:VEVENT
BEGIN:VEVENT
DTSTART;TZID=America/Chicago:20250618T070000
DTEND;TZID=America/Chicago:20250618T080000
DTSTAMP:20260425T072923
CREATED:20250527T155231Z
LAST-MODIFIED:20250527T155231Z
UID:93013-1750230000-1750233600@southlakelc.org
SUMMARY:Wednesday Recap Breakfast
DESCRIPTION:Got questions or thoughts from this past Sunday or just hungry to start your morning? Join us at Kelley’s Country Cookin 7am each Wednesday to go over the reading from last Sunday\, discuss\, and be together as we begin the work day. Another great opportunity to share with friends and invite them to get to know Jesus. \n1502 FM518\, League City\, TX 77573 \n  \nEngage | Grow | Share
URL:https://southlakelc.org/calendar/wednesday-recap-breakfast-122
LOCATION:TX
CATEGORIES:Community,Food,Outreach
ATTACH;FMTTYPE=image/jpeg:https://southlakelc.org/wp-content/uploads/2024/10/Breakfast-Wednesday-Morning-web-scaled.jpg
END:VEVENT
BEGIN:VEVENT
DTSTART;TZID=America/Chicago:20250615T120000
DTEND;TZID=America/Chicago:20250615T150000
DTSTAMP:20260425T072923
CREATED:20250428T150912Z
LAST-MODIFIED:20250506T154500Z
UID:90129-1749988800-1749999600@southlakelc.org
SUMMARY:Summer Celebration
DESCRIPTION:Join us for an exciting day of fun and fellowship as we celebrate 6 amazing years together at South Lake Church! We’ll be gathering at Chicken N Pickle\, an indoor/outdoor pickleball entertainment venue and restaurant concept in Webster\, TX. \nEvent Details: \n\nDate: June 15\, 2025\nTime: 12-3p\nLocation: Chicken N Pickle. 210 Blue Heron Drive\, Webster\, TX 77598\n\nWe’ll enjoy some friendly pickleball matches and share a delicious meal together. Bring your family and friends—it’s going to be a memorable day! \nFeel free to reach out if you need any more assistance or have additional requests! \nLet us know you’re coming! click here
URL:https://southlakelc.org/calendar/summer-celebration
LOCATION:TX
CATEGORIES:Community,Food,Outreach
ATTACH;FMTTYPE=image/jpeg:https://southlakelc.org/wp-content/uploads/2025/04/Summer-Celebration.jpg
END:VEVENT
BEGIN:VEVENT
DTSTART;TZID=America/Chicago:20250615T103000
DTEND;TZID=America/Chicago:20250615T113000
DTSTAMP:20260425T072923
CREATED:20250527T160146Z
LAST-MODIFIED:20250527T160146Z
UID:93039-1749983400-1749987000@southlakelc.org
SUMMARY:Weekly Worship
DESCRIPTION:Weekly Worship Sundays 10:30am\nHometown Heroes Park\n1001 E League City Pkwy\, League City\, TX 77573\n\n\nLive Stream – SouthLakeLC.org
URL:https://southlakelc.org/calendar/weekly-worship-40
LOCATION:TX
CATEGORIES:Community,Music,Outreach
ATTACH;FMTTYPE=image/jpeg:https://southlakelc.org/wp-content/uploads/2020/11/worship-2-orh4uyww62p8wcxyfofslvas4h3zxl5gtyzjhk1g_26784dd1e7ecdceb97fd98a90e6b97d4-opt-1.jpg
END:VEVENT
BEGIN:VEVENT
DTSTART;TZID=America/Chicago:20250614T080000
DTEND;TZID=America/Chicago:20250614T090000
DTSTAMP:20260425T072923
CREATED:20250527T155828Z
LAST-MODIFIED:20250527T155828Z
UID:93030-1749888000-1749891600@southlakelc.org
SUMMARY:Immerse
DESCRIPTION:Join us as we continue the 16-week series: Beginnings. Getting to know Jesus the best way possible. We’ll be reading together from the Old Testament about God’s plan from the very beginning and need of His love and forgiveness. Meet us 8am Saturdays. \nMore info: https://southlakelc.churchcenter.com/registrations/events/524440 \n\nContact Rob Bailey at rbailey@southlakelc.org\n\n  \nEngage | Grow | Share
URL:https://southlakelc.org/calendar/immerse-139
LOCATION:TX
CATEGORIES:Community,Food,Outreach
ATTACH;FMTTYPE=image/jpeg:https://southlakelc.org/wp-content/uploads/2025/05/Immerse-Beginnings.jpg
END:VEVENT
BEGIN:VEVENT
DTSTART;TZID=America/Chicago:20250611T130000
DTEND;TZID=America/Chicago:20250611T140000
DTSTAMP:20260425T072923
CREATED:20250527T155555Z
LAST-MODIFIED:20250527T155555Z
UID:93021-1749646800-1749650400@southlakelc.org
SUMMARY:Small Group - Renschen's
DESCRIPTION:Meet us every Wednesday at 1pm at the Renschen’s home.  In this series on the book of John\, taught by scholar and professor Gary M. Burge\, you’ll learn about the text itself\, explore issues in John’s culture and in ours that help us understand the ultimate meaning of each passage\, and discover ways in which the eternal theology of John can be understood and lived out in our modern culture. \nFor more information and to register\, click here. \n  \nEngage | Grow | Share
URL:https://southlakelc.org/calendar/small-group-renschens-86
LOCATION:TX
CATEGORIES:Community,Outreach
ATTACH;FMTTYPE=image/jpeg:https://southlakelc.org/wp-content/uploads/2023/03/small_groups-title-2-Wide-16x9-1.jpg
END:VEVENT
BEGIN:VEVENT
DTSTART;TZID=America/Chicago:20250611T070000
DTEND;TZID=America/Chicago:20250611T080000
DTSTAMP:20260425T072923
CREATED:20250527T155243Z
LAST-MODIFIED:20250527T155243Z
UID:93012-1749625200-1749628800@southlakelc.org
SUMMARY:Wednesday Recap Breakfast
DESCRIPTION:Got questions or thoughts from this past Sunday or just hungry to start your morning? Join us at Kelley’s Country Cookin 7am each Wednesday to go over the reading from last Sunday\, discuss\, and be together as we begin the work day. Another great opportunity to share with friends and invite them to get to know Jesus. \n1502 FM518\, League City\, TX 77573 \n  \nEngage | Grow | Share
URL:https://southlakelc.org/calendar/wednesday-recap-breakfast-123
LOCATION:TX
CATEGORIES:Community,Food,Outreach
ATTACH;FMTTYPE=image/jpeg:https://southlakelc.org/wp-content/uploads/2024/10/Breakfast-Wednesday-Morning-web-scaled.jpg
END:VEVENT
BEGIN:VEVENT
DTSTART;TZID=America/Chicago:20250608T103000
DTEND;TZID=America/Chicago:20250608T113000
DTSTAMP:20260425T072923
CREATED:20250327T163458Z
LAST-MODIFIED:20250506T160255Z
UID:87015-1749378600-1749382200@southlakelc.org
SUMMARY:Weekly Worship
DESCRIPTION:Weekly Worship Sundays 10:30am\nHometown Heroes Park\n1001 E League City Pkwy\, League City\, TX 77573\n\n\nLive Stream – SouthLakeLC.org
URL:https://southlakelc.org/calendar/weekly-worship-32
LOCATION:TX
CATEGORIES:Community,Music,Outreach
ATTACH;FMTTYPE=image/jpeg:https://southlakelc.org/wp-content/uploads/2020/11/worship-2-orh4uyww62p8wcxyfofslvas4h3zxl5gtyzjhk1g_26784dd1e7ecdceb97fd98a90e6b97d4-opt-1.jpg
END:VEVENT
BEGIN:VEVENT
DTSTART;TZID=America/Chicago:20250607T080000
DTEND;TZID=America/Chicago:20250607T090000
DTSTAMP:20260425T072923
CREATED:20250527T155840Z
LAST-MODIFIED:20250527T155840Z
UID:93029-1749283200-1749286800@southlakelc.org
SUMMARY:Immerse
DESCRIPTION:Join us as we continue the 16-week series: Beginnings. Getting to know Jesus the best way possible. We’ll be reading together from the Old Testament about God’s plan from the very beginning and need of His love and forgiveness. Meet us 8am Saturdays. \nMore info: https://southlakelc.churchcenter.com/registrations/events/524440 \n\nContact Rob Bailey at rbailey@southlakelc.org\n\n  \nEngage | Grow | Share
URL:https://southlakelc.org/calendar/immerse-140
LOCATION:TX
CATEGORIES:Community,Food,Outreach
ATTACH;FMTTYPE=image/jpeg:https://southlakelc.org/wp-content/uploads/2025/05/Immerse-Beginnings.jpg
END:VEVENT
BEGIN:VEVENT
DTSTART;TZID=America/Chicago:20250604T130000
DTEND;TZID=America/Chicago:20250604T140000
DTSTAMP:20260425T072923
CREATED:20250522T141636Z
LAST-MODIFIED:20250522T141636Z
UID:92508-1749042000-1749045600@southlakelc.org
SUMMARY:Small Group - Renschen's
DESCRIPTION:Meet us every Wednesday at 1pm at the Renschen’s home.  In this series on the book of John\, taught by scholar and professor Gary M. Burge\, you’ll learn about the text itself\, explore issues in John’s culture and in ours that help us understand the ultimate meaning of each passage\, and discover ways in which the eternal theology of John can be understood and lived out in our modern culture. \nFor more information and to register\, click here. \n  \nEngage | Grow | Share
URL:https://southlakelc.org/calendar/small-group-renschens-78
LOCATION:TX
CATEGORIES:Community,Outreach
ATTACH;FMTTYPE=image/jpeg:https://southlakelc.org/wp-content/uploads/2023/03/small_groups-title-2-Wide-16x9-1.jpg
END:VEVENT
BEGIN:VEVENT
DTSTART;TZID=America/Chicago:20250604T070000
DTEND;TZID=America/Chicago:20250604T080000
DTSTAMP:20260425T072923
CREATED:20250527T155257Z
LAST-MODIFIED:20250527T155257Z
UID:93011-1749020400-1749024000@southlakelc.org
SUMMARY:Wednesday Recap Breakfast
DESCRIPTION:Got questions or thoughts from this past Sunday or just hungry to start your morning? Join us at Kelley’s Country Cookin 7am each Wednesday to go over the reading from last Sunday\, discuss\, and be together as we begin the work day. Another great opportunity to share with friends and invite them to get to know Jesus. \n1502 FM518\, League City\, TX 77573 \n  \nEngage | Grow | Share
URL:https://southlakelc.org/calendar/wednesday-recap-breakfast-124
LOCATION:TX
CATEGORIES:Community,Food,Outreach
ATTACH;FMTTYPE=image/jpeg:https://southlakelc.org/wp-content/uploads/2024/10/Breakfast-Wednesday-Morning-web-scaled.jpg
END:VEVENT
BEGIN:VEVENT
DTSTART;TZID=America/Chicago:20250603T190000
DTEND;TZID=America/Chicago:20250603T200000
DTSTAMP:20260425T072923
CREATED:20250527T154957Z
LAST-MODIFIED:20250527T154957Z
UID:93009-1748977200-1748980800@southlakelc.org
SUMMARY:Pints and Questions (Ps and Qs)
DESCRIPTION:Join us for Ps & Qs every 1st Tuesday at 7pm! This is a great opportunity to ask Pastor Rob questions!\nCheck out more info about the South Lake Church @ SouthLakeLC.org\n\nMeet us at Craft 96\, 2575 E League City Pkwy\, League City\, TX 77573\n\n  \nEngage | Grow | Share
URL:https://southlakelc.org/calendar/pints-and-questions-ps-and-qs-41
LOCATION:TX
CATEGORIES:Community,Food,Outreach
ATTACH;FMTTYPE=image/jpeg:https://southlakelc.org/wp-content/uploads/2024/06/psqs-web-scaled.jpg
END:VEVENT
BEGIN:VEVENT
DTSTART;TZID=America/Chicago:20250601T103000
DTEND;TZID=America/Chicago:20250601T113000
DTSTAMP:20260425T072923
CREATED:20250506T160124Z
LAST-MODIFIED:20250506T160140Z
UID:90912-1748773800-1748777400@southlakelc.org
SUMMARY:Weekly Worship
DESCRIPTION:Weekly Worship Sundays 10:30am\nHometown Heroes Park\n1001 E League City Pkwy\, League City\, TX 77573\n\n\nLive Stream – SouthLakeLC.org
URL:https://southlakelc.org/calendar/weekly-worship-36
LOCATION:TX
CATEGORIES:Community,Music,Outreach
ATTACH;FMTTYPE=image/jpeg:https://southlakelc.org/wp-content/uploads/2020/11/worship-2-orh4uyww62p8wcxyfofslvas4h3zxl5gtyzjhk1g_26784dd1e7ecdceb97fd98a90e6b97d4-opt-1.jpg
END:VEVENT
BEGIN:VEVENT
DTSTART;TZID=America/Chicago:20250531T080000
DTEND;TZID=America/Chicago:20250531T090000
DTSTAMP:20260425T072923
CREATED:20250506T161913Z
LAST-MODIFIED:20250506T161913Z
UID:90958-1748678400-1748682000@southlakelc.org
SUMMARY:Immerse
DESCRIPTION:Join us as we continue the 16-week series: Beginnings. Getting to know Jesus the best way possible. We’ll be reading together from the Old Testament about God’s plan from the very beginning and need of His love and forgiveness. Meet us 8am Saturdays. \nMore info: https://southlakelc.churchcenter.com/registrations/events/524440 \n\nContact Rob Bailey at rbailey@southlakelc.org\n\n  \nEngage | Grow | Share
URL:https://southlakelc.org/calendar/immerse-131
LOCATION:TX
CATEGORIES:Community,Food,Outreach
ATTACH;FMTTYPE=image/jpeg:https://southlakelc.org/wp-content/uploads/2025/05/Immerse-Beginnings.jpg
END:VEVENT
BEGIN:VEVENT
DTSTART;TZID=America/Chicago:20250528T130000
DTEND;TZID=America/Chicago:20250528T140000
DTSTAMP:20260425T072923
CREATED:20250506T161446Z
LAST-MODIFIED:20250506T161446Z
UID:90945-1748437200-1748440800@southlakelc.org
SUMMARY:Small Group - Renschen's
DESCRIPTION:Join us every Thursday to discuss for an 8-week series to discuss ” Epic of Eden: Deborah – Unlikely Heroes and the Book of Judges” by Sandra L. Richter. From May 7th we will be meeting on Wednesdays as we begin our new discussion: John Session 1 – by Gary M. Burge – a 24-session study \nFor more information and to register\, click here. \n  \nEngage | Grow | Share
URL:https://southlakelc.org/calendar/small-group-renschens-73
LOCATION:TX
CATEGORIES:Community,Outreach
ATTACH;FMTTYPE=image/jpeg:https://southlakelc.org/wp-content/uploads/2023/03/small_groups-title-2-Wide-16x9-1.jpg
END:VEVENT
BEGIN:VEVENT
DTSTART;TZID=America/Chicago:20250528T070000
DTEND;TZID=America/Chicago:20250528T080000
DTSTAMP:20260425T072923
CREATED:20250506T161153Z
LAST-MODIFIED:20250506T161153Z
UID:90936-1748415600-1748419200@southlakelc.org
SUMMARY:Wednesday Recap Breakfast
DESCRIPTION:Got questions or thoughts from this past Sunday or just hungry to start your morning? Join us at Kelley’s Country Cookin 7am each Wednesday to go over the reading from last Sunday\, discuss\, and be together as we begin the work day. Another great opportunity to share with friends and invite them to get to know Jesus. \n1502 FM518\, League City\, TX 77573 \n  \nEngage | Grow | Share
URL:https://southlakelc.org/calendar/wednesday-recap-breakfast-116
LOCATION:TX
CATEGORIES:Community,Food,Outreach
ATTACH;FMTTYPE=image/jpeg:https://southlakelc.org/wp-content/uploads/2024/10/Breakfast-Wednesday-Morning-web-scaled.jpg
END:VEVENT
BEGIN:VEVENT
DTSTART;TZID=America/Chicago:20250527T143000
DTEND;TZID=America/Chicago:20250527T160000
DTSTAMP:20260425T072923
CREATED:20250506T160935Z
LAST-MODIFIED:20250506T160935Z
UID:90930-1748356200-1748361600@southlakelc.org
SUMMARY:Small Group - Arbet's
DESCRIPTION:Meet us on the 2nd and 4th Tuesdays at 2:30pm at the Arbet home. \nThis Small Group is for the Tuscan Lakes area. \nFor more information and to register\, click here. \n  \nEngage | Grow | Share
URL:https://southlakelc.org/calendar/small-group-arbets-49
LOCATION:TX
CATEGORIES:Community,Outreach
ATTACH;FMTTYPE=image/jpeg:https://southlakelc.org/wp-content/uploads/2023/03/small_groups-title-2-Wide-16x9-1.jpg
END:VEVENT
BEGIN:VEVENT
DTSTART;TZID=America/Chicago:20250527T140000
DTEND;TZID=America/Chicago:20250527T143000
DTSTAMP:20260425T072923
CREATED:20250506T160615Z
LAST-MODIFIED:20250506T160615Z
UID:90922-1748354400-1748356200@southlakelc.org
SUMMARY:Prayer at 2
DESCRIPTION:Join Pastor Rob every Tuesday at 2 for prayer time at Panera \nLocation: Panera. 2630 Gulf Fwy Suite A\, League City\, TX 77573 \n  \nEngage | Grow | Share
URL:https://southlakelc.org/calendar/prayer-at-2
LOCATION:TX
CATEGORIES:Community,Outreach
END:VEVENT
BEGIN:VEVENT
DTSTART;TZID=America/Chicago:20250525T103000
DTEND;TZID=America/Chicago:20250525T113000
DTSTAMP:20260425T072923
CREATED:20250506T160051Z
LAST-MODIFIED:20250506T160051Z
UID:90914-1748169000-1748172600@southlakelc.org
SUMMARY:Weekly Worship
DESCRIPTION:Weekly Worship Sundays 10:30am\nHometown Heroes Park\n1001 E League City Pkwy\, League City\, TX 77573\n\n\nLive Stream – SouthLakeLC.org
URL:https://southlakelc.org/calendar/weekly-worship-34
LOCATION:TX
CATEGORIES:Community,Music,Outreach
ATTACH;FMTTYPE=image/jpeg:https://southlakelc.org/wp-content/uploads/2020/11/worship-2-orh4uyww62p8wcxyfofslvas4h3zxl5gtyzjhk1g_26784dd1e7ecdceb97fd98a90e6b97d4-opt-1.jpg
END:VEVENT
BEGIN:VEVENT
DTSTART;TZID=America/Chicago:20250524T080000
DTEND;TZID=America/Chicago:20250524T090000
DTSTAMP:20260425T072923
CREATED:20250506T161943Z
LAST-MODIFIED:20250506T161943Z
UID:90957-1748073600-1748077200@southlakelc.org
SUMMARY:Immerse
DESCRIPTION:Join us as we continue the 16-week series: Beginnings. Getting to know Jesus the best way possible. We’ll be reading together from the Old Testament about God’s plan from the very beginning and need of His love and forgiveness. Meet us 8am Saturdays. \nMore info: https://southlakelc.churchcenter.com/registrations/events/524440 \n\nContact Rob Bailey at rbailey@southlakelc.org\n\n  \nEngage | Grow | Share
URL:https://southlakelc.org/calendar/immerse-132
LOCATION:TX
CATEGORIES:Community,Food,Outreach
ATTACH;FMTTYPE=image/jpeg:https://southlakelc.org/wp-content/uploads/2025/05/Immerse-Beginnings.jpg
END:VEVENT
BEGIN:VEVENT
DTSTART;TZID=America/Chicago:20250522T130000
DTEND;TZID=America/Chicago:20250522T140000
DTSTAMP:20260425T072923
CREATED:20250522T142137Z
LAST-MODIFIED:20250522T142137Z
UID:92514-1747918800-1747922400@southlakelc.org
SUMMARY:Small Group - Renschen's
DESCRIPTION:Meet us every Wednesday at 1pm at the Renschen’s home.  In this series on the book of John\, taught by scholar and professor Gary M. Burge\, you’ll learn about the text itself\, explore issues in John’s culture and in ours that help us understand the ultimate meaning of each passage\, and discover ways in which the eternal theology of John can be understood and lived out in our modern culture. \nFor more information and to register\, click here. \n  \nEngage | Grow | Share
URL:https://southlakelc.org/calendar/small-group-renschens-82
LOCATION:TX
CATEGORIES:Community,Outreach
ATTACH;FMTTYPE=image/jpeg:https://southlakelc.org/wp-content/uploads/2023/03/small_groups-title-2-Wide-16x9-1.jpg
END:VEVENT
BEGIN:VEVENT
DTSTART;TZID=America/Chicago:20250522T130000
DTEND;TZID=America/Chicago:20250522T140000
DTSTAMP:20260425T072923
CREATED:20250522T142104Z
LAST-MODIFIED:20250522T142104Z
UID:92513-1747918800-1747922400@southlakelc.org
SUMMARY:Small Group - Renschen's
DESCRIPTION:Meet us every Wednesday at 1pm at the Renschen’s home.  In this series on the book of John\, taught by scholar and professor Gary M. Burge\, you’ll learn about the text itself\, explore issues in John’s culture and in ours that help us understand the ultimate meaning of each passage\, and discover ways in which the eternal theology of John can be understood and lived out in our modern culture. \nFor more information and to register\, click here. \n  \nEngage | Grow | Share
URL:https://southlakelc.org/calendar/small-group-renschens-81
LOCATION:TX
CATEGORIES:Community,Outreach
ATTACH;FMTTYPE=image/jpeg:https://southlakelc.org/wp-content/uploads/2023/03/small_groups-title-2-Wide-16x9-1.jpg
END:VEVENT
BEGIN:VEVENT
DTSTART;TZID=America/Chicago:20250522T130000
DTEND;TZID=America/Chicago:20250522T140000
DTSTAMP:20260425T072923
CREATED:20250522T141953Z
LAST-MODIFIED:20250522T141953Z
UID:92512-1747918800-1747922400@southlakelc.org
SUMMARY:Small Group - Renschen's
DESCRIPTION:Meet us every Wednesday at 1pm at the Renschen’s home.  In this series on the book of John\, taught by scholar and professor Gary M. Burge\, you’ll learn about the text itself\, explore issues in John’s culture and in ours that help us understand the ultimate meaning of each passage\, and discover ways in which the eternal theology of John can be understood and lived out in our modern culture. \nFor more information and to register\, click here. \n  \nEngage | Grow | Share
URL:https://southlakelc.org/calendar/small-group-renschens-80
LOCATION:TX
CATEGORIES:Community,Outreach
ATTACH;FMTTYPE=image/jpeg:https://southlakelc.org/wp-content/uploads/2023/03/small_groups-title-2-Wide-16x9-1.jpg
END:VEVENT
BEGIN:VEVENT
DTSTART;TZID=America/Chicago:20250522T130000
DTEND;TZID=America/Chicago:20250522T140000
DTSTAMP:20260425T072923
CREATED:20250522T141928Z
LAST-MODIFIED:20250522T141928Z
UID:92511-1747918800-1747922400@southlakelc.org
SUMMARY:Small Group - Renschen's
DESCRIPTION:Meet us every Wednesday at 1pm at the Renschen’s home.  In this series on the book of John\, taught by scholar and professor Gary M. Burge\, you’ll learn about the text itself\, explore issues in John’s culture and in ours that help us understand the ultimate meaning of each passage\, and discover ways in which the eternal theology of John can be understood and lived out in our modern culture. \nFor more information and to register\, click here. \n  \nEngage | Grow | Share
URL:https://southlakelc.org/calendar/small-group-renschens-79
LOCATION:TX
CATEGORIES:Community,Outreach
ATTACH;FMTTYPE=image/jpeg:https://southlakelc.org/wp-content/uploads/2023/03/small_groups-title-2-Wide-16x9-1.jpg
END:VEVENT
BEGIN:VEVENT
DTSTART;TZID=America/Chicago:20250522T123000
DTEND;TZID=America/Chicago:20250522T133000
DTSTAMP:20260425T072923
CREATED:20250506T161705Z
LAST-MODIFIED:20250506T161705Z
UID:90952-1747917000-1747920600@southlakelc.org
SUMMARY:South Lake Luncheon
DESCRIPTION:Join us every 2nd and 4th Thursdays of the month. Bring your appetite and a friend as we gather. As we meet for lunch\, we’ll get to know one another and enjoy great food. \nThis week’s meeting will start at 12:30pm and we will be meeting at La Brisa League City 501 N Wesley Dr\, League City\, TX 77573 \nMore Info \n  \nEngage | Grow | Share
URL:https://southlakelc.org/calendar/south-lake-luncheon-63
LOCATION:TX
CATEGORIES:Community,Food,Outreach
ATTACH;FMTTYPE=image/png:https://southlakelc.org/wp-content/uploads/2024/03/Luncheon-1.png
END:VEVENT
BEGIN:VEVENT
DTSTART;TZID=America/Chicago:20250521T130000
DTEND;TZID=America/Chicago:20250521T140000
DTSTAMP:20260425T072923
CREATED:20250506T161500Z
LAST-MODIFIED:20250506T161500Z
UID:90944-1747832400-1747836000@southlakelc.org
SUMMARY:Small Group - Renschen's
DESCRIPTION:Join us every Thursday to discuss for an 8-week series to discuss ” Epic of Eden: Deborah – Unlikely Heroes and the Book of Judges” by Sandra L. Richter. From May 7th we will be meeting on Wednesdays as we begin our new discussion: John Session 1 – by Gary M. Burge – a 24-session study \nFor more information and to register\, click here. \n  \nEngage | Grow | Share
URL:https://southlakelc.org/calendar/small-group-renschens-74
LOCATION:TX
CATEGORIES:Community,Outreach
ATTACH;FMTTYPE=image/jpeg:https://southlakelc.org/wp-content/uploads/2023/03/small_groups-title-2-Wide-16x9-1.jpg
END:VEVENT
BEGIN:VEVENT
DTSTART;TZID=America/Chicago:20250521T070000
DTEND;TZID=America/Chicago:20250521T080000
DTSTAMP:20260425T072923
CREATED:20250506T161210Z
LAST-MODIFIED:20250506T161210Z
UID:90935-1747810800-1747814400@southlakelc.org
SUMMARY:Wednesday Recap Breakfast
DESCRIPTION:Got questions or thoughts from this past Sunday or just hungry to start your morning? Join us at Kelley’s Country Cookin 7am each Wednesday to go over the reading from last Sunday\, discuss\, and be together as we begin the work day. Another great opportunity to share with friends and invite them to get to know Jesus. \n1502 FM518\, League City\, TX 77573 \n  \nEngage | Grow | Share
URL:https://southlakelc.org/calendar/wednesday-recap-breakfast-117
LOCATION:TX
CATEGORIES:Community,Food,Outreach
ATTACH;FMTTYPE=image/jpeg:https://southlakelc.org/wp-content/uploads/2024/10/Breakfast-Wednesday-Morning-web-scaled.jpg
END:VEVENT
END:VCALENDAR