BEGIN:VCALENDAR
VERSION:2.0
PRODID:-//South Lake Church - ECPv6.15.20//NONSGML v1.0//EN
CALSCALE:GREGORIAN
METHOD:PUBLISH
X-WR-CALNAME:South Lake Church
X-ORIGINAL-URL:https://southlakelc.org
X-WR-CALDESC:Events for South Lake Church
REFRESH-INTERVAL;VALUE=DURATION:PT1H
X-Robots-Tag:noindex
X-PUBLISHED-TTL:PT1H
BEGIN:VTIMEZONE
TZID:America/Chicago
BEGIN:DAYLIGHT
TZOFFSETFROM:-0600
TZOFFSETTO:-0500
TZNAME:CDT
DTSTART:20230312T080000
END:DAYLIGHT
BEGIN:STANDARD
TZOFFSETFROM:-0500
TZOFFSETTO:-0600
TZNAME:CST
DTSTART:20231105T070000
END:STANDARD
BEGIN:DAYLIGHT
TZOFFSETFROM:-0600
TZOFFSETTO:-0500
TZNAME:CDT
DTSTART:20240310T080000
END:DAYLIGHT
BEGIN:STANDARD
TZOFFSETFROM:-0500
TZOFFSETTO:-0600
TZNAME:CST
DTSTART:20241103T070000
END:STANDARD
BEGIN:DAYLIGHT
TZOFFSETFROM:-0600
TZOFFSETTO:-0500
TZNAME:CDT
DTSTART:20250309T080000
END:DAYLIGHT
BEGIN:STANDARD
TZOFFSETFROM:-0500
TZOFFSETTO:-0600
TZNAME:CST
DTSTART:20251102T070000
END:STANDARD
END:VTIMEZONE
BEGIN:VEVENT
DTSTART;TZID=America/Chicago:20241112T143000
DTEND;TZID=America/Chicago:20241112T153000
DTSTAMP:20260425T182741
CREATED:20241025T155521Z
LAST-MODIFIED:20241025T155521Z
UID:71937-1731421800-1731425400@southlakelc.org
SUMMARY:Small Group - Arbet's
DESCRIPTION:Meet us on the 2nd and 4th Tuesdays at 2:30pm at the Arbet home. We will be discussing the Serendipity Bible study called “Coping with Tough Times”. \nThis Small Group is for the Tuscan Lakes area. \nFor more information and to register\, click here. \n  \nEngage | Grow | Share
URL:https://southlakelc.org/calendar/small-group-arbets-39
LOCATION:TX
CATEGORIES:Community,Outreach
ATTACH;FMTTYPE=image/jpeg:https://southlakelc.org/wp-content/uploads/2023/03/small_groups-title-2-Wide-16x9-1.jpg
END:VEVENT
BEGIN:VEVENT
DTSTART;TZID=America/Chicago:20241113T070000
DTEND;TZID=America/Chicago:20241113T080000
DTSTAMP:20260425T182741
CREATED:20241025T155846Z
LAST-MODIFIED:20241025T155846Z
UID:71940-1731481200-1731484800@southlakelc.org
SUMMARY:Wednesday Recap Breakfast
DESCRIPTION:Got questions or thoughts from this past Sunday or just hungry to start your morning? Join us at Kelley’s Country Cookin 7am each Wednesday to go over the reading from last Sunday\, discuss\, and be together as we begin the work day. Another great opportunity to share with friends and invite them to get to know Jesus. \n1502 FM518\, League City\, TX 77573 \n  \nEngage | Grow | Share
URL:https://southlakelc.org/calendar/wednesday-recap-breakfast-96
LOCATION:TX
CATEGORIES:Community,Food,Outreach
ATTACH;FMTTYPE=image/jpeg:https://southlakelc.org/wp-content/uploads/2024/06/Wednesday-Morning-web-scaled.jpg
END:VEVENT
BEGIN:VEVENT
DTSTART;TZID=America/Chicago:20241114T123000
DTEND;TZID=America/Chicago:20241114T133000
DTSTAMP:20260425T182741
CREATED:20241025T160113Z
LAST-MODIFIED:20241025T160113Z
UID:71948-1731587400-1731591000@southlakelc.org
SUMMARY:South Lake Luncheon
DESCRIPTION:Join us every 2nd and 4th Thursdays of the month. Bring your appetite and a friend as we gather. As we meet for lunch\, we’ll get to know one another and enjoy great food. \nThis week’s meeting will start at 12:30pm and we will be meeting at La Brisa League City 501 N Wesley Dr\, League City\, TX 77573 \nMore Info \n  \nEngage | Grow | Share
URL:https://southlakelc.org/calendar/south-lake-luncheon-57
LOCATION:TX
CATEGORIES:Community,Food,Outreach
ATTACH;FMTTYPE=image/png:https://southlakelc.org/wp-content/uploads/2024/03/Luncheon-1.png
END:VEVENT
BEGIN:VEVENT
DTSTART;TZID=America/Chicago:20241114T130000
DTEND;TZID=America/Chicago:20241114T140000
DTSTAMP:20260425T182741
CREATED:20241025T160340Z
LAST-MODIFIED:20241025T160340Z
UID:71953-1731589200-1731592800@southlakelc.org
SUMMARY:Small Group - Renschen's
DESCRIPTION:Meet us every Thursdays at 1pm at the Renschen’s home to discuss “NT in Antiquity – Studying the New Testament”  with a 27 week video Bible study presented by Gary M. Burge & Gene L. Green. \nSynopsis: The New Testament in Antiquity. The New Testament in Antiquity skillfully develops how Jewish\, Hellenistic\, and Roman cultures formed the essential environment in which the New Testament authors wrote their books and letters. Throughout the video lectures\, presenters Gary Burge and Gene Green provide windows into the first-century world and discuss issues of interpretation derived from cultural observations. You will learn how understanding the land\, history\, and culture of this world brings remarkable new insights into how we read the New Testament itself.\nFor more information and to register\, click here. \n  \nEngage | Grow | Share
URL:https://southlakelc.org/calendar/small-group-renschens-56
LOCATION:TX
CATEGORIES:Community,Outreach
ATTACH;FMTTYPE=image/jpeg:https://southlakelc.org/wp-content/uploads/2023/03/small_groups-title-2-Wide-16x9-1.jpg
END:VEVENT
BEGIN:VEVENT
DTSTART;TZID=America/Chicago:20241115T183000
DTEND;TZID=America/Chicago:20241115T203000
DTSTAMP:20260425T182741
CREATED:20241025T160642Z
LAST-MODIFIED:20241025T160642Z
UID:71960-1731695400-1731702600@southlakelc.org
SUMMARY:Renewal - Women's Gathering
DESCRIPTION:Renewal is South Lake’s Women’s Gathering. A chance for women from all over our League City community to gather together\, be renewed from all that life throws at us and be reminded we walk together on our faith journey. We are also going to be discussing the book Don’t forget to grab a copy of “Here For It (the Good\, the Bad\, and the Queso): The How-To Guide for Deepening Your Friendships and Doing Life Together” by Amy Weatherly and Jess Johnston \nLocation: Amber‘s home \nFor more information and to register: click here \n\nAmazon link to the book: click here \n  \nEngage | Grow | Share
URL:https://southlakelc.org/calendar/renewal-womens-gathering-25
LOCATION:TX
CATEGORIES:Community,Food,Outreach
ATTACH;FMTTYPE=image/jpeg:https://southlakelc.org/wp-content/uploads/2022/01/womens-gathering.jpeg
END:VEVENT
BEGIN:VEVENT
DTSTART;TZID=America/Chicago:20241116T080000
DTEND;TZID=America/Chicago:20241116T090000
DTSTAMP:20260425T182741
CREATED:20241025T154746Z
LAST-MODIFIED:20241025T154746Z
UID:71924-1731744000-1731747600@southlakelc.org
SUMMARY:Immerse
DESCRIPTION:This is a 8 Week Reading Plan: https://immersebible.com/messiah \nGetting to know Jesus the best way possible. We’ll be reading together through the New Testament reading about God’s plan from getting to know who Jesus and the Church are as well as what does it mean to live a life as a Christian. Meet us 8am Saturdays at Noah’s Ark Café in Bacliff\, 4438 Boulevard St\, Bacliff\, TX 77518 \n\nContact Rob Bailey at rbailey@southlakelc.org\n\n  \nEngage | Grow | Share
URL:https://southlakelc.org/calendar/immerse-108
LOCATION:TX
CATEGORIES:Community,Food,Outreach
ATTACH;FMTTYPE=image/jpeg:https://southlakelc.org/wp-content/uploads/2024/06/Immerse-Update-Recoveredweb-scaled.jpg
END:VEVENT
BEGIN:VEVENT
DTSTART;TZID=America/Chicago:20241117T103000
DTEND;TZID=America/Chicago:20241117T113000
DTSTAMP:20260425T182741
CREATED:20241025T161251Z
LAST-MODIFIED:20241025T161423Z
UID:71965-1731839400-1731843000@southlakelc.org
SUMMARY:Weekly Worship
DESCRIPTION:Weekly Worship Sundays 10:30am\nHometown Heroes Park\n1001 E League City Pkwy\, League City\, TX 77573\n\n\nLive Stream – SouthLakeLC.org
URL:https://southlakelc.org/calendar/weekly-worship-9
LOCATION:TX
CATEGORIES:Community,Music,Outreach
ATTACH;FMTTYPE=image/jpeg:https://southlakelc.org/wp-content/uploads/2020/11/worship-2-orh4uyww62p8wcxyfofslvas4h3zxl5gtyzjhk1g_26784dd1e7ecdceb97fd98a90e6b97d4-opt-1.jpg
END:VEVENT
BEGIN:VEVENT
DTSTART;TZID=America/Chicago:20241118T180000
DTEND;TZID=America/Chicago:20241118T190000
DTSTAMP:20260425T182741
CREATED:20241025T155139Z
LAST-MODIFIED:20241025T155139Z
UID:71932-1731952800-1731956400@southlakelc.org
SUMMARY:Small Group - Kirkley's
DESCRIPTION:Meet us the 1st and 3rd Mondays at 6pm at the Kirkley’s home to discuss The Gospel of Matthew \n  \nFor more information and to register\, click here. \n  \nEngage | Grow | Share
URL:https://southlakelc.org/calendar/small-group-kirkleys-37
LOCATION:TX
CATEGORIES:Community,Outreach
ATTACH;FMTTYPE=image/jpeg:https://southlakelc.org/wp-content/uploads/2023/03/small_groups-title-2-Wide-16x9-1.jpg
END:VEVENT
BEGIN:VEVENT
DTSTART;TZID=America/Chicago:20241120T070000
DTEND;TZID=America/Chicago:20241120T080000
DTSTAMP:20260425T182741
CREATED:20241025T155901Z
LAST-MODIFIED:20241025T155901Z
UID:71941-1732086000-1732089600@southlakelc.org
SUMMARY:Wednesday Recap Breakfast
DESCRIPTION:Got questions or thoughts from this past Sunday or just hungry to start your morning? Join us at Kelley’s Country Cookin 7am each Wednesday to go over the reading from last Sunday\, discuss\, and be together as we begin the work day. Another great opportunity to share with friends and invite them to get to know Jesus. \n1502 FM518\, League City\, TX 77573 \n  \nEngage | Grow | Share
URL:https://southlakelc.org/calendar/wednesday-recap-breakfast-97
LOCATION:TX
CATEGORIES:Community,Food,Outreach
ATTACH;FMTTYPE=image/jpeg:https://southlakelc.org/wp-content/uploads/2024/06/Wednesday-Morning-web-scaled.jpg
END:VEVENT
BEGIN:VEVENT
DTSTART;TZID=America/Chicago:20241121T130000
DTEND;TZID=America/Chicago:20241121T140000
DTSTAMP:20260425T182741
CREATED:20241025T160318Z
LAST-MODIFIED:20241025T160318Z
UID:71954-1732194000-1732197600@southlakelc.org
SUMMARY:Small Group - Renschen's
DESCRIPTION:Meet us every Thursdays at 1pm at the Renschen’s home to discuss “NT in Antiquity – Studying the New Testament”  with a 27 week video Bible study presented by Gary M. Burge & Gene L. Green. \nSynopsis: The New Testament in Antiquity. The New Testament in Antiquity skillfully develops how Jewish\, Hellenistic\, and Roman cultures formed the essential environment in which the New Testament authors wrote their books and letters. Throughout the video lectures\, presenters Gary Burge and Gene Green provide windows into the first-century world and discuss issues of interpretation derived from cultural observations. You will learn how understanding the land\, history\, and culture of this world brings remarkable new insights into how we read the New Testament itself.\nFor more information and to register\, click here. \n  \nEngage | Grow | Share
URL:https://southlakelc.org/calendar/small-group-renschens-54
LOCATION:TX
CATEGORIES:Community,Outreach
ATTACH;FMTTYPE=image/jpeg:https://southlakelc.org/wp-content/uploads/2023/03/small_groups-title-2-Wide-16x9-1.jpg
END:VEVENT
BEGIN:VEVENT
DTSTART;TZID=America/Chicago:20241123T080000
DTEND;TZID=America/Chicago:20241123T090000
DTSTAMP:20260425T182741
CREATED:20241025T154803Z
LAST-MODIFIED:20241025T154803Z
UID:71925-1732348800-1732352400@southlakelc.org
SUMMARY:Immerse
DESCRIPTION:This is a 8 Week Reading Plan: https://immersebible.com/messiah \nGetting to know Jesus the best way possible. We’ll be reading together through the New Testament reading about God’s plan from getting to know who Jesus and the Church are as well as what does it mean to live a life as a Christian. Meet us 8am Saturdays at Noah’s Ark Café in Bacliff\, 4438 Boulevard St\, Bacliff\, TX 77518 \n\nContact Rob Bailey at rbailey@southlakelc.org\n\n  \nEngage | Grow | Share
URL:https://southlakelc.org/calendar/immerse-109
LOCATION:TX
CATEGORIES:Community,Food,Outreach
ATTACH;FMTTYPE=image/jpeg:https://southlakelc.org/wp-content/uploads/2024/06/Immerse-Update-Recoveredweb-scaled.jpg
END:VEVENT
BEGIN:VEVENT
DTSTART;TZID=America/Chicago:20241124T103000
DTEND;TZID=America/Chicago:20241124T113000
DTSTAMP:20260425T182741
CREATED:20241025T161312Z
LAST-MODIFIED:20241025T161421Z
UID:71966-1732444200-1732447800@southlakelc.org
SUMMARY:Weekly Worship
DESCRIPTION:Weekly Worship Sundays 10:30am\nHometown Heroes Park\n1001 E League City Pkwy\, League City\, TX 77573\n\n\nLive Stream – SouthLakeLC.org
URL:https://southlakelc.org/calendar/weekly-worship-10
LOCATION:TX
CATEGORIES:Community,Music,Outreach
ATTACH;FMTTYPE=image/jpeg:https://southlakelc.org/wp-content/uploads/2020/11/worship-2-orh4uyww62p8wcxyfofslvas4h3zxl5gtyzjhk1g_26784dd1e7ecdceb97fd98a90e6b97d4-opt-1.jpg
END:VEVENT
BEGIN:VEVENT
DTSTART;TZID=America/Chicago:20241127T070000
DTEND;TZID=America/Chicago:20241127T080000
DTSTAMP:20260425T182741
CREATED:20241025T155915Z
LAST-MODIFIED:20241025T155915Z
UID:71942-1732690800-1732694400@southlakelc.org
SUMMARY:Wednesday Recap Breakfast
DESCRIPTION:Got questions or thoughts from this past Sunday or just hungry to start your morning? Join us at Kelley’s Country Cookin 7am each Wednesday to go over the reading from last Sunday\, discuss\, and be together as we begin the work day. Another great opportunity to share with friends and invite them to get to know Jesus. \n1502 FM518\, League City\, TX 77573 \n  \nEngage | Grow | Share
URL:https://southlakelc.org/calendar/wednesday-recap-breakfast-98
LOCATION:TX
CATEGORIES:Community,Food,Outreach
ATTACH;FMTTYPE=image/jpeg:https://southlakelc.org/wp-content/uploads/2024/06/Wednesday-Morning-web-scaled.jpg
END:VEVENT
BEGIN:VEVENT
DTSTART;TZID=America/Chicago:20241130T080000
DTEND;TZID=America/Chicago:20241130T090000
DTSTAMP:20260425T182741
CREATED:20241025T154817Z
LAST-MODIFIED:20241025T154817Z
UID:71926-1732953600-1732957200@southlakelc.org
SUMMARY:Immerse
DESCRIPTION:This is a 8 Week Reading Plan: https://immersebible.com/messiah \nGetting to know Jesus the best way possible. We’ll be reading together through the New Testament reading about God’s plan from getting to know who Jesus and the Church are as well as what does it mean to live a life as a Christian. Meet us 8am Saturdays at Noah’s Ark Café in Bacliff\, 4438 Boulevard St\, Bacliff\, TX 77518 \n\nContact Rob Bailey at rbailey@southlakelc.org\n\n  \nEngage | Grow | Share
URL:https://southlakelc.org/calendar/immerse-110
LOCATION:TX
CATEGORIES:Community,Food,Outreach
ATTACH;FMTTYPE=image/jpeg:https://southlakelc.org/wp-content/uploads/2024/06/Immerse-Update-Recoveredweb-scaled.jpg
END:VEVENT
BEGIN:VEVENT
DTSTART;TZID=America/Chicago:20241201T103000
DTEND;TZID=America/Chicago:20241201T113000
DTSTAMP:20260425T182741
CREATED:20241025T161330Z
LAST-MODIFIED:20241025T161419Z
UID:71967-1733049000-1733052600@southlakelc.org
SUMMARY:Weekly Worship
DESCRIPTION:Weekly Worship Sundays 10:30am\nHometown Heroes Park\n1001 E League City Pkwy\, League City\, TX 77573\n\n\nLive Stream – SouthLakeLC.org
URL:https://southlakelc.org/calendar/weekly-worship-11
LOCATION:TX
CATEGORIES:Community,Music,Outreach
ATTACH;FMTTYPE=image/jpeg:https://southlakelc.org/wp-content/uploads/2020/11/worship-2-orh4uyww62p8wcxyfofslvas4h3zxl5gtyzjhk1g_26784dd1e7ecdceb97fd98a90e6b97d4-opt-1.jpg
END:VEVENT
BEGIN:VEVENT
DTSTART;TZID=America/Chicago:20241202T180000
DTEND;TZID=America/Chicago:20241202T190000
DTSTAMP:20260425T182741
CREATED:20241125T154452Z
LAST-MODIFIED:20241125T154452Z
UID:74995-1733162400-1733166000@southlakelc.org
SUMMARY:Small Group - Kirkley's
DESCRIPTION:Meet us the 1st and 3rd Mondays at 6pm at the Kirkley’s home to discuss The Gospel of Matthew \n  \nFor more information and to register\, click here. \n  \nEngage | Grow | Share
URL:https://southlakelc.org/calendar/small-group-kirkleys-38
LOCATION:TX
CATEGORIES:Community,Food,Outreach
ATTACH;FMTTYPE=image/jpeg:https://southlakelc.org/wp-content/uploads/2023/03/small_groups-title-2-Wide-16x9-1.jpg
END:VEVENT
BEGIN:VEVENT
DTSTART;TZID=America/Chicago:20241205T130000
DTEND;TZID=America/Chicago:20241205T140000
DTSTAMP:20260425T182741
CREATED:20241025T160326Z
LAST-MODIFIED:20241025T160326Z
UID:71955-1733403600-1733407200@southlakelc.org
SUMMARY:Small Group - Renschen's
DESCRIPTION:Meet us every Thursdays at 1pm at the Renschen’s home to discuss “NT in Antiquity – Studying the New Testament”  with a 27 week video Bible study presented by Gary M. Burge & Gene L. Green. \nSynopsis: The New Testament in Antiquity. The New Testament in Antiquity skillfully develops how Jewish\, Hellenistic\, and Roman cultures formed the essential environment in which the New Testament authors wrote their books and letters. Throughout the video lectures\, presenters Gary Burge and Gene Green provide windows into the first-century world and discuss issues of interpretation derived from cultural observations. You will learn how understanding the land\, history\, and culture of this world brings remarkable new insights into how we read the New Testament itself.\nFor more information and to register\, click here. \n  \nEngage | Grow | Share
URL:https://southlakelc.org/calendar/small-group-renschens-55
LOCATION:TX
CATEGORIES:Community,Outreach
ATTACH;FMTTYPE=image/jpeg:https://southlakelc.org/wp-content/uploads/2023/03/small_groups-title-2-Wide-16x9-1.jpg
END:VEVENT
BEGIN:VEVENT
DTSTART;TZID=America/Chicago:20241207T080000
DTEND;TZID=America/Chicago:20241207T090000
DTSTAMP:20260425T182741
CREATED:20241125T154252Z
LAST-MODIFIED:20241125T154252Z
UID:74987-1733558400-1733562000@southlakelc.org
SUMMARY:Immerse
DESCRIPTION:This is a 8 Week Reading Plan: https://immersebible.com/messiah \nGetting to know Jesus the best way possible. We’ll be reading together through the New Testament reading about God’s plan from getting to know who Jesus and the Church are as well as what does it mean to live a life as a Christian. Meet us 8am Saturdays at Noah’s Ark Café in Bacliff\, 4438 Boulevard St\, Bacliff\, TX 77518 \n\nContact Rob Bailey at rbailey@southlakelc.org\n\n  \nEngage | Grow | Share
URL:https://southlakelc.org/calendar/immerse-114
LOCATION:TX
CATEGORIES:Community,Outreach
ATTACH;FMTTYPE=image/jpeg:https://southlakelc.org/wp-content/uploads/2024/06/Immerse-Update-Recoveredweb-scaled.jpg
END:VEVENT
BEGIN:VEVENT
DTSTART;TZID=America/Chicago:20241208T103000
DTEND;TZID=America/Chicago:20241208T113000
DTSTAMP:20260425T182741
CREATED:20241025T161418Z
LAST-MODIFIED:20241025T161418Z
UID:71968-1733653800-1733657400@southlakelc.org
SUMMARY:Weekly Worship
DESCRIPTION:Weekly Worship Sundays 10:30am\nHometown Heroes Park\n1001 E League City Pkwy\, League City\, TX 77573\n\n\nLive Stream – SouthLakeLC.org
URL:https://southlakelc.org/calendar/weekly-worship-12
LOCATION:TX
CATEGORIES:Community,Music,Outreach
ATTACH;FMTTYPE=image/jpeg:https://southlakelc.org/wp-content/uploads/2020/11/worship-2-orh4uyww62p8wcxyfofslvas4h3zxl5gtyzjhk1g_26784dd1e7ecdceb97fd98a90e6b97d4-opt-1.jpg
END:VEVENT
BEGIN:VEVENT
DTSTART;TZID=America/Chicago:20241210T160000
DTEND;TZID=America/Chicago:20241210T170000
DTSTAMP:20260425T182741
CREATED:20241125T153954Z
LAST-MODIFIED:20241125T153954Z
UID:74985-1733846400-1733850000@southlakelc.org
SUMMARY:Small Group - Arbet's
DESCRIPTION:Join us for our special Christmas Dinner Gathering on December 10th. \nTime: TBD \nLocation: TBD \n  \nMeet us on the 2nd and 4th Tuesdays at 2:30pm at the Arbet home. We will be discussing the Serendipity Bible study called “Coping with Tough Times”. \nThis Small Group is for the Tuscan Lakes area. \nFor more information and to register\, click here. \n  \nEngage | Grow | Share
URL:https://southlakelc.org/calendar/small-group-arbets-40
LOCATION:TX
CATEGORIES:Community,Food,Outreach
ATTACH;FMTTYPE=image/jpeg:https://southlakelc.org/wp-content/uploads/2022/08/small_groups-title-2-Wide-16x9-1.jpg
END:VEVENT
BEGIN:VEVENT
DTSTART;TZID=America/Chicago:20241212T123000
DTEND;TZID=America/Chicago:20241212T133000
DTSTAMP:20260425T182741
CREATED:20241025T160101Z
LAST-MODIFIED:20241025T160101Z
UID:71949-1734006600-1734010200@southlakelc.org
SUMMARY:South Lake Luncheon
DESCRIPTION:Join us every 2nd and 4th Thursdays of the month. Bring your appetite and a friend as we gather. As we meet for lunch\, we’ll get to know one another and enjoy great food. \nThis week’s meeting will start at 12:30pm and we will be meeting at La Brisa League City 501 N Wesley Dr\, League City\, TX 77573 \nMore Info \n  \nEngage | Grow | Share
URL:https://southlakelc.org/calendar/south-lake-luncheon-56
LOCATION:TX
CATEGORIES:Community,Food,Outreach
ATTACH;FMTTYPE=image/png:https://southlakelc.org/wp-content/uploads/2024/03/Luncheon-1.png
END:VEVENT
BEGIN:VEVENT
DTSTART;TZID=America/Chicago:20241212T130000
DTEND;TZID=America/Chicago:20241212T140000
DTSTAMP:20260425T182741
CREATED:20241125T153742Z
LAST-MODIFIED:20241125T153742Z
UID:74977-1734008400-1734012000@southlakelc.org
SUMMARY:Small Group - Renschen's
DESCRIPTION:Meet us every Thursdays at 1pm at the Renschen’s home to discuss “NT in Antiquity – Studying the New Testament”  with a 27 week video Bible study presented by Gary M. Burge & Gene L. Green. \nSynopsis: The New Testament in Antiquity. The New Testament in Antiquity skillfully develops how Jewish\, Hellenistic\, and Roman cultures formed the essential environment in which the New Testament authors wrote their books and letters. Throughout the video lectures\, presenters Gary Burge and Gene Green provide windows into the first-century world and discuss issues of interpretation derived from cultural observations. You will learn how understanding the land\, history\, and culture of this world brings remarkable new insights into how we read the New Testament itself.\nFor more information and to register\, click here. \n  \nEngage | Grow | Share
URL:https://southlakelc.org/calendar/small-group-renschens-59
LOCATION:TX
CATEGORIES:Community,Outreach
ATTACH;FMTTYPE=image/jpeg:https://southlakelc.org/wp-content/uploads/2023/03/small_groups-title-2-Wide-16x9-1.jpg
END:VEVENT
BEGIN:VEVENT
DTSTART;TZID=America/Chicago:20241214T080000
DTEND;TZID=America/Chicago:20241214T090000
DTSTAMP:20260425T182741
CREATED:20241125T154238Z
LAST-MODIFIED:20241125T154238Z
UID:74988-1734163200-1734166800@southlakelc.org
SUMMARY:Immerse
DESCRIPTION:This is a 8 Week Reading Plan: https://immersebible.com/messiah \nGetting to know Jesus the best way possible. We’ll be reading together through the New Testament reading about God’s plan from getting to know who Jesus and the Church are as well as what does it mean to live a life as a Christian. Meet us 8am Saturdays at Noah’s Ark Café in Bacliff\, 4438 Boulevard St\, Bacliff\, TX 77518 \n\nContact Rob Bailey at rbailey@southlakelc.org\n\n  \nEngage | Grow | Share
URL:https://southlakelc.org/calendar/immerse-113
LOCATION:TX
CATEGORIES:Community,Outreach
ATTACH;FMTTYPE=image/jpeg:https://southlakelc.org/wp-content/uploads/2024/06/Immerse-Update-Recoveredweb-scaled.jpg
END:VEVENT
BEGIN:VEVENT
DTSTART;TZID=America/Chicago:20241215T103000
DTEND;TZID=America/Chicago:20241215T113000
DTSTAMP:20260425T182741
CREATED:20241125T153245Z
LAST-MODIFIED:20241125T153245Z
UID:74968-1734258600-1734262200@southlakelc.org
SUMMARY:Weekly Worship
DESCRIPTION:Weekly Worship Sundays 10:30am\nHometown Heroes Park\n1001 E League City Pkwy\, League City\, TX 77573\n\n\nLive Stream – SouthLakeLC.org
URL:https://southlakelc.org/calendar/weekly-worship-16
LOCATION:TX
CATEGORIES:Community,Music,Outreach
ATTACH;FMTTYPE=image/jpeg:https://southlakelc.org/wp-content/uploads/2022/01/test-pic-of-church-scaled.jpg
END:VEVENT
BEGIN:VEVENT
DTSTART;TZID=America/Chicago:20241216T180000
DTEND;TZID=America/Chicago:20241216T190000
DTSTAMP:20260425T182741
CREATED:20241125T154506Z
LAST-MODIFIED:20241125T154506Z
UID:74996-1734372000-1734375600@southlakelc.org
SUMMARY:Small Group - Kirkley's
DESCRIPTION:Meet us the 1st and 3rd Mondays at 6pm at the Kirkley’s home to discuss The Gospel of Matthew \n  \nFor more information and to register\, click here. \n  \nEngage | Grow | Share
URL:https://southlakelc.org/calendar/small-group-kirkleys-39
LOCATION:TX
CATEGORIES:Community,Food,Outreach
ATTACH;FMTTYPE=image/jpeg:https://southlakelc.org/wp-content/uploads/2023/03/small_groups-title-2-Wide-16x9-1.jpg
END:VEVENT
BEGIN:VEVENT
DTSTART;TZID=America/Chicago:20241221T080000
DTEND;TZID=America/Chicago:20241221T090000
DTSTAMP:20260425T182741
CREATED:20241125T154223Z
LAST-MODIFIED:20241125T154223Z
UID:74989-1734768000-1734771600@southlakelc.org
SUMMARY:Immerse
DESCRIPTION:This is a 8 Week Reading Plan: https://immersebible.com/messiah \nGetting to know Jesus the best way possible. We’ll be reading together through the New Testament reading about God’s plan from getting to know who Jesus and the Church are as well as what does it mean to live a life as a Christian. Meet us 8am Saturdays at Noah’s Ark Café in Bacliff\, 4438 Boulevard St\, Bacliff\, TX 77518 \n\nContact Rob Bailey at rbailey@southlakelc.org\n\n  \nEngage | Grow | Share
URL:https://southlakelc.org/calendar/immerse-112
LOCATION:TX
CATEGORIES:Community,Outreach
ATTACH;FMTTYPE=image/jpeg:https://southlakelc.org/wp-content/uploads/2024/06/Immerse-Update-Recoveredweb-scaled.jpg
END:VEVENT
BEGIN:VEVENT
DTSTART;TZID=America/Chicago:20241222T103000
DTEND;TZID=America/Chicago:20241222T113000
DTSTAMP:20260425T182741
CREATED:20241125T153243Z
LAST-MODIFIED:20241125T153243Z
UID:74969-1734863400-1734867000@southlakelc.org
SUMMARY:Weekly Worship
DESCRIPTION:Weekly Worship Sundays 10:30am\nHometown Heroes Park\n1001 E League City Pkwy\, League City\, TX 77573\n\n\nLive Stream – SouthLakeLC.org
URL:https://southlakelc.org/calendar/weekly-worship-15
LOCATION:TX
CATEGORIES:Community,Music,Outreach
ATTACH;FMTTYPE=image/jpeg:https://southlakelc.org/wp-content/uploads/2022/01/test-pic-of-church-scaled.jpg
END:VEVENT
BEGIN:VEVENT
DTSTART;TZID=America/Chicago:20241222T130000
DTEND;TZID=America/Chicago:20241222T170000
DTSTAMP:20260425T182741
CREATED:20241125T154710Z
LAST-MODIFIED:20241207T182204Z
UID:75000-1734872400-1734886800@southlakelc.org
SUMMARY:Family Christmas Gathering
DESCRIPTION:Welcome to South Lake’s special Christmas Gathering. A chance to gather together after church and have lunch while we celebrate the holiday with family and friends.\nLocation: The Flores Home\nTime: gather at 1pm\, meal begins at 2pm\nSign up for side dish\, desserts\, and drinks by clicking here
URL:https://southlakelc.org/calendar/family-christmas-gathering-2
LOCATION:TX
CATEGORIES:Community,Food,Music,Outreach
ATTACH;FMTTYPE=image/jpeg:https://southlakelc.org/wp-content/uploads/2022/10/SundayFunday.jpg
END:VEVENT
BEGIN:VEVENT
DTSTART;TZID=America/Chicago:20241224T160000
DTEND;TZID=America/Chicago:20241224T170000
DTSTAMP:20260425T182741
CREATED:20241125T161054Z
LAST-MODIFIED:20241216T152205Z
UID:75002-1735056000-1735059600@southlakelc.org
SUMMARY:Christmas Eve Worship 
DESCRIPTION:Christmas Eve Weekly Worship \nSpecial Time: 4pm \nLocation: Empire Creative. 1145 Butler Rd\, League City\, TX 77573\n\n\nLive Stream – SouthLakeLC.org
URL:https://southlakelc.org/calendar/christmas-eve-worship-2
LOCATION:TX
CATEGORIES:Community,Music,Outreach
ATTACH;FMTTYPE=image/jpeg:https://southlakelc.org/wp-content/uploads/2022/01/test-pic-of-church-scaled.jpg
END:VEVENT
BEGIN:VEVENT
DTSTART;TZID=America/Chicago:20241225T103000
DTEND;TZID=America/Chicago:20241225T113000
DTSTAMP:20260425T182741
CREATED:20241125T154822Z
LAST-MODIFIED:20241125T154822Z
UID:75001-1735122600-1735126200@southlakelc.org
SUMMARY:Christmas Digital Devotion
DESCRIPTION:Special Christmas Digital Devotion\n\nService will be online only.\n\n\nLive Stream – SouthLakeLC.org
URL:https://southlakelc.org/calendar/christmas-digital-devotion
LOCATION:TX
CATEGORIES:Community,Music,Outreach
ATTACH;FMTTYPE=image/jpeg:https://southlakelc.org/wp-content/uploads/2022/01/test-pic-of-church-scaled.jpg
END:VEVENT
END:VCALENDAR