BEGIN:VCALENDAR
VERSION:2.0
PRODID:-//South Lake Church - ECPv6.15.20//NONSGML v1.0//EN
CALSCALE:GREGORIAN
METHOD:PUBLISH
X-WR-CALNAME:South Lake Church
X-ORIGINAL-URL:https://southlakelc.org
X-WR-CALDESC:Events for South Lake Church
REFRESH-INTERVAL;VALUE=DURATION:PT1H
X-Robots-Tag:noindex
X-PUBLISHED-TTL:PT1H
BEGIN:VTIMEZONE
TZID:America/Chicago
BEGIN:DAYLIGHT
TZOFFSETFROM:-0600
TZOFFSETTO:-0500
TZNAME:CDT
DTSTART:20240310T080000
END:DAYLIGHT
BEGIN:STANDARD
TZOFFSETFROM:-0500
TZOFFSETTO:-0600
TZNAME:CST
DTSTART:20241103T070000
END:STANDARD
BEGIN:DAYLIGHT
TZOFFSETFROM:-0600
TZOFFSETTO:-0500
TZNAME:CDT
DTSTART:20250309T080000
END:DAYLIGHT
BEGIN:STANDARD
TZOFFSETFROM:-0500
TZOFFSETTO:-0600
TZNAME:CST
DTSTART:20251102T070000
END:STANDARD
BEGIN:DAYLIGHT
TZOFFSETFROM:-0600
TZOFFSETTO:-0500
TZNAME:CDT
DTSTART:20260308T080000
END:DAYLIGHT
BEGIN:STANDARD
TZOFFSETFROM:-0500
TZOFFSETTO:-0600
TZNAME:CST
DTSTART:20261101T070000
END:STANDARD
END:VTIMEZONE
BEGIN:VEVENT
DTSTART;TZID=America/Chicago:20250423T070000
DTEND;TZID=America/Chicago:20250423T080000
DTSTAMP:20260425T103453
CREATED:20250327T162817Z
LAST-MODIFIED:20250327T162817Z
UID:87006-1745391600-1745395200@southlakelc.org
SUMMARY:Wednesday Recap Breakfast
DESCRIPTION:Got questions or thoughts from this past Sunday or just hungry to start your morning? Join us at Kelley’s Country Cookin 7am each Wednesday to go over the reading from last Sunday\, discuss\, and be together as we begin the work day. Another great opportunity to share with friends and invite them to get to know Jesus. \n1502 FM518\, League City\, TX 77573 \n  \nEngage | Grow | Share
URL:https://southlakelc.org/calendar/wednesday-recap-breakfast-112
LOCATION:TX
CATEGORIES:Community,Food,Outreach
ATTACH;FMTTYPE=image/jpeg:https://southlakelc.org/wp-content/uploads/2024/10/Breakfast-Wednesday-Morning-web-scaled.jpg
END:VEVENT
BEGIN:VEVENT
DTSTART;TZID=America/Chicago:20250424T123000
DTEND;TZID=America/Chicago:20250424T133000
DTSTAMP:20260425T103453
CREATED:20250327T162559Z
LAST-MODIFIED:20250327T162559Z
UID:87000-1745497800-1745501400@southlakelc.org
SUMMARY:South Lake Luncheon
DESCRIPTION:Join us every 2nd and 4th Thursdays of the month. Bring your appetite and a friend as we gather. As we meet for lunch\, we’ll get to know one another and enjoy great food. \nThis week’s meeting will start at 12:30pm and we will be meeting at La Brisa League City 501 N Wesley Dr\, League City\, TX 77573 \nMore Info \n  \nEngage | Grow | Share
URL:https://southlakelc.org/calendar/south-lake-luncheon-61
LOCATION:TX
CATEGORIES:Community,Food,Outreach
ATTACH;FMTTYPE=image/png:https://southlakelc.org/wp-content/uploads/2024/03/Luncheon-1.png
END:VEVENT
BEGIN:VEVENT
DTSTART;TZID=America/Chicago:20250424T130000
DTEND;TZID=America/Chicago:20250424T140000
DTSTAMP:20260425T103453
CREATED:20250327T162228Z
LAST-MODIFIED:20250327T162228Z
UID:86994-1745499600-1745503200@southlakelc.org
SUMMARY:Small Group - Renschen's
DESCRIPTION:Meet us every Thursdays at 1pm at the Renschen’s home for our 8-week discussion on the 8-week series: “Epic of Eden: Deborah – Unlikely Heroes and the Book of Judges” by Sandra L. Richter. \nFor more information and to register\, click here. \n  \nEngage | Grow | Share
URL:https://southlakelc.org/calendar/small-group-renschens-72
LOCATION:TX
CATEGORIES:Community,Outreach
ATTACH;FMTTYPE=image/jpeg:https://southlakelc.org/wp-content/uploads/2023/03/small_groups-title-2-Wide-16x9-1.jpg
END:VEVENT
BEGIN:VEVENT
DTSTART;TZID=America/Chicago:20250426T080000
DTEND;TZID=America/Chicago:20250426T090000
DTSTAMP:20260425T103453
CREATED:20250327T161829Z
LAST-MODIFIED:20250327T161829Z
UID:86981-1745654400-1745658000@southlakelc.org
SUMMARY:Immerse
DESCRIPTION:Join South Lake Church for Immerse! \nWe’re embarking on a 12-week journey of reading the Apocrypha together every Saturday morning. Dive deep into these ancient texts\, enrich your faith\, and connect with our community as we read books to help give us understanding of the times leading up to the New Testament \n  \nDon’t miss out on this unique and enlightening experience! Everyone is welcome. \n#SouthLakeChurch #Immerse #Apocrypha #FaithJourney #Community \nMore info: https://southlakelc.churchcenter.com/registrations/events/524440 \n\nContact Rob Bailey at rbailey@southlakelc.org\n\n  \nEngage | Grow | Share
URL:https://southlakelc.org/calendar/immerse-130
LOCATION:TX
CATEGORIES:Community,Food,Outreach
ATTACH;FMTTYPE=image/jpeg:https://southlakelc.org/wp-content/uploads/2024/06/Immerse-Update-Recoveredweb-scaled.jpg
END:VEVENT
BEGIN:VEVENT
DTSTART;TZID=America/Chicago:20250427T103000
DTEND;TZID=America/Chicago:20250427T113000
DTSTAMP:20260425T103453
CREATED:20250327T163438Z
LAST-MODIFIED:20250327T163438Z
UID:87016-1745749800-1745753400@southlakelc.org
SUMMARY:Weekly Worship
DESCRIPTION:Weekly Worship Sundays 10:30am\nHometown Heroes Park\n1001 E League City Pkwy\, League City\, TX 77573\n\n\nLive Stream – SouthLakeLC.orgwors
URL:https://southlakelc.org/calendar/weekly-worship-31
LOCATION:TX
CATEGORIES:Community,Music,Outreach
ATTACH;FMTTYPE=image/jpeg:https://southlakelc.org/wp-content/uploads/2020/11/worship-2-orh4uyww62p8wcxyfofslvas4h3zxl5gtyzjhk1g_26784dd1e7ecdceb97fd98a90e6b97d4-opt-1.jpg
END:VEVENT
BEGIN:VEVENT
DTSTART;TZID=America/Chicago:20250430T070000
DTEND;TZID=America/Chicago:20250430T080000
DTSTAMP:20260425T103453
CREATED:20250327T162804Z
LAST-MODIFIED:20250327T162804Z
UID:87007-1745996400-1746000000@southlakelc.org
SUMMARY:Wednesday Recap Breakfast
DESCRIPTION:Got questions or thoughts from this past Sunday or just hungry to start your morning? Join us at Kelley’s Country Cookin 7am each Wednesday to go over the reading from last Sunday\, discuss\, and be together as we begin the work day. Another great opportunity to share with friends and invite them to get to know Jesus. \n1502 FM518\, League City\, TX 77573 \n  \nEngage | Grow | Share
URL:https://southlakelc.org/calendar/wednesday-recap-breakfast-111
LOCATION:TX
CATEGORIES:Community,Food,Outreach
ATTACH;FMTTYPE=image/jpeg:https://southlakelc.org/wp-content/uploads/2024/06/Wednesday-Morning-web-scaled.jpg
END:VEVENT
BEGIN:VEVENT
DTSTART;TZID=America/Chicago:20250501T130000
DTEND;TZID=America/Chicago:20250501T140000
DTSTAMP:20260425T103453
CREATED:20250506T161545Z
LAST-MODIFIED:20250506T161545Z
UID:90941-1746104400-1746108000@southlakelc.org
SUMMARY:Small Group - Renschen's
DESCRIPTION:Join us every Thursday to discuss for an 8-week series to discuss ” Epic of Eden: Deborah – Unlikely Heroes and the Book of Judges” by Sandra L. Richter. From May 7th we will be meeting on Wednesdays as we begin our new discussion: John Session 1 – by Gary M. Burge – a 24-session study \nFor more information and to register\, click here. \n  \nEngage | Grow | Share
URL:https://southlakelc.org/calendar/small-group-renschens-77
LOCATION:TX
CATEGORIES:Community,Outreach
ATTACH;FMTTYPE=image/jpeg:https://southlakelc.org/wp-content/uploads/2023/03/small_groups-title-2-Wide-16x9-1.jpg
END:VEVENT
BEGIN:VEVENT
DTSTART;TZID=America/Chicago:20250503T080000
DTEND;TZID=America/Chicago:20250503T090000
DTSTAMP:20260425T103453
CREATED:20250506T162029Z
LAST-MODIFIED:20250506T162029Z
UID:90954-1746259200-1746262800@southlakelc.org
SUMMARY:Immerse
DESCRIPTION:Join us as we continue the 16-week series: Beginnings. Getting to know Jesus the best way possible. We’ll be reading together from the Old Testament about God’s plan from the very beginning and need of His love and forgiveness. Meet us 8am Saturdays. \nMore info: https://southlakelc.churchcenter.com/registrations/events/524440 \n\nContact Rob Bailey at rbailey@southlakelc.org\n\n  \nEngage | Grow | Share
URL:https://southlakelc.org/calendar/immerse-135
LOCATION:TX
CATEGORIES:Community,Food,Outreach
ATTACH;FMTTYPE=image/jpeg:https://southlakelc.org/wp-content/uploads/2025/05/Immerse-Beginnings.jpg
END:VEVENT
BEGIN:VEVENT
DTSTART;TZID=America/Chicago:20250504T103000
DTEND;TZID=America/Chicago:20250504T113000
DTSTAMP:20260425T103453
CREATED:20250327T163530Z
LAST-MODIFIED:20250327T170229Z
UID:87014-1746354600-1746358200@southlakelc.org
SUMMARY:Weekly Worship
DESCRIPTION:Weekly Worship Sundays 10:30am\nHometown Heroes Park\n1001 E League City Pkwy\, League City\, TX 77573\n\n\nLive Stream – SouthLakeLC.org
URL:https://southlakelc.org/calendar/weekly-worship-33
LOCATION:TX
CATEGORIES:Community,Music,Outreach
ATTACH;FMTTYPE=image/jpeg:https://southlakelc.org/wp-content/uploads/2020/11/worship-2-orh4uyww62p8wcxyfofslvas4h3zxl5gtyzjhk1g_26784dd1e7ecdceb97fd98a90e6b97d4-opt-1.jpg
END:VEVENT
BEGIN:VEVENT
DTSTART;TZID=America/Chicago:20250506T140000
DTEND;TZID=America/Chicago:20250506T143000
DTSTAMP:20260425T103453
CREATED:20250506T160649Z
LAST-MODIFIED:20250506T160649Z
UID:90919-1746540000-1746541800@southlakelc.org
SUMMARY:Prayer at 2
DESCRIPTION:Join Pastor Rob every Tuesday at 2 for prayer time at Panera \nLocation: Panera. 2630 Gulf Fwy Suite A\, League City\, TX 77573 \n  \nEngage | Grow | Share
URL:https://southlakelc.org/calendar/prayer-at-2-4
LOCATION:TX
CATEGORIES:Community,Outreach
END:VEVENT
BEGIN:VEVENT
DTSTART;TZID=America/Chicago:20250506T190000
DTEND;TZID=America/Chicago:20250506T200000
DTSTAMP:20260425T103453
CREATED:20250506T160758Z
LAST-MODIFIED:20250506T160758Z
UID:90927-1746558000-1746561600@southlakelc.org
SUMMARY:Pints and Questions (Ps and Qs)
DESCRIPTION:Join us for Ps & Qs every 1st Tuesday at 7pm! This is a great opportunity to ask Pastor Rob questions!\nCheck out more info about the South Lake Church @ SouthLakeLC.org\n\nMeet us at Craft 96\, 2575 E League City Pkwy\, League City\, TX 77573\n\n  \nEngage | Grow | Share
URL:https://southlakelc.org/calendar/pints-and-questions-ps-and-qs-40
LOCATION:TX
CATEGORIES:Community,Food,Outreach
ATTACH;FMTTYPE=image/jpeg:https://southlakelc.org/wp-content/uploads/2024/06/psqs-web-scaled.jpg
END:VEVENT
BEGIN:VEVENT
DTSTART;TZID=America/Chicago:20250507T070000
DTEND;TZID=America/Chicago:20250507T080000
DTSTAMP:20260425T103453
CREATED:20250506T161237Z
LAST-MODIFIED:20250506T161237Z
UID:90933-1746601200-1746604800@southlakelc.org
SUMMARY:Wednesday Recap Breakfast
DESCRIPTION:Got questions or thoughts from this past Sunday or just hungry to start your morning? Join us at Kelley’s Country Cookin 7am each Wednesday to go over the reading from last Sunday\, discuss\, and be together as we begin the work day. Another great opportunity to share with friends and invite them to get to know Jesus. \n1502 FM518\, League City\, TX 77573 \n  \nEngage | Grow | Share
URL:https://southlakelc.org/calendar/wednesday-recap-breakfast-119
LOCATION:TX
CATEGORIES:Community,Food,Outreach
ATTACH;FMTTYPE=image/jpeg:https://southlakelc.org/wp-content/uploads/2024/10/Breakfast-Wednesday-Morning-web-scaled.jpg
END:VEVENT
BEGIN:VEVENT
DTSTART;TZID=America/Chicago:20250507T130000
DTEND;TZID=America/Chicago:20250507T140000
DTSTAMP:20260425T103453
CREATED:20250506T161529Z
LAST-MODIFIED:20250506T161529Z
UID:90942-1746622800-1746626400@southlakelc.org
SUMMARY:Small Group - Renschen's
DESCRIPTION:Join us every Thursday to discuss for an 8-week series to discuss ” Epic of Eden: Deborah – Unlikely Heroes and the Book of Judges” by Sandra L. Richter. From May 7th we will be meeting on Wednesdays as we begin our new discussion: John Session 1 – by Gary M. Burge – a 24-session study \nFor more information and to register\, click here. \n  \nEngage | Grow | Share
URL:https://southlakelc.org/calendar/small-group-renschens-76
LOCATION:TX
CATEGORIES:Community,Outreach
ATTACH;FMTTYPE=image/jpeg:https://southlakelc.org/wp-content/uploads/2023/03/small_groups-title-2-Wide-16x9-1.jpg
END:VEVENT
BEGIN:VEVENT
DTSTART;TZID=America/Chicago:20250508T123000
DTEND;TZID=America/Chicago:20250508T133000
DTSTAMP:20260425T103453
CREATED:20250327T162615Z
LAST-MODIFIED:20250407T183118Z
UID:86999-1746707400-1746711000@southlakelc.org
SUMMARY:South Lake Luncheon
DESCRIPTION:Join us every 2nd and 4th Thursdays of the month. Bring your appetite and a friend as we gather. As we meet for lunch\, we’ll get to know one another and enjoy great food. \nThis week’s meeting will start at 12:30pm and we will be meeting at La Brisa League City 501 N Wesley Dr\, League City\, TX 77573 \nMore Info \n  \nEngage | Grow | Share
URL:https://southlakelc.org/calendar/south-lake-luncheon-62
LOCATION:TX
CATEGORIES:Community,Food,Outreach
ATTACH;FMTTYPE=image/png:https://southlakelc.org/wp-content/uploads/2024/03/Luncheon-1.png
END:VEVENT
BEGIN:VEVENT
DTSTART;TZID=America/Chicago:20250509T183000
DTEND;TZID=America/Chicago:20250509T203000
DTSTAMP:20260425T103453
CREATED:20250506T155813Z
LAST-MODIFIED:20250506T155813Z
UID:90906-1746815400-1746822600@southlakelc.org
SUMMARY:Guys' Gathering
DESCRIPTION:Men of South Lake\, we are having our next guys gathering. Join us as we take time to be together\, share what’s going on with all the craziness of our life. Bring a side dish (chips or nuts count) Come together for whisky or drink of choice\, cigars\, and a side. \nLocation: Pastor Rob’s house \nFor more information and to register\, click here. \n  \nEngage | Grow | Share
URL:https://southlakelc.org/calendar/guys-gathering-33
LOCATION:TX
CATEGORIES:Community,Food,Outreach
ATTACH;FMTTYPE=image/jpeg:https://southlakelc.org/wp-content/uploads/2022/01/guys-gathering-update.jpg
END:VEVENT
BEGIN:VEVENT
DTSTART;TZID=America/Chicago:20250510T080000
DTEND;TZID=America/Chicago:20250510T090000
DTSTAMP:20260425T103453
CREATED:20250506T162015Z
LAST-MODIFIED:20250506T162015Z
UID:90955-1746864000-1746867600@southlakelc.org
SUMMARY:Immerse
DESCRIPTION:Join us as we continue the 16-week series: Beginnings. Getting to know Jesus the best way possible. We’ll be reading together from the Old Testament about God’s plan from the very beginning and need of His love and forgiveness. Meet us 8am Saturdays. \nMore info: https://southlakelc.churchcenter.com/registrations/events/524440 \n\nContact Rob Bailey at rbailey@southlakelc.org\n\n  \nEngage | Grow | Share
URL:https://southlakelc.org/calendar/immerse-134
LOCATION:TX
CATEGORIES:Community,Food,Outreach
ATTACH;FMTTYPE=image/jpeg:https://southlakelc.org/wp-content/uploads/2025/05/Immerse-Beginnings.jpg
END:VEVENT
BEGIN:VEVENT
DTSTART;TZID=America/Chicago:20250511T103000
DTEND;TZID=America/Chicago:20250511T113000
DTSTAMP:20260425T103453
CREATED:20250327T163356Z
LAST-MODIFIED:20250506T155925Z
UID:87017-1746959400-1746963000@southlakelc.org
SUMMARY:Weekly Worship
DESCRIPTION:Weekly Worship Sundays 10:30am\nHometown Heroes Park\n1001 E League City Pkwy\, League City\, TX 77573\n\n\nLive Stream – SouthLakeLC.org
URL:https://southlakelc.org/calendar/weekly-worship-30
LOCATION:TX
CATEGORIES:Community,Music,Outreach
ATTACH;FMTTYPE=image/jpeg:https://southlakelc.org/wp-content/uploads/2020/11/worship-2-orh4uyww62p8wcxyfofslvas4h3zxl5gtyzjhk1g_26784dd1e7ecdceb97fd98a90e6b97d4-opt-1.jpg
END:VEVENT
BEGIN:VEVENT
DTSTART;TZID=America/Chicago:20250513T140000
DTEND;TZID=America/Chicago:20250513T143000
DTSTAMP:20260425T103453
CREATED:20250506T160641Z
LAST-MODIFIED:20250506T160641Z
UID:90920-1747144800-1747146600@southlakelc.org
SUMMARY:Prayer at 2
DESCRIPTION:Join Pastor Rob every Tuesday at 2 for prayer time at Panera \nLocation: Panera. 2630 Gulf Fwy Suite A\, League City\, TX 77573 \n  \nEngage | Grow | Share
URL:https://southlakelc.org/calendar/prayer-at-2-3
LOCATION:TX
CATEGORIES:Community,Outreach
END:VEVENT
BEGIN:VEVENT
DTSTART;TZID=America/Chicago:20250513T143000
DTEND;TZID=America/Chicago:20250513T160000
DTSTAMP:20260425T103453
CREATED:20250506T160949Z
LAST-MODIFIED:20250506T160949Z
UID:90929-1747146600-1747152000@southlakelc.org
SUMMARY:Small Group - Arbet's
DESCRIPTION:Meet us on the 2nd and 4th Tuesdays at 2:30pm at the Arbet home. \nThis Small Group is for the Tuscan Lakes area. \nFor more information and to register\, click here. \n  \nEngage | Grow | Share
URL:https://southlakelc.org/calendar/small-group-arbets-50
LOCATION:TX
CATEGORIES:Community,Outreach
ATTACH;FMTTYPE=image/jpeg:https://southlakelc.org/wp-content/uploads/2023/03/small_groups-title-2-Wide-16x9-1.jpg
END:VEVENT
BEGIN:VEVENT
DTSTART;TZID=America/Chicago:20250514T070000
DTEND;TZID=America/Chicago:20250514T080000
DTSTAMP:20260425T103453
CREATED:20250506T161223Z
LAST-MODIFIED:20250506T161223Z
UID:90934-1747206000-1747209600@southlakelc.org
SUMMARY:Wednesday Recap Breakfast
DESCRIPTION:Got questions or thoughts from this past Sunday or just hungry to start your morning? Join us at Kelley’s Country Cookin 7am each Wednesday to go over the reading from last Sunday\, discuss\, and be together as we begin the work day. Another great opportunity to share with friends and invite them to get to know Jesus. \n1502 FM518\, League City\, TX 77573 \n  \nEngage | Grow | Share
URL:https://southlakelc.org/calendar/wednesday-recap-breakfast-118
LOCATION:TX
CATEGORIES:Community,Food,Outreach
ATTACH;FMTTYPE=image/jpeg:https://southlakelc.org/wp-content/uploads/2024/10/Breakfast-Wednesday-Morning-web-scaled.jpg
END:VEVENT
BEGIN:VEVENT
DTSTART;TZID=America/Chicago:20250514T130000
DTEND;TZID=America/Chicago:20250514T140000
DTSTAMP:20260425T103453
CREATED:20250506T161515Z
LAST-MODIFIED:20250506T161515Z
UID:90943-1747227600-1747231200@southlakelc.org
SUMMARY:Small Group - Renschen's
DESCRIPTION:Join us every Thursday to discuss for an 8-week series to discuss ” Epic of Eden: Deborah – Unlikely Heroes and the Book of Judges” by Sandra L. Richter. From May 7th we will be meeting on Wednesdays as we begin our new discussion: John Session 1 – by Gary M. Burge – a 24-session study \nFor more information and to register\, click here. \n  \nEngage | Grow | Share
URL:https://southlakelc.org/calendar/small-group-renschens-75
LOCATION:TX
CATEGORIES:Community,Outreach
ATTACH;FMTTYPE=image/jpeg:https://southlakelc.org/wp-content/uploads/2023/03/small_groups-title-2-Wide-16x9-1.jpg
END:VEVENT
BEGIN:VEVENT
DTSTART;TZID=America/Chicago:20250516T183000
DTEND;TZID=America/Chicago:20250516T203000
DTSTAMP:20260425T103453
CREATED:20250327T161949Z
LAST-MODIFIED:20250506T155722Z
UID:86989-1747420200-1747427400@southlakelc.org
SUMMARY:Renewal - Women's Gathering
DESCRIPTION:Renewal is South Lake’s Women’s Gathering. A chance for women from all over our League City community to gather together\, be renewed from all that life throws at us and be reminded we walk together on our faith journey. We are also going to be discussing the book Don’t forget to grab a copy of “Here For It (the Good\, the Bad\, and the Queso): The How-To Guide for Deepening Your Friendships and Doing Life Together” by Amy Weatherly and Jess Johnston \nLocation: Melissa’s home. \nFor more information and to register: click here \n\nAmazon link to the book: click here \n  \nEngage | Grow | Share
URL:https://southlakelc.org/calendar/renewal-womens-gathering-29
LOCATION:TX
CATEGORIES:Community,Food,Outreach
ATTACH;FMTTYPE=image/jpeg:https://southlakelc.org/wp-content/uploads/2022/01/womens-gathering.jpeg
END:VEVENT
BEGIN:VEVENT
DTSTART;TZID=America/Chicago:20250517T080000
DTEND;TZID=America/Chicago:20250517T090000
DTSTAMP:20260425T103453
CREATED:20250506T161957Z
LAST-MODIFIED:20250506T161957Z
UID:90956-1747468800-1747472400@southlakelc.org
SUMMARY:Immerse
DESCRIPTION:Join us as we continue the 16-week series: Beginnings. Getting to know Jesus the best way possible. We’ll be reading together from the Old Testament about God’s plan from the very beginning and need of His love and forgiveness. Meet us 8am Saturdays. \nMore info: https://southlakelc.churchcenter.com/registrations/events/524440 \n\nContact Rob Bailey at rbailey@southlakelc.org\n\n  \nEngage | Grow | Share
URL:https://southlakelc.org/calendar/immerse-133
LOCATION:TX
CATEGORIES:Community,Food,Outreach
ATTACH;FMTTYPE=image/jpeg:https://southlakelc.org/wp-content/uploads/2025/05/Immerse-Beginnings.jpg
END:VEVENT
BEGIN:VEVENT
DTSTART;TZID=America/Chicago:20250518T103000
DTEND;TZID=America/Chicago:20250518T113000
DTSTAMP:20260425T103453
CREATED:20250506T160110Z
LAST-MODIFIED:20250506T160110Z
UID:90913-1747564200-1747567800@southlakelc.org
SUMMARY:Weekly Worship
DESCRIPTION:Weekly Worship Sundays 10:30am\nHometown Heroes Park\n1001 E League City Pkwy\, League City\, TX 77573\n\n\nLive Stream – SouthLakeLC.org
URL:https://southlakelc.org/calendar/weekly-worship-35
LOCATION:TX
CATEGORIES:Community,Music,Outreach
ATTACH;FMTTYPE=image/jpeg:https://southlakelc.org/wp-content/uploads/2020/11/worship-2-orh4uyww62p8wcxyfofslvas4h3zxl5gtyzjhk1g_26784dd1e7ecdceb97fd98a90e6b97d4-opt-1.jpg
END:VEVENT
BEGIN:VEVENT
DTSTART;TZID=America/Chicago:20250518T120000
DTEND;TZID=America/Chicago:20250518T140000
DTSTAMP:20260425T103453
CREATED:20250506T162255Z
LAST-MODIFIED:20250506T162308Z
UID:90965-1747569600-1747576800@southlakelc.org
SUMMARY:Sunday Funday
DESCRIPTION:Welcome to South Lake’s Sunday Funday Gathering. A chance to gather together after church and have lunch. We go to different restaurants South of the Lake monthly to enjoy the food and people.\nThis Month’s location is Rusty Hook Bar & Grill. 3435 N Hwy 146\, Bacliff\, TX 77518 \n\nFor more information and to let us know you’re coming\, clicking here.\n\nEngage | Grow | Share
URL:https://southlakelc.org/calendar/sunday-funday-20
LOCATION:TX
CATEGORIES:Community,Food,Outreach
ATTACH;FMTTYPE=image/jpeg:https://southlakelc.org/wp-content/uploads/2024/06/Sunday-Funday-scaled.jpg
END:VEVENT
BEGIN:VEVENT
DTSTART;TZID=America/Chicago:20250520T140000
DTEND;TZID=America/Chicago:20250520T143000
DTSTAMP:20260425T103453
CREATED:20250506T160627Z
LAST-MODIFIED:20250506T160627Z
UID:90921-1747749600-1747751400@southlakelc.org
SUMMARY:Prayer at 2
DESCRIPTION:Join Pastor Rob every Tuesday at 2 for prayer time at Panera \nLocation: Panera. 2630 Gulf Fwy Suite A\, League City\, TX 77573 \n  \nEngage | Grow | Share
URL:https://southlakelc.org/calendar/prayer-at-2-2
LOCATION:TX
CATEGORIES:Community,Outreach
END:VEVENT
BEGIN:VEVENT
DTSTART;TZID=America/Chicago:20250521T070000
DTEND;TZID=America/Chicago:20250521T080000
DTSTAMP:20260425T103453
CREATED:20250506T161210Z
LAST-MODIFIED:20250506T161210Z
UID:90935-1747810800-1747814400@southlakelc.org
SUMMARY:Wednesday Recap Breakfast
DESCRIPTION:Got questions or thoughts from this past Sunday or just hungry to start your morning? Join us at Kelley’s Country Cookin 7am each Wednesday to go over the reading from last Sunday\, discuss\, and be together as we begin the work day. Another great opportunity to share with friends and invite them to get to know Jesus. \n1502 FM518\, League City\, TX 77573 \n  \nEngage | Grow | Share
URL:https://southlakelc.org/calendar/wednesday-recap-breakfast-117
LOCATION:TX
CATEGORIES:Community,Food,Outreach
ATTACH;FMTTYPE=image/jpeg:https://southlakelc.org/wp-content/uploads/2024/10/Breakfast-Wednesday-Morning-web-scaled.jpg
END:VEVENT
BEGIN:VEVENT
DTSTART;TZID=America/Chicago:20250521T130000
DTEND;TZID=America/Chicago:20250521T140000
DTSTAMP:20260425T103453
CREATED:20250506T161500Z
LAST-MODIFIED:20250506T161500Z
UID:90944-1747832400-1747836000@southlakelc.org
SUMMARY:Small Group - Renschen's
DESCRIPTION:Join us every Thursday to discuss for an 8-week series to discuss ” Epic of Eden: Deborah – Unlikely Heroes and the Book of Judges” by Sandra L. Richter. From May 7th we will be meeting on Wednesdays as we begin our new discussion: John Session 1 – by Gary M. Burge – a 24-session study \nFor more information and to register\, click here. \n  \nEngage | Grow | Share
URL:https://southlakelc.org/calendar/small-group-renschens-74
LOCATION:TX
CATEGORIES:Community,Outreach
ATTACH;FMTTYPE=image/jpeg:https://southlakelc.org/wp-content/uploads/2023/03/small_groups-title-2-Wide-16x9-1.jpg
END:VEVENT
BEGIN:VEVENT
DTSTART;TZID=America/Chicago:20250522T123000
DTEND;TZID=America/Chicago:20250522T133000
DTSTAMP:20260425T103453
CREATED:20250506T161705Z
LAST-MODIFIED:20250506T161705Z
UID:90952-1747917000-1747920600@southlakelc.org
SUMMARY:South Lake Luncheon
DESCRIPTION:Join us every 2nd and 4th Thursdays of the month. Bring your appetite and a friend as we gather. As we meet for lunch\, we’ll get to know one another and enjoy great food. \nThis week’s meeting will start at 12:30pm and we will be meeting at La Brisa League City 501 N Wesley Dr\, League City\, TX 77573 \nMore Info \n  \nEngage | Grow | Share
URL:https://southlakelc.org/calendar/south-lake-luncheon-63
LOCATION:TX
CATEGORIES:Community,Food,Outreach
ATTACH;FMTTYPE=image/png:https://southlakelc.org/wp-content/uploads/2024/03/Luncheon-1.png
END:VEVENT
BEGIN:VEVENT
DTSTART;TZID=America/Chicago:20250522T130000
DTEND;TZID=America/Chicago:20250522T140000
DTSTAMP:20260425T103453
CREATED:20250522T141928Z
LAST-MODIFIED:20250522T141928Z
UID:92511-1747918800-1747922400@southlakelc.org
SUMMARY:Small Group - Renschen's
DESCRIPTION:Meet us every Wednesday at 1pm at the Renschen’s home.  In this series on the book of John\, taught by scholar and professor Gary M. Burge\, you’ll learn about the text itself\, explore issues in John’s culture and in ours that help us understand the ultimate meaning of each passage\, and discover ways in which the eternal theology of John can be understood and lived out in our modern culture. \nFor more information and to register\, click here. \n  \nEngage | Grow | Share
URL:https://southlakelc.org/calendar/small-group-renschens-79
LOCATION:TX
CATEGORIES:Community,Outreach
ATTACH;FMTTYPE=image/jpeg:https://southlakelc.org/wp-content/uploads/2023/03/small_groups-title-2-Wide-16x9-1.jpg
END:VEVENT
END:VCALENDAR