BEGIN:VCALENDAR
VERSION:2.0
PRODID:-//South Lake Church - ECPv6.15.20//NONSGML v1.0//EN
CALSCALE:GREGORIAN
METHOD:PUBLISH
X-ORIGINAL-URL:https://southlakelc.org
X-WR-CALDESC:Events for South Lake Church
REFRESH-INTERVAL;VALUE=DURATION:PT1H
X-Robots-Tag:noindex
X-PUBLISHED-TTL:PT1H
BEGIN:VTIMEZONE
TZID:America/Chicago
BEGIN:DAYLIGHT
TZOFFSETFROM:-0600
TZOFFSETTO:-0500
TZNAME:CDT
DTSTART:20230312T080000
END:DAYLIGHT
BEGIN:STANDARD
TZOFFSETFROM:-0500
TZOFFSETTO:-0600
TZNAME:CST
DTSTART:20231105T070000
END:STANDARD
BEGIN:DAYLIGHT
TZOFFSETFROM:-0600
TZOFFSETTO:-0500
TZNAME:CDT
DTSTART:20240310T080000
END:DAYLIGHT
BEGIN:STANDARD
TZOFFSETFROM:-0500
TZOFFSETTO:-0600
TZNAME:CST
DTSTART:20241103T070000
END:STANDARD
BEGIN:DAYLIGHT
TZOFFSETFROM:-0600
TZOFFSETTO:-0500
TZNAME:CDT
DTSTART:20250309T080000
END:DAYLIGHT
BEGIN:STANDARD
TZOFFSETFROM:-0500
TZOFFSETTO:-0600
TZNAME:CST
DTSTART:20251102T070000
END:STANDARD
END:VTIMEZONE
BEGIN:VEVENT
DTSTART;TZID=America/Chicago:20240701T180000
DTEND;TZID=America/Chicago:20240701T190000
DTSTAMP:20260425T232743
CREATED:20240624T204358Z
LAST-MODIFIED:20240624T204358Z
UID:59789-1719856800-1719860400@southlakelc.org
SUMMARY:Small Group - Kirkley's
DESCRIPTION:Meet us the 1st and 3rd Mondays at 6pm at the Kirkley’s home to discuss The Gospel of Matthew \n  \nFor more information and to register\, click here. \n  \nEngage | Grow | Share
URL:https://southlakelc.org/calendar/small-group-kirkleys-29
LOCATION:TX
CATEGORIES:Community,Food,Outreach
ATTACH;FMTTYPE=image/jpeg:https://southlakelc.org/wp-content/uploads/2023/03/small_groups-title-2-Wide-16x9-1.jpg
END:VEVENT
BEGIN:VEVENT
DTSTART;TZID=America/Chicago:20240702T190000
DTEND;TZID=America/Chicago:20240702T190000
DTSTAMP:20260425T232743
CREATED:20240624T210623Z
LAST-MODIFIED:20240624T210623Z
UID:59820-1719946800-1719946800@southlakelc.org
SUMMARY:Pints and Questions (Ps and Qs)
DESCRIPTION:Join us for Ps & Qs every 1st Tuesday at 7pm! This is a great opportunity to ask Pastor Rob questions!\nCheck out more info about the South Lake Church @ SouthLakeLC.org\n\nMeet us at Craft 96\, 2575 E League City Pkwy\, League City\, TX 77573\n\n  \nEngage | Grow | Share
URL:https://southlakelc.org/calendar/pints-and-questions-ps-and-qs-32
LOCATION:TX
CATEGORIES:Community,Food,Outreach
ATTACH;FMTTYPE=image/jpeg:https://southlakelc.org/wp-content/uploads/2024/01/Ps-and-Qs1-scaled.jpg
END:VEVENT
BEGIN:VEVENT
DTSTART;TZID=America/Chicago:20240703T070000
DTEND;TZID=America/Chicago:20240703T080000
DTSTAMP:20260425T232743
CREATED:20240624T202722Z
LAST-MODIFIED:20240624T202722Z
UID:59743-1719990000-1719993600@southlakelc.org
SUMMARY:Wednesday Recap Breakfast
DESCRIPTION:Got questions or thoughts from this past Sunday or just hungry to start your morning? Join us at Kelley’s Country Cookin 7am each Wednesday to go over the reading from last Sunday\, discuss\, and be together as we begin the work day. Another great opportunity to share with friends and invite them to get to know Jesus. \n1502 FM518\, League City\, TX 77573 \n  \nEngage | Grow | Share
URL:https://southlakelc.org/calendar/wednesday-recap-breakfast-80
LOCATION:TX
CATEGORIES:Community,Food,Outreach
ATTACH;FMTTYPE=image/jpeg:https://southlakelc.org/wp-content/uploads/2022/04/WednesdayRecapBreakfast.jpg
END:VEVENT
BEGIN:VEVENT
DTSTART;TZID=America/Chicago:20240706T080000
DTEND;TZID=America/Chicago:20240706T090000
DTSTAMP:20260425T232743
CREATED:20240624T203340Z
LAST-MODIFIED:20240624T203340Z
UID:59763-1720252800-1720256400@southlakelc.org
SUMMARY:Immerse
DESCRIPTION:This is a 16 Week Reading Plan: https://www.immersebible.com/prophets-16-week/ \nGetting to know Jesus the best way possible. We’ll be reading together through the New Testament reading about God’s plan from getting to know who Jesus and the Church are as well as what does it mean to live a life as a Christian. Meet us 8am Saturdays at Noah’s Ark Café in Bacliff\, 4438 Boulevard St\, Bacliff\, TX 77518 \n\nContact Rob Bailey at rbailey@southlakelc.org\n\n  \nEngage | Grow | Share
URL:https://southlakelc.org/calendar/immerse-88
LOCATION:TX
CATEGORIES:Community,Food,Outreach
ATTACH;FMTTYPE=image/jpeg:https://southlakelc.org/wp-content/uploads/2024/06/Immerse-Update-web-scaled.jpg
END:VEVENT
BEGIN:VEVENT
DTSTART;TZID=America/Chicago:20240707T103000
DTEND;TZID=America/Chicago:20240707T113000
DTSTAMP:20260425T232743
CREATED:20220312T205546Z
LAST-MODIFIED:20230316T181429Z
UID:3173-1720348200-1720351800@southlakelc.org
SUMMARY:Weekly Worship
DESCRIPTION:Weekly Worship Sundays 10:30am\nHometown Heroes Park\n1001 E League City Pkwy\, League City\, TX 77573\n\n\nLive Stream – SouthLakeLC.org
URL:https://southlakelc.org/calendar/weekly-worship-2024-07-07
LOCATION:TX
ATTACH;FMTTYPE=image/jpeg:https://southlakelc.org/wp-content/uploads/2022/01/test-pic-of-church-scaled.jpg
END:VEVENT
BEGIN:VEVENT
DTSTART;TZID=America/Chicago:20240710T070000
DTEND;TZID=America/Chicago:20240710T080000
DTSTAMP:20260425T232743
CREATED:20240624T202706Z
LAST-MODIFIED:20240624T202706Z
UID:59744-1720594800-1720598400@southlakelc.org
SUMMARY:Wednesday Recap Breakfast
DESCRIPTION:Got questions or thoughts from this past Sunday or just hungry to start your morning? Join us at Kelley’s Country Cookin 7am each Wednesday to go over the reading from last Sunday\, discuss\, and be together as we begin the work day. Another great opportunity to share with friends and invite them to get to know Jesus. \n1502 FM518\, League City\, TX 77573 \n  \nEngage | Grow | Share
URL:https://southlakelc.org/calendar/wednesday-recap-breakfast-79
LOCATION:TX
CATEGORIES:Community,Food,Outreach
ATTACH;FMTTYPE=image/jpeg:https://southlakelc.org/wp-content/uploads/2022/04/WednesdayRecapBreakfast.jpg
END:VEVENT
BEGIN:VEVENT
DTSTART;TZID=America/Chicago:20240711T123000
DTEND;TZID=America/Chicago:20240711T133000
DTSTAMP:20260425T232743
CREATED:20240624T210246Z
LAST-MODIFIED:20240710T171052Z
UID:59803-1720701000-1720704600@southlakelc.org
SUMMARY:South Lake Luncheon
DESCRIPTION:This week’s meeting has been canceled due to Hurricane Beryl. Please join us next time! \nMore Info \n  \nEngage | Grow | Share
URL:https://southlakelc.org/calendar/south-lake-luncheon-52
LOCATION:TX
CATEGORIES:Community,Food,Outreach
ATTACH;FMTTYPE=image/png:https://southlakelc.org/wp-content/uploads/2024/03/Luncheon-1.png
END:VEVENT
BEGIN:VEVENT
DTSTART;TZID=America/Chicago:20240711T130000
DTEND;TZID=America/Chicago:20240711T143000
DTSTAMP:20260425T232743
CREATED:20240108T165822Z
LAST-MODIFIED:20240318T155119Z
UID:43186-1720702800-1720708200@southlakelc.org
SUMMARY:Small Group - Renschen's
DESCRIPTION:Meet us every Thursdays at 1pm at the Renschen’s home to discuss The Book of Hebrews with a 26 week video Bible study taught by scholar George H. Guthriee. \nWeek 26: Review \nFor more information and to register\, click here.
URL:https://southlakelc.org/calendar/small-group-renschens-14
LOCATION:TX
CATEGORIES:Community,Outreach
ATTACH;FMTTYPE=image/jpeg:https://southlakelc.org/wp-content/uploads/2023/03/small_groups-title-2-Wide-16x9-1.jpg
END:VEVENT
BEGIN:VEVENT
DTSTART;TZID=America/Chicago:20240712T190000
DTEND;TZID=America/Chicago:20240712T210000
DTSTAMP:20260425T232743
CREATED:20240624T205055Z
LAST-MODIFIED:20240711T194628Z
UID:59801-1720810800-1720818000@southlakelc.org
SUMMARY:Family Gathering
DESCRIPTION:Friday July 12th  \n6:30pm – Family Gathering \nLocation: Gary Wilson’s home\nIf you need a chance to relax and a break from everything come join us at Gary’s home at 6:30pm. We will be grilling burgers and hotdogs!\nLearn More \nEngage | Grow | Share
URL:https://southlakelc.org/calendar/guys-gathering-26
LOCATION:TX
CATEGORIES:Community,Food,Outreach
END:VEVENT
BEGIN:VEVENT
DTSTART;TZID=America/Chicago:20240713T080000
DTEND;TZID=America/Chicago:20240713T090000
DTSTAMP:20260425T232743
CREATED:20240624T203358Z
LAST-MODIFIED:20240624T203358Z
UID:59764-1720857600-1720861200@southlakelc.org
SUMMARY:Immerse
DESCRIPTION:This is a 16 Week Reading Plan: https://www.immersebible.com/prophets-16-week/ \nGetting to know Jesus the best way possible. We’ll be reading together through the New Testament reading about God’s plan from getting to know who Jesus and the Church are as well as what does it mean to live a life as a Christian. Meet us 8am Saturdays at Noah’s Ark Café in Bacliff\, 4438 Boulevard St\, Bacliff\, TX 77518 \n\nContact Rob Bailey at rbailey@southlakelc.org\n\n  \nEngage | Grow | Share
URL:https://southlakelc.org/calendar/immerse-89
LOCATION:TX
CATEGORIES:Community,Food,Outreach
ATTACH;FMTTYPE=image/jpeg:https://southlakelc.org/wp-content/uploads/2024/06/Immerse-Update-web-scaled.jpg
END:VEVENT
BEGIN:VEVENT
DTSTART;TZID=America/Chicago:20240714T103000
DTEND;TZID=America/Chicago:20240714T113000
DTSTAMP:20260425T232743
CREATED:20220312T205546Z
LAST-MODIFIED:20230316T181418Z
UID:3232-1720953000-1720956600@southlakelc.org
SUMMARY:Weekly Worship
DESCRIPTION:Weekly Worship Sundays 10:30am\nHometown Heroes Park\n1001 E League City Pkwy\, League City\, TX 77573\n\n\nLive Stream – SouthLakeLC.org
URL:https://southlakelc.org/calendar/weekly-worship-2024-07-14
LOCATION:TX
ATTACH;FMTTYPE=image/jpeg:https://southlakelc.org/wp-content/uploads/2022/01/test-pic-of-church-scaled.jpg
END:VEVENT
BEGIN:VEVENT
DTSTART;TZID=America/Chicago:20240715T180000
DTEND;TZID=America/Chicago:20240715T190000
DTSTAMP:20260425T232743
CREATED:20240624T204415Z
LAST-MODIFIED:20240624T204415Z
UID:59790-1721066400-1721070000@southlakelc.org
SUMMARY:Small Group - Kirkley's
DESCRIPTION:Meet us the 1st and 3rd Mondays at 6pm at the Kirkley’s home to discuss The Gospel of Matthew \n  \nFor more information and to register\, click here. \n  \nEngage | Grow | Share
URL:https://southlakelc.org/calendar/small-group-kirkleys-30
LOCATION:TX
CATEGORIES:Community,Food,Outreach
ATTACH;FMTTYPE=image/jpeg:https://southlakelc.org/wp-content/uploads/2023/03/small_groups-title-2-Wide-16x9-1.jpg
END:VEVENT
BEGIN:VEVENT
DTSTART;TZID=America/Chicago:20240717T070000
DTEND;TZID=America/Chicago:20240717T080000
DTSTAMP:20260425T232743
CREATED:20240624T202649Z
LAST-MODIFIED:20240624T202649Z
UID:59745-1721199600-1721203200@southlakelc.org
SUMMARY:Wednesday Recap Breakfast
DESCRIPTION:Got questions or thoughts from this past Sunday or just hungry to start your morning? Join us at Kelley’s Country Cookin 7am each Wednesday to go over the reading from last Sunday\, discuss\, and be together as we begin the work day. Another great opportunity to share with friends and invite them to get to know Jesus. \n1502 FM518\, League City\, TX 77573 \n  \nEngage | Grow | Share
URL:https://southlakelc.org/calendar/wednesday-recap-breakfast-78
LOCATION:TX
CATEGORIES:Community,Food,Outreach
ATTACH;FMTTYPE=image/jpeg:https://southlakelc.org/wp-content/uploads/2022/04/WednesdayRecapBreakfast.jpg
END:VEVENT
BEGIN:VEVENT
DTSTART;TZID=America/Chicago:20240718T130000
DTEND;TZID=America/Chicago:20240718T143000
DTSTAMP:20260425T232743
CREATED:20240108T165841Z
LAST-MODIFIED:20240624T201142Z
UID:43185-1721307600-1721313000@southlakelc.org
SUMMARY:Small Group - Renschen's
DESCRIPTION:Meet us every Thursdays at 1pm at the Renschen’s home to discuss “NT in Antiquity – Studying the New Testament”  with a 27 week video Bible study presented by Gary M. Burge & Gene L. Green. \nSynopsis: The New Testament in Antiquity. The New Testament in Antiquity skillfully develops how Jewish\, Hellenistic\, and Roman cultures formed the essential environment in which the New Testament authors wrote their books and letters. Throughout the video lectures\, presenters Gary Burge and Gene Green provide windows into the first-century world and discuss issues of interpretation derived from cultural observations. You will learn how understanding the land\, history\, and culture of this world brings remarkable new insights into how we read the New Testament itself.\nFor more information and to register\, click here.
URL:https://southlakelc.org/calendar/small-group-renschens-20
LOCATION:TX
CATEGORIES:Community,Outreach
ATTACH;FMTTYPE=image/jpeg:https://southlakelc.org/wp-content/uploads/2023/03/small_groups-title-2-Wide-16x9-1.jpg
END:VEVENT
BEGIN:VEVENT
DTSTART;TZID=America/Chicago:20240719T183000
DTEND;TZID=America/Chicago:20240719T203000
DTSTAMP:20260425T232743
CREATED:20240624T205119Z
LAST-MODIFIED:20240715T183530Z
UID:59802-1721413800-1721421000@southlakelc.org
SUMMARY:Renewal - Women's Gathering
DESCRIPTION:Renewal is South Lake’s Women’s Gathering. A chance for women from all over our League City community to gather together\, be renewed from all that life throws at us and be reminded we walk together on our faith journey. We are also going to be discussing the book “How to Have Your Life Not Suck: Becoming Today Who You Want to Be Tomorrow” by Bianca Juarez Olthoff. \nLocation: Luna’s Mexican Restaurant. 6555 South Shore Blvd\, League City\, TX 77573 \nFor more information and to register: click here \n\nAmazon link to the book: click here \n  \nEngage | Grow | Share
URL:https://southlakelc.org/calendar/59802
LOCATION:TX
CATEGORIES:Community,Food,Outreach
ATTACH;FMTTYPE=image/jpeg:https://southlakelc.org/wp-content/uploads/2022/01/womens-gathering.jpeg
END:VEVENT
BEGIN:VEVENT
DTSTART;TZID=America/Chicago:20240720T080000
DTEND;TZID=America/Chicago:20240720T090000
DTSTAMP:20260425T232743
CREATED:20240624T203419Z
LAST-MODIFIED:20240624T203419Z
UID:59765-1721462400-1721466000@southlakelc.org
SUMMARY:Immerse
DESCRIPTION:This is a 16 Week Reading Plan: https://www.immersebible.com/prophets-16-week/ \nGetting to know Jesus the best way possible. We’ll be reading together through the New Testament reading about God’s plan from getting to know who Jesus and the Church are as well as what does it mean to live a life as a Christian. Meet us 8am Saturdays at Noah’s Ark Café in Bacliff\, 4438 Boulevard St\, Bacliff\, TX 77518 \n\nContact Rob Bailey at rbailey@southlakelc.org\n\n  \nEngage | Grow | Share
URL:https://southlakelc.org/calendar/immerse-90
LOCATION:TX
CATEGORIES:Community,Food,Outreach
ATTACH;FMTTYPE=image/jpeg:https://southlakelc.org/wp-content/uploads/2024/06/Immerse-Update-web-scaled.jpg
END:VEVENT
BEGIN:VEVENT
DTSTART;TZID=America/Chicago:20240721T103000
DTEND;TZID=America/Chicago:20240721T113000
DTSTAMP:20260425T232743
CREATED:20220312T205546Z
LAST-MODIFIED:20230316T181408Z
UID:3281-1721557800-1721561400@southlakelc.org
SUMMARY:Weekly Worship
DESCRIPTION:Weekly Worship Sundays 10:30am\nHometown Heroes Park\n1001 E League City Pkwy\, League City\, TX 77573\n\n\nLive Stream – SouthLakeLC.org
URL:https://southlakelc.org/calendar/weekly-worship-2024-07-21
LOCATION:TX
ATTACH;FMTTYPE=image/jpeg:https://southlakelc.org/wp-content/uploads/2022/01/test-pic-of-church-scaled.jpg
END:VEVENT
BEGIN:VEVENT
DTSTART;TZID=America/Chicago:20240721T120000
DTEND;TZID=America/Chicago:20240721T140000
DTSTAMP:20260425T232743
CREATED:20240715T183445Z
LAST-MODIFIED:20240715T183445Z
UID:61893-1721563200-1721570400@southlakelc.org
SUMMARY:Sunday Funday
DESCRIPTION:Welcome to South Lake’s Sunday Funday Gathering. A chance to gather together after church and have lunch. We go to different restaurants South of the Lake monthly to enjoy the food and people.\nThis Month’s location is Pluckers. 20821 Gulf Fwy\, Webster TX 77598\nFor more information and to let us know you’re coming\, clicking here.\n 
URL:https://southlakelc.org/calendar/sunday-funday-14
LOCATION:TX
CATEGORIES:Community,Food,Outreach
ATTACH;FMTTYPE=image/jpeg:https://southlakelc.org/wp-content/uploads/2022/10/SundayFunday.jpg
END:VEVENT
BEGIN:VEVENT
DTSTART;TZID=America/Chicago:20240722T183000
DTEND;TZID=America/Chicago:20240722T200000
DTSTAMP:20260425T232743
CREATED:20240624T210932Z
LAST-MODIFIED:20240721T131219Z
UID:59826-1721673000-1721678400@southlakelc.org
SUMMARY:Discovering Jesus
DESCRIPTION:Join us with Discovering Jesus every 4th Monday at 6:30pm. We will begin with the Gospel of Mark; this will be an opportunity to begin reading the Bible in a way that changes how you read and think about it. There is no homework or extra readings and we encourage you to bring yourself and a friend. \nLocation: La Brisa League City. 501 N Wesley Dr\, League City\, TX 77573 \nMore Info \n  \nEngage | Grow | Share
URL:https://southlakelc.org/calendar/discovering-jesus-2
LOCATION:TX
CATEGORIES:Community,Food,Outreach
ATTACH;FMTTYPE=image/jpeg:https://southlakelc.org/wp-content/uploads/2024/06/discover-jesus-web-jpg-scaled.jpg
END:VEVENT
BEGIN:VEVENT
DTSTART;TZID=America/Chicago:20240723T143000
DTEND;TZID=America/Chicago:20240723T153000
DTSTAMP:20260425T232743
CREATED:20240624T203933Z
LAST-MODIFIED:20240624T203933Z
UID:59779-1721745000-1721748600@southlakelc.org
SUMMARY:Small Group - Arbet's
DESCRIPTION:Meet us on the 2nd and 4th Tuesdays at 2:30pm at the Arbet home. We will be discussing the Be Still study on RightNow Media. \nThis Small Group is for the Tuscan Lakes area. \nFor more information and to register\, click here. \n  \nEngage | Grow | Share
URL:https://southlakelc.org/calendar/small-group-arbets-35
LOCATION:TX
CATEGORIES:Community,Outreach
ATTACH;FMTTYPE=image/jpeg:https://southlakelc.org/wp-content/uploads/2023/03/small_groups-title-2-Wide-16x9-1.jpg
END:VEVENT
BEGIN:VEVENT
DTSTART;TZID=America/Chicago:20240724T070000
DTEND;TZID=America/Chicago:20240724T080000
DTSTAMP:20260425T232743
CREATED:20240624T202635Z
LAST-MODIFIED:20240624T202635Z
UID:59746-1721804400-1721808000@southlakelc.org
SUMMARY:Wednesday Recap Breakfast
DESCRIPTION:Got questions or thoughts from this past Sunday or just hungry to start your morning? Join us at Kelley’s Country Cookin 7am each Wednesday to go over the reading from last Sunday\, discuss\, and be together as we begin the work day. Another great opportunity to share with friends and invite them to get to know Jesus. \n1502 FM518\, League City\, TX 77573 \n  \nEngage | Grow | Share
URL:https://southlakelc.org/calendar/wednesday-recap-breakfast-77
LOCATION:TX
CATEGORIES:Community,Food,Outreach
ATTACH;FMTTYPE=image/jpeg:https://southlakelc.org/wp-content/uploads/2022/04/WednesdayRecapBreakfast.jpg
END:VEVENT
BEGIN:VEVENT
DTSTART;TZID=America/Chicago:20240725T123000
DTEND;TZID=America/Chicago:20240725T133000
DTSTAMP:20260425T232743
CREATED:20240624T210229Z
LAST-MODIFIED:20240624T210229Z
UID:59804-1721910600-1721914200@southlakelc.org
SUMMARY:South Lake Luncheon
DESCRIPTION:Join us every 2nd and 4th Thursdays of the month. Bring your appetite and a friend as we gather. As we meet for lunch\, we’ll get to know one another and enjoy great food. \nThis week’s meeting will start at 12:30pm and we will be meeting at La Brisa League City 501 N Wesley Dr\, League City\, TX 77573 \nMore Info \n  \nEngage | Grow | Share
URL:https://southlakelc.org/calendar/south-lake-luncheon-51
LOCATION:TX
CATEGORIES:Community,Food,Outreach
ATTACH;FMTTYPE=image/png:https://southlakelc.org/wp-content/uploads/2024/03/Luncheon-1.png
END:VEVENT
BEGIN:VEVENT
DTSTART;TZID=America/Chicago:20240725T130000
DTEND;TZID=America/Chicago:20240725T143000
DTSTAMP:20260425T232743
CREATED:20240624T201709Z
LAST-MODIFIED:20240624T201709Z
UID:59722-1721912400-1721917800@southlakelc.org
SUMMARY:Small Group - Renschen's
DESCRIPTION:Meet us every Thursdays at 1pm at the Renschen’s home to discuss “NT in Antiquity – Studying the New Testament”  with a 27 week video Bible study presented by Gary M. Burge & Gene L. Green. \nSynopsis: The New Testament in Antiquity. The New Testament in Antiquity skillfully develops how Jewish\, Hellenistic\, and Roman cultures formed the essential environment in which the New Testament authors wrote their books and letters. Throughout the video lectures\, presenters Gary Burge and Gene Green provide windows into the first-century world and discuss issues of interpretation derived from cultural observations. You will learn how understanding the land\, history\, and culture of this world brings remarkable new insights into how we read the New Testament itself.\nFor more information and to register\, click here. \n  \nEngage | Grow | Share
URL:https://southlakelc.org/calendar/small-group-renschens-41
LOCATION:TX
CATEGORIES:Community,Food,Outreach
ATTACH;FMTTYPE=image/jpeg:https://southlakelc.org/wp-content/uploads/2022/08/small_groups-title-2-Wide-16x9-1.jpg
END:VEVENT
BEGIN:VEVENT
DTSTART;TZID=America/Chicago:20240727T080000
DTEND;TZID=America/Chicago:20240727T090000
DTSTAMP:20260425T232743
CREATED:20240624T203433Z
LAST-MODIFIED:20240722T200412Z
UID:59766-1722067200-1722070800@southlakelc.org
SUMMARY:Immerse
DESCRIPTION:This is a 16 Week Reading Plan: https://immersebible.com/chronicles-8-week/ \nGetting to know Jesus the best way possible. We’ll be reading together through the New Testament reading about God’s plan from getting to know who Jesus and the Church are as well as what does it mean to live a life as a Christian. Meet us 8am Saturdays at Noah’s Ark Café in Bacliff\, 4438 Boulevard St\, Bacliff\, TX 77518 \n\nContact Rob Bailey at rbailey@southlakelc.org\n\n  \nEngage | Grow | Share
URL:https://southlakelc.org/calendar/immerse-91
LOCATION:TX
CATEGORIES:Community,Food,Outreach
ATTACH;FMTTYPE=image/jpeg:https://southlakelc.org/wp-content/uploads/2024/06/Immerse-Update-web-scaled.jpg
END:VEVENT
BEGIN:VEVENT
DTSTART;TZID=America/Chicago:20240728T103000
DTEND;TZID=America/Chicago:20240728T113000
DTSTAMP:20260425T232743
CREATED:20220312T205546Z
LAST-MODIFIED:20230316T181313Z
UID:3290-1722162600-1722166200@southlakelc.org
SUMMARY:Weekly Worship
DESCRIPTION:Weekly Worship Sundays 10:30am\nHometown Heroes Park\n1001 E League City Pkwy\, League City\, TX 77573\n\n\nLive Stream – SouthLakeLC.org
URL:https://southlakelc.org/calendar/weekly-worship-2024-07-28
LOCATION:TX
ATTACH;FMTTYPE=image/jpeg:https://southlakelc.org/wp-content/uploads/2022/01/test-pic-of-church-scaled.jpg
END:VEVENT
BEGIN:VEVENT
DTSTART;TZID=America/Chicago:20240730T190000
DTEND;TZID=America/Chicago:20240730T200000
DTSTAMP:20260425T232743
CREATED:20240729T193943Z
LAST-MODIFIED:20240729T193943Z
UID:63254-1722366000-1722369600@southlakelc.org
SUMMARY:Pints and Questions (Ps and Qs)
DESCRIPTION:Join us for a special Ps & Qs! This is a great opportunity to ask Pastor Rob questions!\nCheck out more info about the South Lake Church @ SouthLakeLC.org\n\nMeet us at Craft 96\, 2575 E League City Pkwy\, League City\, TX 77573\n\n  \nEngage | Grow | Share
URL:https://southlakelc.org/calendar/pints-and-questions-ps-and-qs-34
LOCATION:TX
CATEGORIES:Community,Food,Outreach
ATTACH;FMTTYPE=image/jpeg:https://southlakelc.org/wp-content/uploads/2024/06/psqs-web-scaled.jpg
END:VEVENT
BEGIN:VEVENT
DTSTART;TZID=America/Chicago:20240731T070000
DTEND;TZID=America/Chicago:20240731T080000
DTSTAMP:20260425T232743
CREATED:20240624T202618Z
LAST-MODIFIED:20240624T202618Z
UID:59747-1722409200-1722412800@southlakelc.org
SUMMARY:Wednesday Recap Breakfast
DESCRIPTION:Got questions or thoughts from this past Sunday or just hungry to start your morning? Join us at Kelley’s Country Cookin 7am each Wednesday to go over the reading from last Sunday\, discuss\, and be together as we begin the work day. Another great opportunity to share with friends and invite them to get to know Jesus. \n1502 FM518\, League City\, TX 77573 \n  \nEngage | Grow | Share
URL:https://southlakelc.org/calendar/wednesday-recap-breakfast-76
LOCATION:TX
CATEGORIES:Community,Food,Outreach
ATTACH;FMTTYPE=image/jpeg:https://southlakelc.org/wp-content/uploads/2022/04/WednesdayRecapBreakfast.jpg
END:VEVENT
BEGIN:VEVENT
DTSTART;TZID=America/Chicago:20240801T130000
DTEND;TZID=America/Chicago:20240801T143000
DTSTAMP:20260425T232743
CREATED:20240624T201739Z
LAST-MODIFIED:20240624T202245Z
UID:59723-1722517200-1722522600@southlakelc.org
SUMMARY:Small Group - Renschen's
DESCRIPTION:Meet us every Thursdays at 1pm at the Renschen’s home to discuss “NT in Antiquity – Studying the New Testament”  with a 27 week video Bible study presented by Gary M. Burge & Gene L. Green. \nSynopsis: The New Testament in Antiquity. The New Testament in Antiquity skillfully develops how Jewish\, Hellenistic\, and Roman cultures formed the essential environment in which the New Testament authors wrote their books and letters. Throughout the video lectures\, presenters Gary Burge and Gene Green provide windows into the first-century world and discuss issues of interpretation derived from cultural observations. You will learn how understanding the land\, history\, and culture of this world brings remarkable new insights into how we read the New Testament itself.\nFor more information and to register\, click here. \n  \nEngage | Grow | Share
URL:https://southlakelc.org/calendar/small-group-renschensmeet-us-every-thursdays-at-1pm-at-the-renschens-home-to-discuss-nt-in-antiquity-studying-the-new-testament-with-a-27-week-video-bible-study-presented-by-gary-m
LOCATION:TX
CATEGORIES:Community,Food,Outreach
ATTACH;FMTTYPE=image/jpeg:https://southlakelc.org/wp-content/uploads/2023/03/small_groups-title-2-Wide-16x9-1.jpg
END:VEVENT
BEGIN:VEVENT
DTSTART;TZID=America/Chicago:20240803T080000
DTEND;TZID=America/Chicago:20240803T090000
DTSTAMP:20260425T232743
CREATED:20240624T203447Z
LAST-MODIFIED:20240722T200401Z
UID:59767-1722672000-1722675600@southlakelc.org
SUMMARY:Immerse
DESCRIPTION:This is a 16 Week Reading Plan: https://immersebible.com/chronicles-8-week/ \nGetting to know Jesus the best way possible. We’ll be reading together through the New Testament reading about God’s plan from getting to know who Jesus and the Church are as well as what does it mean to live a life as a Christian. Meet us 8am Saturdays at Noah’s Ark Café in Bacliff\, 4438 Boulevard St\, Bacliff\, TX 77518 \n\nContact Rob Bailey at rbailey@southlakelc.org\n\n  \nEngage | Grow | Share
URL:https://southlakelc.org/calendar/immerse-92
LOCATION:TX
CATEGORIES:Community,Food,Outreach
ATTACH;FMTTYPE=image/jpeg:https://southlakelc.org/wp-content/uploads/2024/06/Immerse-Update-web-scaled.jpg
END:VEVENT
BEGIN:VEVENT
DTSTART;TZID=America/Chicago:20240804T103000
DTEND;TZID=America/Chicago:20240804T113000
DTSTAMP:20260425T232743
CREATED:20220312T205546Z
LAST-MODIFIED:20230316T181257Z
UID:3331-1722767400-1722771000@southlakelc.org
SUMMARY:Weekly Worship
DESCRIPTION:Weekly Worship Sundays 10:30am\nHometown Heroes Park\n1001 E League City Pkwy\, League City\, TX 77573\n\n\nLive Stream – SouthLakeLC.org
URL:https://southlakelc.org/calendar/weekly-worship-2024-08-04
LOCATION:TX
ATTACH;FMTTYPE=image/jpeg:https://southlakelc.org/wp-content/uploads/2022/01/test-pic-of-church-scaled.jpg
END:VEVENT
END:VCALENDAR