BEGIN:VCALENDAR
VERSION:2.0
PRODID:-//South Lake Church - ECPv6.15.20//NONSGML v1.0//EN
CALSCALE:GREGORIAN
METHOD:PUBLISH
X-ORIGINAL-URL:https://southlakelc.org
X-WR-CALDESC:Events for South Lake Church
REFRESH-INTERVAL;VALUE=DURATION:PT1H
X-Robots-Tag:noindex
X-PUBLISHED-TTL:PT1H
BEGIN:VTIMEZONE
TZID:America/Chicago
BEGIN:DAYLIGHT
TZOFFSETFROM:-0600
TZOFFSETTO:-0500
TZNAME:CDT
DTSTART:20230312T080000
END:DAYLIGHT
BEGIN:STANDARD
TZOFFSETFROM:-0500
TZOFFSETTO:-0600
TZNAME:CST
DTSTART:20231105T070000
END:STANDARD
BEGIN:DAYLIGHT
TZOFFSETFROM:-0600
TZOFFSETTO:-0500
TZNAME:CDT
DTSTART:20240310T080000
END:DAYLIGHT
BEGIN:STANDARD
TZOFFSETFROM:-0500
TZOFFSETTO:-0600
TZNAME:CST
DTSTART:20241103T070000
END:STANDARD
BEGIN:DAYLIGHT
TZOFFSETFROM:-0600
TZOFFSETTO:-0500
TZNAME:CDT
DTSTART:20250309T080000
END:DAYLIGHT
BEGIN:STANDARD
TZOFFSETFROM:-0500
TZOFFSETTO:-0600
TZNAME:CST
DTSTART:20251102T070000
END:STANDARD
END:VTIMEZONE
BEGIN:VEVENT
DTSTART;TZID=America/Chicago:20240806T190000
DTEND;TZID=America/Chicago:20240806T190000
DTSTAMP:20260425T232743
CREATED:20240624T210607Z
LAST-MODIFIED:20240624T210628Z
UID:59821-1722970800-1722970800@southlakelc.org
SUMMARY:Pints and Questions (Ps and Qs)
DESCRIPTION:Join us for Ps & Qs every 1st Tuesday at 7pm! This is a great opportunity to ask Pastor Rob questions!\nCheck out more info about the South Lake Church @ SouthLakeLC.org\n\nMeet us at Craft 96\, 2575 E League City Pkwy\, League City\, TX 77573\n\n  \nEngage | Grow | Share
URL:https://southlakelc.org/calendar/pints-and-questions-ps-and-qs-29
LOCATION:TX
CATEGORIES:Community,Food,Outreach
ATTACH;FMTTYPE=image/jpeg:https://southlakelc.org/wp-content/uploads/2024/01/Ps-and-Qs1-scaled.jpg
END:VEVENT
BEGIN:VEVENT
DTSTART;TZID=America/Chicago:20240807T070000
DTEND;TZID=America/Chicago:20240807T080000
DTSTAMP:20260425T232743
CREATED:20240624T202559Z
LAST-MODIFIED:20240624T202559Z
UID:59748-1723014000-1723017600@southlakelc.org
SUMMARY:Wednesday Recap Breakfast
DESCRIPTION:Got questions or thoughts from this past Sunday or just hungry to start your morning? Join us at Kelley’s Country Cookin 7am each Wednesday to go over the reading from last Sunday\, discuss\, and be together as we begin the work day. Another great opportunity to share with friends and invite them to get to know Jesus. \n1502 FM518\, League City\, TX 77573 \n  \nEngage | Grow | Share
URL:https://southlakelc.org/calendar/wednesday-recap-breakfast-75
LOCATION:TX
CATEGORIES:Community,Food,Outreach
ATTACH;FMTTYPE=image/jpeg:https://southlakelc.org/wp-content/uploads/2022/04/WednesdayRecapBreakfast.jpg
END:VEVENT
BEGIN:VEVENT
DTSTART;TZID=America/Chicago:20240808T123000
DTEND;TZID=America/Chicago:20240808T133000
DTSTAMP:20260425T232743
CREATED:20240624T210214Z
LAST-MODIFIED:20240624T210214Z
UID:59805-1723120200-1723123800@southlakelc.org
SUMMARY:South Lake Luncheon
DESCRIPTION:Join us every 2nd and 4th Thursdays of the month. Bring your appetite and a friend as we gather. As we meet for lunch\, we’ll get to know one another and enjoy great food. \nThis week’s meeting will start at 12:30pm and we will be meeting at La Brisa League City 501 N Wesley Dr\, League City\, TX 77573 \nMore Info \n  \nEngage | Grow | Share
URL:https://southlakelc.org/calendar/south-lake-luncheon-50
LOCATION:TX
CATEGORIES:Community,Food,Outreach
ATTACH;FMTTYPE=image/png:https://southlakelc.org/wp-content/uploads/2024/03/Luncheon-1.png
END:VEVENT
BEGIN:VEVENT
DTSTART;TZID=America/Chicago:20240808T130000
DTEND;TZID=America/Chicago:20240808T143000
DTSTAMP:20260425T232743
CREATED:20240624T201817Z
LAST-MODIFIED:20240624T201817Z
UID:59724-1723122000-1723127400@southlakelc.org
SUMMARY:Small Group - Renschen's
DESCRIPTION:Meet us every Thursdays at 1pm at the Renschen’s home to discuss “NT in Antiquity – Studying the New Testament”  with a 27 week video Bible study presented by Gary M. Burge & Gene L. Green. \nSynopsis: The New Testament in Antiquity. The New Testament in Antiquity skillfully develops how Jewish\, Hellenistic\, and Roman cultures formed the essential environment in which the New Testament authors wrote their books and letters. Throughout the video lectures\, presenters Gary Burge and Gene Green provide windows into the first-century world and discuss issues of interpretation derived from cultural observations. You will learn how understanding the land\, history\, and culture of this world brings remarkable new insights into how we read the New Testament itself.\nFor more information and to register\, click here. \n  \nEngage | Grow | Share
URL:https://southlakelc.org/calendar/small-group-renschens-42
LOCATION:TX
CATEGORIES:Community,Food,Outreach
ATTACH;FMTTYPE=image/jpeg:https://southlakelc.org/wp-content/uploads/2023/03/small_groups-title-2-Wide-16x9-1.jpg
END:VEVENT
BEGIN:VEVENT
DTSTART;TZID=America/Chicago:20240809T190000
DTEND;TZID=America/Chicago:20240809T200000
DTSTAMP:20260425T232743
CREATED:20240729T195242Z
LAST-MODIFIED:20240729T195242Z
UID:63260-1723230000-1723233600@southlakelc.org
SUMMARY:Guys' Gathering
DESCRIPTION:Men of South Lake\, we are having our next guys gathering. Join us as we take time to be together\, share what’s going on with all the craziness of our life. Bring a side dish (chips or nuts count) Come together for whisky or drink of choice\, cigars\, and a side. \nLocation: Jim Arbet’s home. \nFor more information and to register\, click here. \n  \nEngage | Grow | Share
URL:https://southlakelc.org/calendar/guys-gathering-27
LOCATION:TX
CATEGORIES:Community,Food,Outreach
ATTACH;FMTTYPE=image/jpeg:https://southlakelc.org/wp-content/uploads/2022/01/guys-gathering-update.jpg
END:VEVENT
BEGIN:VEVENT
DTSTART;TZID=America/Chicago:20240810T080000
DTEND;TZID=America/Chicago:20240810T090000
DTSTAMP:20260425T232743
CREATED:20240624T203500Z
LAST-MODIFIED:20240722T200346Z
UID:59768-1723276800-1723280400@southlakelc.org
SUMMARY:Immerse
DESCRIPTION:This is a 16 Week Reading Plan: https://immersebible.com/chronicles-8-week/ \nGetting to know Jesus the best way possible. We’ll be reading together through the New Testament reading about God’s plan from getting to know who Jesus and the Church are as well as what does it mean to live a life as a Christian. Meet us 8am Saturdays at Noah’s Ark Café in Bacliff\, 4438 Boulevard St\, Bacliff\, TX 77518 \n\nContact Rob Bailey at rbailey@southlakelc.org\n\n  \nEngage | Grow | Share
URL:https://southlakelc.org/calendar/immerse-93
LOCATION:TX
CATEGORIES:Community,Food,Outreach
ATTACH;FMTTYPE=image/jpeg:https://southlakelc.org/wp-content/uploads/2024/06/Immerse-Update-web-scaled.jpg
END:VEVENT
BEGIN:VEVENT
DTSTART;TZID=America/Chicago:20240811T103000
DTEND;TZID=America/Chicago:20240811T113000
DTSTAMP:20260425T232743
CREATED:20220312T205546Z
LAST-MODIFIED:20230316T181248Z
UID:3357-1723372200-1723375800@southlakelc.org
SUMMARY:Weekly Worship
DESCRIPTION:Weekly Worship Sundays 10:30am\nHometown Heroes Park\n1001 E League City Pkwy\, League City\, TX 77573\n\n\nLive Stream – SouthLakeLC.org
URL:https://southlakelc.org/calendar/weekly-worship-2024-08-11
LOCATION:TX
ATTACH;FMTTYPE=image/jpeg:https://southlakelc.org/wp-content/uploads/2022/01/test-pic-of-church-scaled.jpg
END:VEVENT
BEGIN:VEVENT
DTSTART;TZID=America/Chicago:20240814T070000
DTEND;TZID=America/Chicago:20240814T080000
DTSTAMP:20260425T232743
CREATED:20240729T200238Z
LAST-MODIFIED:20240729T200238Z
UID:63272-1723618800-1723622400@southlakelc.org
SUMMARY:Wednesday Recap Breakfast
DESCRIPTION:Got questions or thoughts from this past Sunday or just hungry to start your morning? Join us at Kelley’s Country Cookin 7am each Wednesday to go over the reading from last Sunday\, discuss\, and be together as we begin the work day. Another great opportunity to share with friends and invite them to get to know Jesus. \n1502 FM518\, League City\, TX 77573 \n  \nEngage | Grow | Share
URL:https://southlakelc.org/calendar/wednesday-recap-breakfast-85
LOCATION:TX
CATEGORIES:Community,Food,Outreach
ATTACH;FMTTYPE=image/jpeg:https://southlakelc.org/wp-content/uploads/2022/04/WednesdayRecapBreakfast.jpg
END:VEVENT
BEGIN:VEVENT
DTSTART;TZID=America/Chicago:20240815T130000
DTEND;TZID=America/Chicago:20240815T143000
DTSTAMP:20260425T232743
CREATED:20240624T201832Z
LAST-MODIFIED:20240624T201832Z
UID:59725-1723726800-1723732200@southlakelc.org
SUMMARY:Small Group - Renschen's
DESCRIPTION:Meet us every Thursdays at 1pm at the Renschen’s home to discuss “NT in Antiquity – Studying the New Testament”  with a 27 week video Bible study presented by Gary M. Burge & Gene L. Green. \nSynopsis: The New Testament in Antiquity. The New Testament in Antiquity skillfully develops how Jewish\, Hellenistic\, and Roman cultures formed the essential environment in which the New Testament authors wrote their books and letters. Throughout the video lectures\, presenters Gary Burge and Gene Green provide windows into the first-century world and discuss issues of interpretation derived from cultural observations. You will learn how understanding the land\, history\, and culture of this world brings remarkable new insights into how we read the New Testament itself.\nFor more information and to register\, click here. \n  \nEngage | Grow | Share
URL:https://southlakelc.org/calendar/small-group-renschens-43
LOCATION:TX
CATEGORIES:Community,Food,Outreach
ATTACH;FMTTYPE=image/jpeg:https://southlakelc.org/wp-content/uploads/2023/03/small_groups-title-2-Wide-16x9-1.jpg
END:VEVENT
BEGIN:VEVENT
DTSTART;TZID=America/Chicago:20240816T183000
DTEND;TZID=America/Chicago:20240816T203000
DTSTAMP:20260425T232743
CREATED:20240729T195109Z
LAST-MODIFIED:20240729T195109Z
UID:63258-1723833000-1723840200@southlakelc.org
SUMMARY:Renewal - Women's Gathering
DESCRIPTION:Renewal is South Lake’s Women’s Gathering. A chance for women from all over our League City community to gather together\, be renewed from all that life throws at us and be reminded we walk together on our faith journey. We are also going to be discussing the book “How to Have Your Life Not Suck: Becoming Today Who You Want to Be Tomorrow” by Bianca Juarez Olthoff. \nLocation: Melissa Flores’ home \nFor more information and to register: click here \n\nAmazon link to the book: click here \n  \nEngage | Grow | Share
URL:https://southlakelc.org/calendar/renewal-womens-gathering-22
LOCATION:TX
CATEGORIES:Community,Food,Outreach
ATTACH;FMTTYPE=image/jpeg:https://southlakelc.org/wp-content/uploads/2022/01/womens-gathering.jpeg
END:VEVENT
BEGIN:VEVENT
DTSTART;TZID=America/Chicago:20240817T080000
DTEND;TZID=America/Chicago:20240817T090000
DTSTAMP:20260425T232743
CREATED:20240729T195834Z
LAST-MODIFIED:20240729T195853Z
UID:63262-1723881600-1723885200@southlakelc.org
SUMMARY:Immerse
DESCRIPTION:This is a 16 Week Reading Plan: https://immersebible.com/chronicles-8-week/ \nGetting to know Jesus the best way possible. We’ll be reading together through the New Testament reading about God’s plan from getting to know who Jesus and the Church are as well as what does it mean to live a life as a Christian. Meet us 8am Saturdays at Noah’s Ark Café in Bacliff\, 4438 Boulevard St\, Bacliff\, TX 77518 \n\nContact Rob Bailey at rbailey@southlakelc.org\n\n  \nEngage | Grow | Share
URL:https://southlakelc.org/calendar/immerse-94
LOCATION:TX
CATEGORIES:Community,Food,Outreach
ATTACH;FMTTYPE=image/jpeg:https://southlakelc.org/wp-content/uploads/2024/06/Immerse-Update-Recoveredweb-scaled.jpg
END:VEVENT
BEGIN:VEVENT
DTSTART;TZID=America/Chicago:20240818T103000
DTEND;TZID=America/Chicago:20240818T113000
DTSTAMP:20260425T232743
CREATED:20220312T205546Z
LAST-MODIFIED:20230316T181237Z
UID:3436-1723977000-1723980600@southlakelc.org
SUMMARY:Weekly Worship
DESCRIPTION:Weekly Worship Sundays 10:30am\nHometown Heroes Park\n1001 E League City Pkwy\, League City\, TX 77573\n\n\nLive Stream – SouthLakeLC.org
URL:https://southlakelc.org/calendar/weekly-worship-2024-08-18
LOCATION:TX
ATTACH;FMTTYPE=image/jpeg:https://southlakelc.org/wp-content/uploads/2022/01/test-pic-of-church-scaled.jpg
END:VEVENT
BEGIN:VEVENT
DTSTART;TZID=America/Chicago:20240818T120000
DTEND;TZID=America/Chicago:20240818T140000
DTSTAMP:20260425T232743
CREATED:20240729T200548Z
LAST-MODIFIED:20240729T200548Z
UID:63285-1723982400-1723989600@southlakelc.org
SUMMARY:Sunday Funday
DESCRIPTION:Welcome to South Lake’s Sunday Funday Gathering. A chance to gather together after church and have lunch. We go to different restaurants South of the Lake monthly to enjoy the food and people.\nThis Month’s location is Boomer Jack’s Grill. 20961 Gulf fwy\, Webster TX 77598\nFor more information and to let us know you’re coming\, clicking here.\n 
URL:https://southlakelc.org/calendar/sunday-funday-15
LOCATION:TX
CATEGORIES:Community,Food,Outreach
ATTACH;FMTTYPE=image/jpeg:https://southlakelc.org/wp-content/uploads/2024/06/Sunday-Funday-scaled.jpg
END:VEVENT
BEGIN:VEVENT
DTSTART;TZID=America/Chicago:20240819T180000
DTEND;TZID=America/Chicago:20240819T190000
DTSTAMP:20260425T232743
CREATED:20240624T204443Z
LAST-MODIFIED:20240624T204443Z
UID:59792-1724090400-1724094000@southlakelc.org
SUMMARY:Small Group - Kirkley's
DESCRIPTION:Meet us the 1st and 3rd Mondays at 6pm at the Kirkley’s home to discuss The Gospel of Matthew \n  \nFor more information and to register\, click here. \n  \nEngage | Grow | Share
URL:https://southlakelc.org/calendar/small-group-kirkleys-32
LOCATION:TX
CATEGORIES:Community,Food,Outreach
ATTACH;FMTTYPE=image/jpeg:https://southlakelc.org/wp-content/uploads/2023/03/small_groups-title-2-Wide-16x9-1.jpg
END:VEVENT
BEGIN:VEVENT
DTSTART;TZID=America/Chicago:20240821T070000
DTEND;TZID=America/Chicago:20240821T080000
DTSTAMP:20260425T232743
CREATED:20240729T200253Z
LAST-MODIFIED:20240729T200253Z
UID:63273-1724223600-1724227200@southlakelc.org
SUMMARY:Wednesday Recap Breakfast
DESCRIPTION:Got questions or thoughts from this past Sunday or just hungry to start your morning? Join us at Kelley’s Country Cookin 7am each Wednesday to go over the reading from last Sunday\, discuss\, and be together as we begin the work day. Another great opportunity to share with friends and invite them to get to know Jesus. \n1502 FM518\, League City\, TX 77573 \n  \nEngage | Grow | Share
URL:https://southlakelc.org/calendar/wednesday-recap-breakfast-86
LOCATION:TX
CATEGORIES:Community,Food,Outreach
ATTACH;FMTTYPE=image/jpeg:https://southlakelc.org/wp-content/uploads/2022/04/WednesdayRecapBreakfast.jpg
END:VEVENT
BEGIN:VEVENT
DTSTART;TZID=America/Chicago:20240822T123000
DTEND;TZID=America/Chicago:20240822T133000
DTSTAMP:20260425T232743
CREATED:20240624T210158Z
LAST-MODIFIED:20240624T210158Z
UID:59806-1724329800-1724333400@southlakelc.org
SUMMARY:South Lake Luncheon
DESCRIPTION:Join us every 2nd and 4th Thursdays of the month. Bring your appetite and a friend as we gather. As we meet for lunch\, we’ll get to know one another and enjoy great food. \nThis week’s meeting will start at 12:30pm and we will be meeting at La Brisa League City 501 N Wesley Dr\, League City\, TX 77573 \nMore Info \n  \nEngage | Grow | Share
URL:https://southlakelc.org/calendar/south-lake-luncheon-49
LOCATION:TX
CATEGORIES:Community,Food,Outreach
ATTACH;FMTTYPE=image/png:https://southlakelc.org/wp-content/uploads/2024/03/Luncheon-1.png
END:VEVENT
BEGIN:VEVENT
DTSTART;TZID=America/Chicago:20240822T130000
DTEND;TZID=America/Chicago:20240822T143000
DTSTAMP:20260425T232743
CREATED:20240624T201847Z
LAST-MODIFIED:20240624T201847Z
UID:59726-1724331600-1724337000@southlakelc.org
SUMMARY:Small Group - Renschen's
DESCRIPTION:Meet us every Thursdays at 1pm at the Renschen’s home to discuss “NT in Antiquity – Studying the New Testament”  with a 27 week video Bible study presented by Gary M. Burge & Gene L. Green. \nSynopsis: The New Testament in Antiquity. The New Testament in Antiquity skillfully develops how Jewish\, Hellenistic\, and Roman cultures formed the essential environment in which the New Testament authors wrote their books and letters. Throughout the video lectures\, presenters Gary Burge and Gene Green provide windows into the first-century world and discuss issues of interpretation derived from cultural observations. You will learn how understanding the land\, history\, and culture of this world brings remarkable new insights into how we read the New Testament itself.\nFor more information and to register\, click here. \n  \nEngage | Grow | Share
URL:https://southlakelc.org/calendar/small-group-renschens-44
LOCATION:TX
CATEGORIES:Community,Food,Outreach
ATTACH;FMTTYPE=image/jpeg:https://southlakelc.org/wp-content/uploads/2023/03/small_groups-title-2-Wide-16x9-1.jpg
END:VEVENT
BEGIN:VEVENT
DTSTART;TZID=America/Chicago:20240824T080000
DTEND;TZID=America/Chicago:20240824T090000
DTSTAMP:20260425T232743
CREATED:20240729T195858Z
LAST-MODIFIED:20240729T195858Z
UID:63263-1724486400-1724490000@southlakelc.org
SUMMARY:Immerse
DESCRIPTION:This is a 16 Week Reading Plan: https://immersebible.com/chronicles-8-week/ \nGetting to know Jesus the best way possible. We’ll be reading together through the New Testament reading about God’s plan from getting to know who Jesus and the Church are as well as what does it mean to live a life as a Christian. Meet us 8am Saturdays at Noah’s Ark Café in Bacliff\, 4438 Boulevard St\, Bacliff\, TX 77518 \n\nContact Rob Bailey at rbailey@southlakelc.org\n\n  \nEngage | Grow | Share
URL:https://southlakelc.org/calendar/immerse-95
LOCATION:TX
END:VEVENT
BEGIN:VEVENT
DTSTART;TZID=America/Chicago:20240825T103000
DTEND;TZID=America/Chicago:20240825T113000
DTSTAMP:20260425T232743
CREATED:20220312T205546Z
LAST-MODIFIED:20230316T181155Z
UID:3649-1724581800-1724585400@southlakelc.org
SUMMARY:Weekly Worship
DESCRIPTION:Weekly Worship Sundays 10:30am\nHometown Heroes Park\n1001 E League City Pkwy\, League City\, TX 77573\n\n\nLive Stream – SouthLakeLC.org
URL:https://southlakelc.org/calendar/weekly-worship-2024-08-25
LOCATION:TX
ATTACH;FMTTYPE=image/jpeg:https://southlakelc.org/wp-content/uploads/2022/01/test-pic-of-church-scaled.jpg
END:VEVENT
BEGIN:VEVENT
DTSTART;TZID=America/Chicago:20240826T183000
DTEND;TZID=America/Chicago:20240826T200000
DTSTAMP:20260425T232743
CREATED:20240729T200959Z
LAST-MODIFIED:20240729T200959Z
UID:63292-1724697000-1724702400@southlakelc.org
SUMMARY:Discovering Jesus
DESCRIPTION:Join us with Discovering Jesus every 4th Monday at 6:30pm. We will begin with the Gospel of Mark; this will be an opportunity to begin reading the Bible in a way that changes how you read and think about it. There is no homework or extra readings and we encourage you to bring yourself and a friend. \nLocation: La Brisa League City. 501 N Wesley Dr\, League City\, TX 77573 \nMore Info \n  \nEngage | Grow | Share
URL:https://southlakelc.org/calendar/discovering-jesus-3
LOCATION:TX
CATEGORIES:Community,Food,Outreach
ATTACH;FMTTYPE=image/jpeg:https://southlakelc.org/wp-content/uploads/2024/06/discover-jesus-web-jpg-scaled.jpg
END:VEVENT
BEGIN:VEVENT
DTSTART;TZID=America/Chicago:20240826T190000
DTEND;TZID=America/Chicago:20240826T200000
DTSTAMP:20260425T232743
CREATED:20240826T145742Z
LAST-MODIFIED:20240826T145742Z
UID:65991-1724698800-1724702400@southlakelc.org
SUMMARY:Pints and Questions (Ps and Qs)
DESCRIPTION:Join us for Ps & Qs every 1st Tuesday at 7pm! This is a great opportunity to ask Pastor Rob questions!\nCheck out more info about the South Lake Church @ SouthLakeLC.org\n\nMeet us at Craft 96\, 2575 E League City Pkwy\, League City\, TX 77573\n\n  \nEngage | Grow | Share
URL:https://southlakelc.org/calendar/pints-and-questions-ps-and-qs-35
LOCATION:TX
CATEGORIES:Community,Food,Outreach
ATTACH;FMTTYPE=image/jpeg:https://southlakelc.org/wp-content/uploads/2024/06/psqs-web-scaled.jpg
END:VEVENT
BEGIN:VEVENT
DTSTART;TZID=America/Chicago:20240827T143000
DTEND;TZID=America/Chicago:20240827T160000
DTSTAMP:20260425T232743
CREATED:20240624T203917Z
LAST-MODIFIED:20240826T144706Z
UID:59780-1724769000-1724774400@southlakelc.org
SUMMARY:Small Group - Arbet's
DESCRIPTION:Meet us on the 2nd and 4th Tuesdays at 2:30pm at the Arbet home. We will be discussing the Serendipity Bible study called “Coping with Tough Times”. \nThis Small Group is for the Tuscan Lakes area. \nFor more information and to register\, click here. \n  \nEngage | Grow | Share
URL:https://southlakelc.org/calendar/small-group-arbets-34
LOCATION:TX
CATEGORIES:Community,Outreach
ATTACH;FMTTYPE=image/jpeg:https://southlakelc.org/wp-content/uploads/2023/03/small_groups-title-2-Wide-16x9-1.jpg
END:VEVENT
BEGIN:VEVENT
DTSTART;TZID=America/Chicago:20240828T070000
DTEND;TZID=America/Chicago:20240828T080000
DTSTAMP:20260425T232743
CREATED:20240729T200311Z
LAST-MODIFIED:20240729T200311Z
UID:63274-1724828400-1724832000@southlakelc.org
SUMMARY:Wednesday Recap Breakfast
DESCRIPTION:Got questions or thoughts from this past Sunday or just hungry to start your morning? Join us at Kelley’s Country Cookin 7am each Wednesday to go over the reading from last Sunday\, discuss\, and be together as we begin the work day. Another great opportunity to share with friends and invite them to get to know Jesus. \n1502 FM518\, League City\, TX 77573 \n  \nEngage | Grow | Share
URL:https://southlakelc.org/calendar/wednesday-recap-breakfast-87
LOCATION:TX
CATEGORIES:Community,Food,Outreach
ATTACH;FMTTYPE=image/jpeg:https://southlakelc.org/wp-content/uploads/2022/04/WednesdayRecapBreakfast.jpg
END:VEVENT
BEGIN:VEVENT
DTSTART;TZID=America/Chicago:20240829T130000
DTEND;TZID=America/Chicago:20240829T143000
DTSTAMP:20260425T232743
CREATED:20240624T201904Z
LAST-MODIFIED:20240624T201904Z
UID:59727-1724936400-1724941800@southlakelc.org
SUMMARY:Small Group - Renschen's
DESCRIPTION:Meet us every Thursdays at 1pm at the Renschen’s home to discuss “NT in Antiquity – Studying the New Testament”  with a 27 week video Bible study presented by Gary M. Burge & Gene L. Green. \nSynopsis: The New Testament in Antiquity. The New Testament in Antiquity skillfully develops how Jewish\, Hellenistic\, and Roman cultures formed the essential environment in which the New Testament authors wrote their books and letters. Throughout the video lectures\, presenters Gary Burge and Gene Green provide windows into the first-century world and discuss issues of interpretation derived from cultural observations. You will learn how understanding the land\, history\, and culture of this world brings remarkable new insights into how we read the New Testament itself.\nFor more information and to register\, click here. \n  \nEngage | Grow | Share
URL:https://southlakelc.org/calendar/small-group-renschens-45
LOCATION:TX
CATEGORIES:Community,Food,Outreach
ATTACH;FMTTYPE=image/jpeg:https://southlakelc.org/wp-content/uploads/2023/03/small_groups-title-2-Wide-16x9-1.jpg
END:VEVENT
BEGIN:VEVENT
DTSTART;TZID=America/Chicago:20240831T080000
DTEND;TZID=America/Chicago:20240831T090000
DTSTAMP:20260425T232743
CREATED:20240729T195902Z
LAST-MODIFIED:20240729T195902Z
UID:63264-1725091200-1725094800@southlakelc.org
SUMMARY:Immerse
DESCRIPTION:This is a 16 Week Reading Plan: https://immersebible.com/chronicles-8-week/ \nGetting to know Jesus the best way possible. We’ll be reading together through the New Testament reading about God’s plan from getting to know who Jesus and the Church are as well as what does it mean to live a life as a Christian. Meet us 8am Saturdays at Noah’s Ark Café in Bacliff\, 4438 Boulevard St\, Bacliff\, TX 77518 \n\nContact Rob Bailey at rbailey@southlakelc.org\n\n  \nEngage | Grow | Share
URL:https://southlakelc.org/calendar/immerse-96
LOCATION:TX
END:VEVENT
BEGIN:VEVENT
DTSTART;TZID=America/Chicago:20240901T103000
DTEND;TZID=America/Chicago:20240901T113000
DTSTAMP:20260425T232743
CREATED:20220312T205546Z
LAST-MODIFIED:20230316T181141Z
UID:3658-1725186600-1725190200@southlakelc.org
SUMMARY:Weekly Worship
DESCRIPTION:Weekly Worship Sundays 10:30am\nHometown Heroes Park\n1001 E League City Pkwy\, League City\, TX 77573\n\n\nLive Stream – SouthLakeLC.org
URL:https://southlakelc.org/calendar/weekly-worship-2024-09-01
LOCATION:TX
ATTACH;FMTTYPE=image/jpeg:https://southlakelc.org/wp-content/uploads/2022/01/test-pic-of-church-scaled.jpg
END:VEVENT
BEGIN:VEVENT
DTSTART;TZID=America/Chicago:20240904T070000
DTEND;TZID=America/Chicago:20240904T080000
DTSTAMP:20260425T232743
CREATED:20240729T200327Z
LAST-MODIFIED:20240729T200327Z
UID:63275-1725433200-1725436800@southlakelc.org
SUMMARY:Wednesday Recap Breakfast
DESCRIPTION:Got questions or thoughts from this past Sunday or just hungry to start your morning? Join us at Kelley’s Country Cookin 7am each Wednesday to go over the reading from last Sunday\, discuss\, and be together as we begin the work day. Another great opportunity to share with friends and invite them to get to know Jesus. \n1502 FM518\, League City\, TX 77573 \n  \nEngage | Grow | Share
URL:https://southlakelc.org/calendar/wednesday-recap-breakfast-88
LOCATION:TX
CATEGORIES:Community,Food,Outreach
ATTACH;FMTTYPE=image/jpeg:https://southlakelc.org/wp-content/uploads/2022/04/WednesdayRecapBreakfast.jpg
END:VEVENT
BEGIN:VEVENT
DTSTART;TZID=America/Chicago:20240905T130000
DTEND;TZID=America/Chicago:20240905T140000
DTSTAMP:20260425T232743
CREATED:20240826T150349Z
LAST-MODIFIED:20240826T150349Z
UID:66000-1725541200-1725544800@southlakelc.org
SUMMARY:Small Group - Renschen's
DESCRIPTION:Meet us every Thursdays at 1pm at the Renschen’s home to discuss “NT in Antiquity – Studying the New Testament”  with a 27 week video Bible study presented by Gary M. Burge & Gene L. Green. \nSynopsis: The New Testament in Antiquity. The New Testament in Antiquity skillfully develops how Jewish\, Hellenistic\, and Roman cultures formed the essential environment in which the New Testament authors wrote their books and letters. Throughout the video lectures\, presenters Gary Burge and Gene Green provide windows into the first-century world and discuss issues of interpretation derived from cultural observations. You will learn how understanding the land\, history\, and culture of this world brings remarkable new insights into how we read the New Testament itself.\nFor more information and to register\, click here. \n  \nEngage | Grow | Share
URL:https://southlakelc.org/calendar/small-group-renschens-49
LOCATION:TX
CATEGORIES:Community,Outreach
ATTACH;FMTTYPE=image/jpeg:https://southlakelc.org/wp-content/uploads/2023/03/small_groups-title-2-Wide-16x9-1.jpg
END:VEVENT
BEGIN:VEVENT
DTSTART;TZID=America/Chicago:20240907T080000
DTEND;TZID=America/Chicago:20240907T090000
DTSTAMP:20260425T232743
CREATED:20240729T195907Z
LAST-MODIFIED:20240729T195907Z
UID:63265-1725696000-1725699600@southlakelc.org
SUMMARY:Immerse
DESCRIPTION:This is a 16 Week Reading Plan: https://immersebible.com/chronicles-8-week/ \nGetting to know Jesus the best way possible. We’ll be reading together through the New Testament reading about God’s plan from getting to know who Jesus and the Church are as well as what does it mean to live a life as a Christian. Meet us 8am Saturdays at Noah’s Ark Café in Bacliff\, 4438 Boulevard St\, Bacliff\, TX 77518 \n\nContact Rob Bailey at rbailey@southlakelc.org\n\n  \nEngage | Grow | Share
URL:https://southlakelc.org/calendar/immerse-97
LOCATION:TX
END:VEVENT
BEGIN:VEVENT
DTSTART;TZID=America/Chicago:20240907T080000
DTEND;TZID=America/Chicago:20240907T090000
DTSTAMP:20260425T232743
CREATED:20240826T150850Z
LAST-MODIFIED:20240826T150850Z
UID:66013-1725696000-1725699600@southlakelc.org
SUMMARY:Immerse
DESCRIPTION:This is a 8 Week Reading Plan: https://immersebible.com/chronicles-8-week/ \nGetting to know Jesus the best way possible. We’ll be reading together through the New Testament reading about God’s plan from getting to know who Jesus and the Church are as well as what does it mean to live a life as a Christian. Meet us 8am Saturdays at Noah’s Ark Café in Bacliff\, 4438 Boulevard St\, Bacliff\, TX 77518 \n\nContact Rob Bailey at rbailey@southlakelc.org\n\n  \nEngage | Grow | Share
URL:https://southlakelc.org/calendar/immerse-100
LOCATION:TX
CATEGORIES:Community,Food,Outreach
ATTACH;FMTTYPE=image/jpeg:https://southlakelc.org/wp-content/uploads/2024/06/Immerse-Update-Recoveredweb-scaled.jpg
END:VEVENT
END:VCALENDAR