BEGIN:VCALENDAR
VERSION:2.0
PRODID:-//South Lake Church - ECPv6.15.20//NONSGML v1.0//EN
CALSCALE:GREGORIAN
METHOD:PUBLISH
X-WR-CALNAME:South Lake Church
X-ORIGINAL-URL:https://southlakelc.org
X-WR-CALDESC:Events for South Lake Church
REFRESH-INTERVAL;VALUE=DURATION:PT1H
X-Robots-Tag:noindex
X-PUBLISHED-TTL:PT1H
BEGIN:VTIMEZONE
TZID:America/Chicago
BEGIN:DAYLIGHT
TZOFFSETFROM:-0600
TZOFFSETTO:-0500
TZNAME:CDT
DTSTART:20250309T080000
END:DAYLIGHT
BEGIN:STANDARD
TZOFFSETFROM:-0500
TZOFFSETTO:-0600
TZNAME:CST
DTSTART:20251102T070000
END:STANDARD
BEGIN:DAYLIGHT
TZOFFSETFROM:-0600
TZOFFSETTO:-0500
TZNAME:CDT
DTSTART:20260308T080000
END:DAYLIGHT
BEGIN:STANDARD
TZOFFSETFROM:-0500
TZOFFSETTO:-0600
TZNAME:CST
DTSTART:20261101T070000
END:STANDARD
BEGIN:DAYLIGHT
TZOFFSETFROM:-0600
TZOFFSETTO:-0500
TZNAME:CDT
DTSTART:20270314T080000
END:DAYLIGHT
BEGIN:STANDARD
TZOFFSETFROM:-0500
TZOFFSETTO:-0600
TZNAME:CST
DTSTART:20271107T070000
END:STANDARD
END:VTIMEZONE
BEGIN:VEVENT
DTSTART;TZID=America/Chicago:20260624T130000
DTEND;TZID=America/Chicago:20260624T140000
DTSTAMP:20260425T060955
CREATED:20260122T194304Z
LAST-MODIFIED:20260122T194304Z
UID:117298-1782306000-1782309600@southlakelc.org
SUMMARY:Renschen's Small Group
DESCRIPTION:Meet us Wednesday’s at 1pm at the Renschen’s home. \nFor more information and to register\, click here. \n  \nEngage | Grow | Share
URL:https://southlakelc.org/calendar/renschens-small-group-28
CATEGORIES:Community,Outreach
END:VEVENT
BEGIN:VEVENT
DTSTART;TZID=America/Chicago:20260625T121500
DTEND;TZID=America/Chicago:20260625T140000
DTSTAMP:20260425T060955
CREATED:20260122T170837Z
LAST-MODIFIED:20260421T120358Z
UID:117089-1782389700-1782396000@southlakelc.org
SUMMARY:South Lake Luncheon
DESCRIPTION:Bring your appetite and a friend as we gather. As we meet for lunch\, we’ll get to know one another and enjoy great food. \n  \nEngage | Grow | Share
URL:https://southlakelc.org/calendar/south-lake-luncheon-86
LOCATION:La Brisa Mexican Restaurant\, 501 N Wesley Dr\, League City\, TX\, 77573\, United States
CATEGORIES:Community,Food,Outreach
END:VEVENT
BEGIN:VEVENT
DTSTART;TZID=America/Chicago:20260627T080000
DTEND;TZID=America/Chicago:20260627T100000
DTSTAMP:20260425T060955
CREATED:20260331T104345Z
LAST-MODIFIED:20260331T104345Z
UID:123969-1782547200-1782554400@southlakelc.org
SUMMARY:Immerse Bible Study
DESCRIPTION:Join us for breakfast and fellowship. This week is Poets\, week 10. \nMeet us 8am Saturdays at Noah’s Ark Café in Bacliff\, 4438 Boulevard St\, Bacliff\, TX 77518 \n\nPoets 16-Week Reading Plan \n\nMore Info: Contact Rob Bailey at rbailey@southlakelc.org \nTo register: https://southlakelc.churchcenter.com/registrations/events/3297173 \nEngage | Grow | Share
URL:https://southlakelc.org/calendar/immerse-bible-study-27
LOCATION:Noah’s Ark\, 4438 Boulevard St\, Bacliff\, TX\, 77518\, United States
CATEGORIES:Community,Food,Outreach
END:VEVENT
BEGIN:VEVENT
DTSTART;TZID=America/Chicago:20260628T103000
DTEND;TZID=America/Chicago:20260628T120000
DTSTAMP:20260425T060955
CREATED:20260120T113006Z
LAST-MODIFIED:20260120T113030Z
UID:116609-1782642600-1782648000@southlakelc.org
SUMMARY:Weekly Worship- No Communion Sunday
DESCRIPTION:Weekly Worship Sundays 10:30am\nWe are meeting at Hometown Heroes Park 1001 E League City Pkwy\, League City\, TX 77573 League City\, TX 77573.\n\n\nLive Stream – SouthLakeLC.org
URL:https://southlakelc.org/calendar/weekly-worship-no-communion-sunday-12
CATEGORIES:Community,Music,Outreach,Worship
END:VEVENT
BEGIN:VEVENT
DTSTART;TZID=America/Chicago:20260630T140000
DTEND;TZID=America/Chicago:20260630T150000
DTSTAMP:20260425T060955
CREATED:20260120T134636Z
LAST-MODIFIED:20260121T142506Z
UID:116686-1782828000-1782831600@southlakelc.org
SUMMARY:Prayer @ 2
DESCRIPTION:Join Pastor Rob every Tuesday at 2 for prayer time at Panera. Location: Panera. 2630 Gulf Fwy Suite A\, League City\, TX 77573 \nEngage | Grow | Share
URL:https://southlakelc.org/calendar/prayer-2-30
LOCATION:Panera Bread (2630 Gulf Freeway\, Suite A\, League City\, TX 77573\, United States)
CATEGORIES:Community,Food,Outreach
END:VEVENT
BEGIN:VEVENT
DTSTART;TZID=America/Chicago:20260701T070000
DTEND;TZID=America/Chicago:20260701T080000
DTSTAMP:20260425T060955
CREATED:20260122T135437Z
LAST-MODIFIED:20260122T135437Z
UID:116977-1782889200-1782892800@southlakelc.org
SUMMARY:Wednesday Morning Recap
DESCRIPTION:Got questions or thoughts from this past Sunday or just hungry to start your morning? Join us at Kelley’s Country Cookin’ 7:00 AM each Wednesday to go over the reading from last Sunday\, discuss\, and be together as we begin the work day. Another great opportunity to share with friends and invite them to get to know Jesus. \n1502 FM518\, League City\, TX 77573 \n  \nEngage | Grow | Share
URL:https://southlakelc.org/calendar/wednesday-morning-recap-32
LOCATION:Kelley’s Country Cookin’\, 1502 West Main Street\, League City\, TX\, 77573\, United States
CATEGORIES:Community,Food,Outreach
END:VEVENT
BEGIN:VEVENT
DTSTART;TZID=America/Chicago:20260701T130000
DTEND;TZID=America/Chicago:20260701T140000
DTSTAMP:20260425T060955
CREATED:20260122T194416Z
LAST-MODIFIED:20260122T194416Z
UID:117300-1782910800-1782914400@southlakelc.org
SUMMARY:Renschen's Small Group
DESCRIPTION:Meet us Wednesday’s at 1pm at the Renschen’s home. \nFor more information and to register\, click here. \n  \nEngage | Grow | Share
URL:https://southlakelc.org/calendar/renschens-small-group-29
CATEGORIES:Community,Outreach
END:VEVENT
BEGIN:VEVENT
DTSTART;TZID=America/Chicago:20260704T080000
DTEND;TZID=America/Chicago:20260704T100000
DTSTAMP:20260425T060955
CREATED:20260331T104820Z
LAST-MODIFIED:20260331T104820Z
UID:123971-1783152000-1783159200@southlakelc.org
SUMMARY:Immerse Bible Study
DESCRIPTION:Join us for breakfast and fellowship. This week is Poets\, week 11. \nMeet us 8am Saturdays at Noah’s Ark Café in Bacliff\, 4438 Boulevard St\, Bacliff\, TX 77518 \n\nPoets 16-Week Reading Plan \n\nMore Info: Contact Rob Bailey at rbailey@southlakelc.org \nTo register: https://southlakelc.churchcenter.com/registrations/events/3297173 \nEngage | Grow | Share
URL:https://southlakelc.org/calendar/immerse-bible-study-28
LOCATION:Noah’s Ark\, 4438 Boulevard St\, Bacliff\, TX\, 77518\, United States
CATEGORIES:Community,Food,Outreach
END:VEVENT
BEGIN:VEVENT
DTSTART;TZID=America/Chicago:20260705T103000
DTEND;TZID=America/Chicago:20260705T120000
DTSTAMP:20260425T060955
CREATED:20260120T104552Z
LAST-MODIFIED:20260120T104552Z
UID:116555-1783247400-1783252800@southlakelc.org
SUMMARY:Weekly Worship- Communion Sunday
DESCRIPTION:Weekly Worship Sundays 10:30am\nWe are meeting at Hometown Heroes Park 1001 E League City Pkwy\, League City\, TX 77573 League City\, TX 77573.\n\n\nLive Stream – SouthLakeLC.org
URL:https://southlakelc.org/calendar/weekly-worship-communion-sunday-21
LOCATION:Hometown Heroes Park\, 1001 E League City Pkwy\, League City\, TX\, 77573\, United States
CATEGORIES:Community,Music,Outreach,Worship
END:VEVENT
BEGIN:VEVENT
DTSTART;TZID=America/Chicago:20260707T140000
DTEND;TZID=America/Chicago:20260707T150000
DTSTAMP:20260425T060955
CREATED:20260120T134736Z
LAST-MODIFIED:20260121T142312Z
UID:116688-1783432800-1783436400@southlakelc.org
SUMMARY:Prayer @ 2
DESCRIPTION:Join Pastor Rob every Tuesday at 2 for prayer time at Panera. Location: Panera. 2630 Gulf Fwy Suite A\, League City\, TX 77573 \nEngage | Grow | Share
URL:https://southlakelc.org/calendar/prayer-2-31
LOCATION:Panera Bread (2630 Gulf Freeway\, Suite A\, League City\, TX 77573\, United States)
CATEGORIES:Community,Food,Outreach
END:VEVENT
BEGIN:VEVENT
DTSTART;TZID=America/Chicago:20260707T190000
DTEND;TZID=America/Chicago:20260707T200000
DTSTAMP:20260425T060955
CREATED:20260120T100157Z
LAST-MODIFIED:20260120T100157Z
UID:116493-1783450800-1783454400@southlakelc.org
SUMMARY:Pints & Questions (Ps & Qs)
DESCRIPTION:Join us for Ps & Qs every 1st Tuesday at 7pm! This is a great opportunity to ask Pastor Rob questions!\nCheck out more info about the South Lake Church @ SouthLakeLC.org\n\nMeet us at Craft 96\, 2575 E League City Pkwy\, League City\, TX 77573\n\n  \nEngage | Grow | Share
URL:https://southlakelc.org/calendar/pints-questions-ps-qs-8
LOCATION:Craft 96\, 2575 League City Pkwy\, League City\, TX\, 77573\, United States
CATEGORIES:Community,Food,Outreach
END:VEVENT
BEGIN:VEVENT
DTSTART;TZID=America/Chicago:20260708T070000
DTEND;TZID=America/Chicago:20260708T080000
DTSTAMP:20260425T060955
CREATED:20260122T135531Z
LAST-MODIFIED:20260122T135531Z
UID:116979-1783494000-1783497600@southlakelc.org
SUMMARY:Wednesday Morning Recap
DESCRIPTION:Got questions or thoughts from this past Sunday or just hungry to start your morning? Join us at Kelley’s Country Cookin’ 7:00 AM each Wednesday to go over the reading from last Sunday\, discuss\, and be together as we begin the work day. Another great opportunity to share with friends and invite them to get to know Jesus. \n1502 FM518\, League City\, TX 77573 \n  \nEngage | Grow | Share
URL:https://southlakelc.org/calendar/wednesday-morning-recap-33
LOCATION:Kelley’s Country Cookin’\, 1502 West Main Street\, League City\, TX\, 77573\, United States
CATEGORIES:Community,Food,Outreach
END:VEVENT
BEGIN:VEVENT
DTSTART;TZID=America/Chicago:20260708T130000
DTEND;TZID=America/Chicago:20260708T140000
DTSTAMP:20260425T060955
CREATED:20260122T194544Z
LAST-MODIFIED:20260122T194544Z
UID:117302-1783515600-1783519200@southlakelc.org
SUMMARY:Renschen's Small Group
DESCRIPTION:Meet us Wednesday’s at 1pm at the Renschen’s home. \nFor more information and to register\, click here. \n  \nEngage | Grow | Share
URL:https://southlakelc.org/calendar/renschens-small-group-30
CATEGORIES:Community,Outreach
END:VEVENT
BEGIN:VEVENT
DTSTART;TZID=America/Chicago:20260709T121500
DTEND;TZID=America/Chicago:20260709T140000
DTSTAMP:20260425T060955
CREATED:20260122T171032Z
LAST-MODIFIED:20260421T120338Z
UID:117091-1783599300-1783605600@southlakelc.org
SUMMARY:South Lake Luncheon
DESCRIPTION:Bring your appetite and a friend as we gather. As we meet for lunch\, we’ll get to know one another and enjoy great food. \n  \nEngage | Grow | Share
URL:https://southlakelc.org/calendar/south-lake-luncheon-87
LOCATION:La Brisa Mexican Restaurant\, 501 N Wesley Dr\, League City\, TX\, 77573\, United States
CATEGORIES:Community,Food,Outreach
END:VEVENT
BEGIN:VEVENT
DTSTART;TZID=America/Chicago:20260710T183000
DTEND;TZID=America/Chicago:20260710T200000
DTSTAMP:20260425T060955
CREATED:20260122T174053Z
LAST-MODIFIED:20260122T174053Z
UID:117126-1783708200-1783713600@southlakelc.org
SUMMARY:Guys' Gathering
DESCRIPTION:Men of South Lake\, we are having our next guys gathering. Join us as we take time to be together\, share what’s going on with all the craziness of our life. Bring a side dish (chips or nuts count) Come together for whisky or drink of choice\, cigars\, and a side. \nLocation: TBD \nFor more information and to register\, click here. \n  \nEngage | Grow | Share
URL:https://southlakelc.org/calendar/guys-gathering-43
CATEGORIES:Community,Food,Outreach
END:VEVENT
BEGIN:VEVENT
DTSTART;TZID=America/Chicago:20260711T080000
DTEND;TZID=America/Chicago:20260711T100000
DTSTAMP:20260425T060955
CREATED:20260331T105313Z
LAST-MODIFIED:20260331T105313Z
UID:123973-1783756800-1783764000@southlakelc.org
SUMMARY:Immerse Bible Study
DESCRIPTION:Join us for breakfast and fellowship. This week is Poets\, week 12. \nMeet us 8am Saturdays at Noah’s Ark Café in Bacliff\, 4438 Boulevard St\, Bacliff\, TX 77518 \n\nPoets 16-Week Reading Plan \n\nMore Info: Contact Rob Bailey at rbailey@southlakelc.org \nTo register: https://southlakelc.churchcenter.com/registrations/events/3297173 \nEngage | Grow | Share
URL:https://southlakelc.org/calendar/immerse-bible-study-29
LOCATION:Noah’s Ark\, 4438 Boulevard St\, Bacliff\, TX\, 77518\, United States
CATEGORIES:Community,Food,Outreach
END:VEVENT
BEGIN:VEVENT
DTSTART;TZID=America/Chicago:20260712T103000
DTEND;TZID=America/Chicago:20260712T120000
DTSTAMP:20260425T060955
CREATED:20260120T113156Z
LAST-MODIFIED:20260120T113156Z
UID:116611-1783852200-1783857600@southlakelc.org
SUMMARY:Weekly Worship- No Communion Sunday
DESCRIPTION:Weekly Worship Sundays 10:30am\nWe are meeting at Hometown Heroes Park 1001 E League City Pkwy\, League City\, TX 77573 League City\, TX 77573.\n\n\nLive Stream – SouthLakeLC.org
URL:https://southlakelc.org/calendar/weekly-worship-no-communion-sunday-13
LOCATION:Hometown Heroes Park\, 1001 E League City Pkwy\, League City\, TX\, 77573\, United States
CATEGORIES:Community,Music,Outreach,Worship
END:VEVENT
BEGIN:VEVENT
DTSTART;TZID=America/Chicago:20260714T140000
DTEND;TZID=America/Chicago:20260714T150000
DTSTAMP:20260425T060955
CREATED:20260120T134906Z
LAST-MODIFIED:20260120T152611Z
UID:116690-1784037600-1784041200@southlakelc.org
SUMMARY:Prayer @ 2
DESCRIPTION:Join Pastor Rob every Tuesday at 2 for prayer time at Panera. Location: Panera. 2630 Gulf Fwy Suite A\, League City\, TX 77573 \nEngage | Grow | Share
URL:https://southlakelc.org/calendar/prayer-2-32
LOCATION:Panera Bread (2630 Gulf Freeway\, Suite A\, League City\, TX 77573\, United States)
CATEGORIES:Community,Food,Outreach
END:VEVENT
BEGIN:VEVENT
DTSTART;TZID=America/Chicago:20260714T140000
DTEND;TZID=America/Chicago:20260714T150000
DTSTAMP:20260425T060955
CREATED:20260122T184957Z
LAST-MODIFIED:20260122T184957Z
UID:117215-1784037600-1784041200@southlakelc.org
SUMMARY:Arbet's Small Group
DESCRIPTION:Meet us on the 2nd and 4th Tuesdays at 2:30pm at the Arbet home. \nThis Small Group is for the Tuscan Lakes area. \nFor more information and to register\, click here. \n  \nEngage | Grow | Share
URL:https://southlakelc.org/calendar/arbets-small-group-14
CATEGORIES:Community,Outreach
END:VEVENT
BEGIN:VEVENT
DTSTART;TZID=America/Chicago:20260715T070000
DTEND;TZID=America/Chicago:20260715T080000
DTSTAMP:20260425T060955
CREATED:20260122T135627Z
LAST-MODIFIED:20260122T135627Z
UID:116981-1784098800-1784102400@southlakelc.org
SUMMARY:Wednesday Morning Recap
DESCRIPTION:Got questions or thoughts from this past Sunday or just hungry to start your morning? Join us at Kelley’s Country Cookin’ 7:00 AM each Wednesday to go over the reading from last Sunday\, discuss\, and be together as we begin the work day. Another great opportunity to share with friends and invite them to get to know Jesus. \n1502 FM518\, League City\, TX 77573 \n  \nEngage | Grow | Share
URL:https://southlakelc.org/calendar/wednesday-morning-recap-34
LOCATION:Kelley’s Country Cookin’\, 1502 West Main Street\, League City\, TX\, 77573\, United States
CATEGORIES:Community,Food,Outreach
END:VEVENT
BEGIN:VEVENT
DTSTART;TZID=America/Chicago:20260715T130000
DTEND;TZID=America/Chicago:20260715T140000
DTSTAMP:20260425T060955
CREATED:20260122T194629Z
LAST-MODIFIED:20260122T194629Z
UID:117304-1784120400-1784124000@southlakelc.org
SUMMARY:Renschen's Small Group
DESCRIPTION:Meet us Wednesday’s at 1pm at the Renschen’s home. \nFor more information and to register\, click here. \n  \nEngage | Grow | Share
URL:https://southlakelc.org/calendar/renschens-small-group-31
CATEGORIES:Community,Outreach
END:VEVENT
BEGIN:VEVENT
DTSTART;TZID=America/Chicago:20260717T183000
DTEND;TZID=America/Chicago:20260717T200000
DTSTAMP:20260425T060955
CREATED:20260122T180041Z
LAST-MODIFIED:20260122T180041Z
UID:117151-1784313000-1784318400@southlakelc.org
SUMMARY:Renewal- A Women's Gathering
DESCRIPTION:Renewal is South Lake’s Women’s Gathering. A chance for women from all over our League City community to gather together\, be renewed from all that life throws at us and be reminded we walk together on our faith journey. \n\nLocation: TBA \nFor more information and to register: click here \n\n  \nEngage | Grow | Share
URL:https://southlakelc.org/calendar/renewal-a-womens-gathering-6
CATEGORIES:Community,Food,Outreach
END:VEVENT
BEGIN:VEVENT
DTSTART;TZID=America/Chicago:20260718T080000
DTEND;TZID=America/Chicago:20260718T100000
DTSTAMP:20260425T060955
CREATED:20260331T105435Z
LAST-MODIFIED:20260331T105435Z
UID:123975-1784361600-1784368800@southlakelc.org
SUMMARY:Immerse Bible Study
DESCRIPTION:Join us for breakfast and fellowship. This week is Poets\, week 13. \nMeet us 8am Saturdays at Noah’s Ark Café in Bacliff\, 4438 Boulevard St\, Bacliff\, TX 77518 \n\nPoets 16-Week Reading Plan \n\nMore Info: Contact Rob Bailey at rbailey@southlakelc.org \nTo register: https://southlakelc.churchcenter.com/registrations/events/3297173 \nEngage | Grow | Share
URL:https://southlakelc.org/calendar/immerse-bible-study-30
LOCATION:Noah’s Ark\, 4438 Boulevard St\, Bacliff\, TX\, 77518\, United States
CATEGORIES:Community,Food,Outreach
END:VEVENT
BEGIN:VEVENT
DTSTART;TZID=America/Chicago:20260719T080000
DTEND;TZID=America/Chicago:20260719T170000
DTSTAMP:20260425T060955
CREATED:20260120T104928Z
LAST-MODIFIED:20260120T104928Z
UID:116559-1784448000-1784480400@southlakelc.org
SUMMARY:Weekly Worship- Communion Sunday
DESCRIPTION:Weekly Worship Sundays 10:30am\nWe are meeting at Hometown Heroes Park 1001 E League City Pkwy\, League City\, TX 77573 League City\, TX 77573.\n\n\nLive Stream – SouthLakeLC.org
URL:https://southlakelc.org/calendar/weekly-worship-communion-sunday-23
CATEGORIES:Community,Music,Outreach,Worship
END:VEVENT
BEGIN:VEVENT
DTSTART;TZID=America/Chicago:20260719T123000
DTEND;TZID=America/Chicago:20260719T140000
DTSTAMP:20260425T060955
CREATED:20260122T182433Z
LAST-MODIFIED:20260122T182433Z
UID:117177-1784464200-1784469600@southlakelc.org
SUMMARY:Sunday Funday
DESCRIPTION:Welcome to South Lake’s Sunday Funday Gathering. A chance to gather together after church and have lunch. We go to different restaurants South of the Lake monthly to enjoy the food and people. \nThis Month’s location is TBD \nFor more information and to let us know you’re coming\, clicking here. \n\nEngage | Grow | Share
URL:https://southlakelc.org/calendar/sunday-funday-29
CATEGORIES:Community,Food,Outreach
END:VEVENT
BEGIN:VEVENT
DTSTART;TZID=America/Chicago:20260721T140000
DTEND;TZID=America/Chicago:20260721T150000
DTSTAMP:20260425T060955
CREATED:20260120T135051Z
LAST-MODIFIED:20260120T152015Z
UID:116692-1784642400-1784646000@southlakelc.org
SUMMARY:Prayer @ 2
DESCRIPTION:Join Pastor Rob every Tuesday at 2 for prayer time at Panera. Location: Panera. 2630 Gulf Fwy Suite A\, League City\, TX 77573 \nEngage | Grow | Share
URL:https://southlakelc.org/calendar/prayer-2-33
LOCATION:Panera Bread (2630 Gulf Freeway\, Suite A\, League City\, TX 77573\, United States)
CATEGORIES:Community,Food,Outreach
END:VEVENT
BEGIN:VEVENT
DTSTART;TZID=America/Chicago:20260722T070000
DTEND;TZID=America/Chicago:20260722T080000
DTSTAMP:20260425T060955
CREATED:20260122T135727Z
LAST-MODIFIED:20260122T135727Z
UID:116983-1784703600-1784707200@southlakelc.org
SUMMARY:Wednesday Morning Recap
DESCRIPTION:Got questions or thoughts from this past Sunday or just hungry to start your morning? Join us at Kelley’s Country Cookin’ 7:00 AM each Wednesday to go over the reading from last Sunday\, discuss\, and be together as we begin the work day. Another great opportunity to share with friends and invite them to get to know Jesus. \n1502 FM518\, League City\, TX 77573 \n  \nEngage | Grow | Share
URL:https://southlakelc.org/calendar/wednesday-morning-recap-35
LOCATION:Kelley’s Country Cookin’\, 1502 West Main Street\, League City\, TX\, 77573\, United States
CATEGORIES:Community,Food,Outreach
END:VEVENT
BEGIN:VEVENT
DTSTART;TZID=America/Chicago:20260722T130000
DTEND;TZID=America/Chicago:20260722T140000
DTSTAMP:20260425T060955
CREATED:20260122T194751Z
LAST-MODIFIED:20260122T194751Z
UID:117306-1784725200-1784728800@southlakelc.org
SUMMARY:Renschen's Small Group
DESCRIPTION:Meet us Wednesday’s at 1pm at the Renschen’s home. \nFor more information and to register\, click here. \n  \nEngage | Grow | Share
URL:https://southlakelc.org/calendar/renschens-small-group-32
CATEGORIES:Community,Outreach
END:VEVENT
BEGIN:VEVENT
DTSTART;TZID=America/Chicago:20260723T121500
DTEND;TZID=America/Chicago:20260723T140000
DTSTAMP:20260425T060955
CREATED:20260122T171200Z
LAST-MODIFIED:20260421T115844Z
UID:117093-1784808900-1784815200@southlakelc.org
SUMMARY:South Lake Luncheon
DESCRIPTION:Bring your appetite and a friend as we gather. As we meet for lunch\, we’ll get to know one another and enjoy great food. \n  \nEngage | Grow | Share
URL:https://southlakelc.org/calendar/south-lake-luncheon-88
LOCATION:La Brisa Mexican Restaurant\, 501 N Wesley Dr\, League City\, TX\, 77573\, United States
CATEGORIES:Community,Food,Outreach
END:VEVENT
BEGIN:VEVENT
DTSTART;TZID=America/Chicago:20260725T080000
DTEND;TZID=America/Chicago:20260725T100000
DTSTAMP:20260425T060955
CREATED:20260331T105746Z
LAST-MODIFIED:20260331T105746Z
UID:123977-1784966400-1784973600@southlakelc.org
SUMMARY:Immerse Bible Study
DESCRIPTION:Join us for breakfast and fellowship. This week is Poets\, week 14. \nMeet us 8am Saturdays at Noah’s Ark Café in Bacliff\, 4438 Boulevard St\, Bacliff\, TX 77518 \n\nPoets 16-Week Reading Plan \n\nMore Info: Contact Rob Bailey at rbailey@southlakelc.org \nTo register: https://southlakelc.churchcenter.com/registrations/events/3297173 \nEngage | Grow | Share
URL:https://southlakelc.org/calendar/immerse-bible-study-31
LOCATION:Noah’s Ark\, 4438 Boulevard St\, Bacliff\, TX\, 77518\, United States
CATEGORIES:Community,Food,Outreach
END:VEVENT
END:VCALENDAR