BEGIN:VCALENDAR
VERSION:2.0
PRODID:-//South Lake Church - ECPv6.15.20//NONSGML v1.0//EN
CALSCALE:GREGORIAN
METHOD:PUBLISH
X-ORIGINAL-URL:https://southlakelc.org
X-WR-CALDESC:Events for South Lake Church
REFRESH-INTERVAL;VALUE=DURATION:PT1H
X-Robots-Tag:noindex
X-PUBLISHED-TTL:PT1H
BEGIN:VTIMEZONE
TZID:America/Chicago
BEGIN:DAYLIGHT
TZOFFSETFROM:-0600
TZOFFSETTO:-0500
TZNAME:CDT
DTSTART:20250309T080000
END:DAYLIGHT
BEGIN:STANDARD
TZOFFSETFROM:-0500
TZOFFSETTO:-0600
TZNAME:CST
DTSTART:20251102T070000
END:STANDARD
BEGIN:DAYLIGHT
TZOFFSETFROM:-0600
TZOFFSETTO:-0500
TZNAME:CDT
DTSTART:20260308T080000
END:DAYLIGHT
BEGIN:STANDARD
TZOFFSETFROM:-0500
TZOFFSETTO:-0600
TZNAME:CST
DTSTART:20261101T070000
END:STANDARD
BEGIN:DAYLIGHT
TZOFFSETFROM:-0600
TZOFFSETTO:-0500
TZNAME:CDT
DTSTART:20270314T080000
END:DAYLIGHT
BEGIN:STANDARD
TZOFFSETFROM:-0500
TZOFFSETTO:-0600
TZNAME:CST
DTSTART:20271107T070000
END:STANDARD
END:VTIMEZONE
BEGIN:VEVENT
DTSTART;TZID=America/Chicago:20260502T080000
DTEND;TZID=America/Chicago:20260502T100000
DTSTAMP:20260425T092533
CREATED:20260331T101939Z
LAST-MODIFIED:20260331T103150Z
UID:123943-1777708800-1777716000@southlakelc.org
SUMMARY:Immerse Bible Study
DESCRIPTION:Join us for breakfast and fellowship. This week is Poets\, week 2. \nMeet us 8am Saturdays at Noah’s Ark Café in Bacliff\, 4438 Boulevard St\, Bacliff\, TX 77518 \n\nPoets 16-Week Reading Plan \n\nMore Info: Contact Rob Bailey at rbailey@southlakelc.org \nTo register: https://southlakelc.churchcenter.com/registrations/events/3297173 \nEngage | Grow | Share
URL:https://southlakelc.org/calendar/123943
LOCATION:Noah’s Ark\, 4438 Boulevard St\, Bacliff\, TX\, 77518\, United States
CATEGORIES:Community,Food,Outreach
END:VEVENT
BEGIN:VEVENT
DTSTART;TZID=America/Chicago:20260503T103000
DTEND;TZID=America/Chicago:20260503T120000
DTSTAMP:20260425T092533
CREATED:20260120T104033Z
LAST-MODIFIED:20260120T104033Z
UID:116544-1777804200-1777809600@southlakelc.org
SUMMARY:Weekly Worship- Communion Sunday
DESCRIPTION:Weekly Worship Sundays 10:30am\nWe are meeting at Hometown Heroes Park 1001 E League City Pkwy\, League City\, TX 77573 League City\, TX 77573.\n\n\nLive Stream – SouthLakeLC.org
URL:https://southlakelc.org/calendar/weekly-worship-communion-sunday-16
LOCATION:Hometown Heroes Park\, 1001 E League City Pkwy\, League City\, TX\, 77573\, United States
CATEGORIES:Community,Music,Outreach,Worship
END:VEVENT
BEGIN:VEVENT
DTSTART;TZID=America/Chicago:20260505T140000
DTEND;TZID=America/Chicago:20260505T150000
DTSTAMP:20260425T092533
CREATED:20260120T133815Z
LAST-MODIFIED:20260121T144308Z
UID:116669-1777989600-1777993200@southlakelc.org
SUMMARY:Prayer @ 2
DESCRIPTION:Join Pastor Rob every Tuesday at 2 for prayer time at Panera. Location: Panera. 2630 Gulf Fwy Suite A\, League City\, TX 77573 \nEngage | Grow | Share
URL:https://southlakelc.org/calendar/prayer-2-22
LOCATION:Panera Bread (2630 Gulf Freeway\, Suite A\, League City\, TX 77573\, United States)
CATEGORIES:Community,Food,Outreach
END:VEVENT
BEGIN:VEVENT
DTSTART;TZID=America/Chicago:20260505T190000
DTEND;TZID=America/Chicago:20260505T200000
DTSTAMP:20260425T092533
CREATED:20260120T095807Z
LAST-MODIFIED:20260120T095807Z
UID:116489-1778007600-1778011200@southlakelc.org
SUMMARY:Pints & Questions (Ps & Qs)
DESCRIPTION:Join us for Ps & Qs every 1st Tuesday at 7pm! This is a great opportunity to ask Pastor Rob questions!\nCheck out more info about the South Lake Church @ SouthLakeLC.org\n\nMeet us at Craft 96\, 2575 E League City Pkwy\, League City\, TX 77573\n\n  \nEngage | Grow | Share
URL:https://southlakelc.org/calendar/pints-questions-ps-qs-6
LOCATION:Craft 96\, 2575 League City Pkwy\, League City\, TX\, 77573\, United States
CATEGORIES:Community,Food,Outreach
END:VEVENT
BEGIN:VEVENT
DTSTART;TZID=America/Chicago:20260506T070000
DTEND;TZID=America/Chicago:20260506T080000
DTSTAMP:20260425T092533
CREATED:20260121T152903Z
LAST-MODIFIED:20260121T152903Z
UID:116871-1778050800-1778054400@southlakelc.org
SUMMARY:Wednesday Morning Recap
DESCRIPTION:Got questions or thoughts from this past Sunday or just hungry to start your morning? Join us at Kelley’s Country Cookin’ 7:00 AM each Wednesday to go over the reading from last Sunday\, discuss\, and be together as we begin the work day. Another great opportunity to share with friends and invite them to get to know Jesus. \n1502 FM518\, League City\, TX 77573 \n  \nEngage | Grow | Share
URL:https://southlakelc.org/calendar/wednesday-morning-recap-24
CATEGORIES:Community,Food,Outreach
END:VEVENT
BEGIN:VEVENT
DTSTART;TZID=America/Chicago:20260506T130000
DTEND;TZID=America/Chicago:20260506T140000
DTSTAMP:20260425T092533
CREATED:20260122T193624Z
LAST-MODIFIED:20260122T193624Z
UID:117283-1778072400-1778076000@southlakelc.org
SUMMARY:Renschen's Small Group
DESCRIPTION:Meet us Wednesday’s at 1pm at the Renschen’s home. \nFor more information and to register\, click here. \n  \nEngage | Grow | Share
URL:https://southlakelc.org/calendar/renschens-small-group-21
CATEGORIES:Community,Outreach
END:VEVENT
BEGIN:VEVENT
DTSTART;TZID=America/Chicago:20260508T183000
DTEND;TZID=America/Chicago:20260508T200000
DTSTAMP:20260425T092533
CREATED:20260122T173730Z
LAST-MODIFIED:20260122T173730Z
UID:117122-1778265000-1778270400@southlakelc.org
SUMMARY:Guys' Gathering
DESCRIPTION:Men of South Lake\, we are having our next guys gathering. Join us as we take time to be together\, share what’s going on with all the craziness of our life. Bring a side dish (chips or nuts count) Come together for whisky or drink of choice\, cigars\, and a side. \nLocation: TBD \nFor more information and to register\, click here. \n  \nEngage | Grow | Share
URL:https://southlakelc.org/calendar/guys-gathering-41
CATEGORIES:Community,Food,Outreach
END:VEVENT
BEGIN:VEVENT
DTSTART;TZID=America/Chicago:20260509T080000
DTEND;TZID=America/Chicago:20260509T100000
DTSTAMP:20260425T092533
CREATED:20260331T102104Z
LAST-MODIFIED:20260331T103241Z
UID:123945-1778313600-1778320800@southlakelc.org
SUMMARY:Immerse Bible Study
DESCRIPTION:Join us for breakfast and fellowship. This week is Poets\, week 3. \nMeet us 8am Saturdays at Noah’s Ark Café in Bacliff\, 4438 Boulevard St\, Bacliff\, TX 77518 \n\nPoets 16-Week Reading Plan \n\nMore Info: Contact Rob Bailey at rbailey@southlakelc.org \nTo register: https://southlakelc.churchcenter.com/registrations/events/3297173 \nEngage | Grow | Share
URL:https://southlakelc.org/calendar/immerse-bible-study-20
LOCATION:Noah’s Ark\, 4438 Boulevard St\, Bacliff\, TX\, 77518\, United States
CATEGORIES:Community,Food,Outreach
END:VEVENT
BEGIN:VEVENT
DTSTART;TZID=America/Chicago:20260510T103000
DTEND;TZID=America/Chicago:20260510T120000
DTSTAMP:20260425T092533
CREATED:20260120T112651Z
LAST-MODIFIED:20260120T112651Z
UID:116602-1778409000-1778414400@southlakelc.org
SUMMARY:Weekly Worship- No Communion Sunday
DESCRIPTION:Weekly Worship Sundays 10:30am\nWe are meeting at Hometown Heroes Park 1001 E League City Pkwy\, League City\, TX 77573 League City\, TX 77573.\n\n\nLive Stream – SouthLakeLC.org
URL:https://southlakelc.org/calendar/weekly-worship-no-communion-sunday-9
LOCATION:Hometown Heroes Park\, 1001 E League City Pkwy\, League City\, TX\, 77573\, United States
CATEGORIES:Community,Music,Outreach,Worship
END:VEVENT
BEGIN:VEVENT
DTSTART;TZID=America/Chicago:20260512T140000
DTEND;TZID=America/Chicago:20260512T150000
DTSTAMP:20260425T092533
CREATED:20260120T133911Z
LAST-MODIFIED:20260121T144206Z
UID:116671-1778594400-1778598000@southlakelc.org
SUMMARY:Prayer @ 2
DESCRIPTION:Join Pastor Rob every Tuesday at 2 for prayer time at Panera. Location: Panera. 2630 Gulf Fwy Suite A\, League City\, TX 77573 \nEngage | Grow | Share
URL:https://southlakelc.org/calendar/prayer-2-23
LOCATION:Panera Bread (2630 Gulf Freeway\, Suite A\, League City\, TX 77573\, United States)
CATEGORIES:Community,Food,Outreach
END:VEVENT
BEGIN:VEVENT
DTSTART;TZID=America/Chicago:20260512T140000
DTEND;TZID=America/Chicago:20260512T150000
DTSTAMP:20260425T092533
CREATED:20260122T184358Z
LAST-MODIFIED:20260122T184358Z
UID:117207-1778594400-1778598000@southlakelc.org
SUMMARY:Arbet's Small Group
DESCRIPTION:Meet us on the 2nd and 4th Tuesdays at 2:30pm at the Arbet home. \nThis Small Group is for the Tuscan Lakes area. \nFor more information and to register\, click here. \n  \nEngage | Grow | Share
URL:https://southlakelc.org/calendar/arbets-small-group-10
CATEGORIES:Community,Outreach
END:VEVENT
BEGIN:VEVENT
DTSTART;TZID=America/Chicago:20260513T070000
DTEND;TZID=America/Chicago:20260513T080000
DTSTAMP:20260425T092533
CREATED:20260121T153016Z
LAST-MODIFIED:20260121T153016Z
UID:116873-1778655600-1778659200@southlakelc.org
SUMMARY:Wednesday Morning Recap
DESCRIPTION:Got questions or thoughts from this past Sunday or just hungry to start your morning? Join us at Kelley’s Country Cookin’ 7:00 AM each Wednesday to go over the reading from last Sunday\, discuss\, and be together as we begin the work day. Another great opportunity to share with friends and invite them to get to know Jesus. \n1502 FM518\, League City\, TX 77573 \n  \nEngage | Grow | Share
URL:https://southlakelc.org/calendar/wednesday-morning-recap-25
LOCATION:Kelley’s Country Cookin’\, 1502 West Main Street\, League City\, TX\, 77573\, United States
CATEGORIES:Community,Food,Outreach
END:VEVENT
BEGIN:VEVENT
DTSTART;TZID=America/Chicago:20260513T130000
DTEND;TZID=America/Chicago:20260513T140000
DTSTAMP:20260425T092533
CREATED:20260122T193733Z
LAST-MODIFIED:20260122T193733Z
UID:117285-1778677200-1778680800@southlakelc.org
SUMMARY:Renschen's Small Group
DESCRIPTION:Meet us Wednesday’s at 1pm at the Renschen’s home. \nFor more information and to register\, click here. \n  \nEngage | Grow | Share
URL:https://southlakelc.org/calendar/renschens-small-group-22
CATEGORIES:Community,Outreach
END:VEVENT
BEGIN:VEVENT
DTSTART;TZID=America/Chicago:20260514T121500
DTEND;TZID=America/Chicago:20260514T140000
DTSTAMP:20260425T092533
CREATED:20260122T170321Z
LAST-MODIFIED:20260421T113241Z
UID:117083-1778760900-1778767200@southlakelc.org
SUMMARY:South Lake Luncheon
DESCRIPTION:Bring your appetite and a friend as we gather. As we meet for lunch\, we’ll get to know one another and enjoy great food. \n  \nEngage | Grow | Share
URL:https://southlakelc.org/calendar/south-lake-luncheon-83
LOCATION:La Brisa Mexican Restaurant\, 501 N Wesley Dr\, League City\, TX\, 77573\, United States
CATEGORIES:Community,Food,Outreach
END:VEVENT
BEGIN:VEVENT
DTSTART;TZID=America/Chicago:20260515T183000
DTEND;TZID=America/Chicago:20260515T200000
DTSTAMP:20260425T092533
CREATED:20260122T175733Z
LAST-MODIFIED:20260122T175733Z
UID:117146-1778869800-1778875200@southlakelc.org
SUMMARY:Renewal- A Women's Gathering
DESCRIPTION:Renewal is South Lake’s Women’s Gathering. A chance for women from all over our League City community to gather together\, be renewed from all that life throws at us and be reminded we walk together on our faith journey. \n\nLocation: TBA \nFor more information and to register: click here \n\n  \nEngage | Grow | Share
URL:https://southlakelc.org/calendar/renewal-a-womens-gathering-4
CATEGORIES:Community,Food,Outreach
END:VEVENT
BEGIN:VEVENT
DTSTART;TZID=America/Chicago:20260516T080000
DTEND;TZID=America/Chicago:20260516T100000
DTSTAMP:20260425T092533
CREATED:20260331T102304Z
LAST-MODIFIED:20260331T103354Z
UID:123948-1778918400-1778925600@southlakelc.org
SUMMARY:Immerse Bible Study
DESCRIPTION:Join us for breakfast and fellowship. This week is Poets\, week 4. \nMeet us 8am Saturdays at Noah’s Ark Café in Bacliff\, 4438 Boulevard St\, Bacliff\, TX 77518 \n\nPoets 16-Week Reading Plan \n\nMore Info: Contact Rob Bailey at rbailey@southlakelc.org \nTo register: https://southlakelc.churchcenter.com/registrations/events/3297173 \nEngage | Grow | Share
URL:https://southlakelc.org/calendar/immerse-bible-study-21
LOCATION:Noah’s Ark\, 4438 Boulevard St\, Bacliff\, TX\, 77518\, United States
CATEGORIES:Community,Food,Outreach
END:VEVENT
BEGIN:VEVENT
DTSTART;TZID=America/Chicago:20260517T103000
DTEND;TZID=America/Chicago:20260517T120000
DTSTAMP:20260425T092533
CREATED:20260120T104137Z
LAST-MODIFIED:20260120T104137Z
UID:116546-1779013800-1779019200@southlakelc.org
SUMMARY:Weekly Worship- Communion Sunday
DESCRIPTION:Weekly Worship Sundays 10:30am\nWe are meeting at Hometown Heroes Park 1001 E League City Pkwy\, League City\, TX 77573 League City\, TX 77573.\n\n\nLive Stream – SouthLakeLC.org
URL:https://southlakelc.org/calendar/weekly-worship-communion-sunday-17
LOCATION:Hometown Heroes Park\, 1001 E League City Pkwy\, League City\, TX\, 77573\, United States
CATEGORIES:Community,Music,Outreach,Worship
END:VEVENT
BEGIN:VEVENT
DTSTART;TZID=America/Chicago:20260517T123000
DTEND;TZID=America/Chicago:20260517T140000
DTSTAMP:20260425T092533
CREATED:20260122T182230Z
LAST-MODIFIED:20260122T182230Z
UID:117173-1779021000-1779026400@southlakelc.org
SUMMARY:Sunday Funday
DESCRIPTION:Welcome to South Lake’s Sunday Funday Gathering. A chance to gather together after church and have lunch. We go to different restaurants South of the Lake monthly to enjoy the food and people. \nThis Month’s location is TBD \nFor more information and to let us know you’re coming\, clicking here. \n\nEngage | Grow | Share
URL:https://southlakelc.org/calendar/sunday-funday-27
CATEGORIES:Community,Food,Outreach
END:VEVENT
BEGIN:VEVENT
DTSTART;TZID=America/Chicago:20260519T140000
DTEND;TZID=America/Chicago:20260519T150000
DTSTAMP:20260425T092533
CREATED:20260120T134004Z
LAST-MODIFIED:20260121T143856Z
UID:116673-1779199200-1779202800@southlakelc.org
SUMMARY:Prayer @ 2
DESCRIPTION:Join Pastor Rob every Tuesday at 2 for prayer time at Panera. Location: Panera. 2630 Gulf Fwy Suite A\, League City\, TX 77573 \nEngage | Grow | Share
URL:https://southlakelc.org/calendar/prayer-2-24
LOCATION:Panera Bread (2630 Gulf Freeway\, Suite A\, League City\, TX 77573\, United States)
CATEGORIES:Community,Food,Outreach
END:VEVENT
BEGIN:VEVENT
DTSTART;TZID=America/Chicago:20260520T070000
DTEND;TZID=America/Chicago:20260520T080000
DTSTAMP:20260425T092533
CREATED:20260121T153110Z
LAST-MODIFIED:20260121T153110Z
UID:116875-1779260400-1779264000@southlakelc.org
SUMMARY:Wednesday Morning Recap
DESCRIPTION:Got questions or thoughts from this past Sunday or just hungry to start your morning? Join us at Kelley’s Country Cookin’ 7:00 AM each Wednesday to go over the reading from last Sunday\, discuss\, and be together as we begin the work day. Another great opportunity to share with friends and invite them to get to know Jesus. \n1502 FM518\, League City\, TX 77573 \n  \nEngage | Grow | Share
URL:https://southlakelc.org/calendar/wednesday-morning-recap-26
LOCATION:Kelley’s Country Cookin’\, 1502 West Main Street\, League City\, TX\, 77573\, United States
CATEGORIES:Community,Food,Outreach
END:VEVENT
BEGIN:VEVENT
DTSTART;TZID=America/Chicago:20260520T130000
DTEND;TZID=America/Chicago:20260520T140000
DTSTAMP:20260425T092533
CREATED:20260122T193823Z
LAST-MODIFIED:20260122T193823Z
UID:117287-1779282000-1779285600@southlakelc.org
SUMMARY:Renschen's Small Group
DESCRIPTION:Meet us Wednesday’s at 1pm at the Renschen’s home. \nFor more information and to register\, click here. \n  \nEngage | Grow | Share
URL:https://southlakelc.org/calendar/renschens-small-group-23
CATEGORIES:Community,Outreach
END:VEVENT
BEGIN:VEVENT
DTSTART;TZID=America/Chicago:20260523T080000
DTEND;TZID=America/Chicago:20260523T100000
DTSTAMP:20260425T092533
CREATED:20260331T102425Z
LAST-MODIFIED:20260331T103935Z
UID:123950-1779523200-1779530400@southlakelc.org
SUMMARY:Immerse Bible Study
DESCRIPTION:Join us for breakfast and fellowship. This week is Poets\, week 5. \nMeet us 8am Saturdays at Noah’s Ark Café in Bacliff\, 4438 Boulevard St\, Bacliff\, TX 77518 \n\nPoets 16-Week Reading Plan \n\nMore Info: Contact Rob Bailey at rbailey@southlakelc.org \nTo register: https://southlakelc.churchcenter.com/registrations/events/3297173 \nEngage | Grow | Share
URL:https://southlakelc.org/calendar/immerse-bible-study-22
LOCATION:Noah’s Ark\, 4438 Boulevard St\, Bacliff\, TX\, 77518\, United States
CATEGORIES:Community,Food,Outreach
END:VEVENT
BEGIN:VEVENT
DTSTART;TZID=America/Chicago:20260524T103000
DTEND;TZID=America/Chicago:20260524T120000
DTSTAMP:20260425T092533
CREATED:20260120T112809Z
LAST-MODIFIED:20260120T112809Z
UID:116605-1779618600-1779624000@southlakelc.org
SUMMARY:Weekly Worship- No Communion Sunday
DESCRIPTION:Weekly Worship Sundays 10:30am\nWe are meeting at Hometown Heroes Park 1001 E League City Pkwy\, League City\, TX 77573 League City\, TX 77573.\n\n\nLive Stream – SouthLakeLC.org
URL:https://southlakelc.org/calendar/weekly-worship-no-communion-sunday-10
CATEGORIES:Community,Music,Outreach,Worship
END:VEVENT
BEGIN:VEVENT
DTSTART;TZID=America/Chicago:20260526T140000
DTEND;TZID=America/Chicago:20260526T150000
DTSTAMP:20260425T092533
CREATED:20260120T134049Z
LAST-MODIFIED:20260121T143233Z
UID:116675-1779804000-1779807600@southlakelc.org
SUMMARY:Prayer @ 2
DESCRIPTION:Join Pastor Rob every Tuesday at 2 for prayer time at Panera. Location: Panera. 2630 Gulf Fwy Suite A\, League City\, TX 77573 \nEngage | Grow | Share
URL:https://southlakelc.org/calendar/prayer-2-25
CATEGORIES:Community,Food,Outreach
END:VEVENT
BEGIN:VEVENT
DTSTART;TZID=America/Chicago:20260526T140000
DTEND;TZID=America/Chicago:20260526T150000
DTSTAMP:20260425T092533
CREATED:20260122T184531Z
LAST-MODIFIED:20260122T184531Z
UID:117209-1779804000-1779807600@southlakelc.org
SUMMARY:Arbet's Small Group
DESCRIPTION:Meet us on the 2nd and 4th Tuesdays at 2:30pm at the Arbet home. \nThis Small Group is for the Tuscan Lakes area. \nFor more information and to register\, click here. \n  \nEngage | Grow | Share
URL:https://southlakelc.org/calendar/arbets-small-group-11
CATEGORIES:Community,Outreach
END:VEVENT
BEGIN:VEVENT
DTSTART;TZID=America/Chicago:20260527T070000
DTEND;TZID=America/Chicago:20260527T080000
DTSTAMP:20260425T092533
CREATED:20260121T153206Z
LAST-MODIFIED:20260121T153206Z
UID:116877-1779865200-1779868800@southlakelc.org
SUMMARY:Wednesday Morning Recap
DESCRIPTION:Got questions or thoughts from this past Sunday or just hungry to start your morning? Join us at Kelley’s Country Cookin’ 7:00 AM each Wednesday to go over the reading from last Sunday\, discuss\, and be together as we begin the work day. Another great opportunity to share with friends and invite them to get to know Jesus. \n1502 FM518\, League City\, TX 77573 \n  \nEngage | Grow | Share
URL:https://southlakelc.org/calendar/wednesday-morning-recap-27
LOCATION:Kelley’s Country Cookin’\, 1502 West Main Street\, League City\, TX\, 77573\, United States
CATEGORIES:Community,Food,Outreach
END:VEVENT
BEGIN:VEVENT
DTSTART;TZID=America/Chicago:20260527T130000
DTEND;TZID=America/Chicago:20260527T140000
DTSTAMP:20260425T092533
CREATED:20260122T193909Z
LAST-MODIFIED:20260122T193909Z
UID:117289-1779886800-1779890400@southlakelc.org
SUMMARY:Renschen's Small Group
DESCRIPTION:Meet us Wednesday’s at 1pm at the Renschen’s home. \nFor more information and to register\, click here. \n  \nEngage | Grow | Share
URL:https://southlakelc.org/calendar/renschens-small-group-24
CATEGORIES:Community,Outreach
END:VEVENT
BEGIN:VEVENT
DTSTART;TZID=America/Chicago:20260528T121500
DTEND;TZID=America/Chicago:20260528T140000
DTSTAMP:20260425T092533
CREATED:20260122T170459Z
LAST-MODIFIED:20260421T113516Z
UID:117085-1779970500-1779976800@southlakelc.org
SUMMARY:South Lake Luncheon
DESCRIPTION:Bring your appetite and a friend as we gather. As we meet for lunch\, we’ll get to know one another and enjoy great food. \n  \nEngage | Grow | Share
URL:https://southlakelc.org/calendar/south-lake-luncheon-84
LOCATION:La Brisa Mexican Restaurant\, 501 N Wesley Dr\, League City\, TX\, 77573\, United States
CATEGORIES:Community,Food,Outreach
END:VEVENT
BEGIN:VEVENT
DTSTART;TZID=America/Chicago:20260530T080000
DTEND;TZID=America/Chicago:20260530T100000
DTSTAMP:20260425T092533
CREATED:20260331T102531Z
LAST-MODIFIED:20260331T104112Z
UID:123952-1780128000-1780135200@southlakelc.org
SUMMARY:Immerse Bible Study
DESCRIPTION:Join us for breakfast and fellowship. This week is Poets\, week 6. \nMeet us 8am Saturdays at Noah’s Ark Café in Bacliff\, 4438 Boulevard St\, Bacliff\, TX 77518 \n\nPoets 16-Week Reading Plan \n\nMore Info: Contact Rob Bailey at rbailey@southlakelc.org \nTo register: https://southlakelc.churchcenter.com/registrations/events/3297173 \nEngage | Grow | Share
URL:https://southlakelc.org/calendar/immerse-bible-study-23
LOCATION:Noah’s Ark\, 4438 Boulevard St\, Bacliff\, TX\, 77518\, United States
CATEGORIES:Community,Food,Outreach
END:VEVENT
BEGIN:VEVENT
DTSTART;TZID=America/Chicago:20260531T103000
DTEND;TZID=America/Chicago:20260531T120000
DTSTAMP:20260425T092533
CREATED:20260120T104233Z
LAST-MODIFIED:20260120T104233Z
UID:116549-1780223400-1780228800@southlakelc.org
SUMMARY:Weekly Worship- Communion Sunday
DESCRIPTION:Weekly Worship Sundays 10:30am\nWe are meeting at Hometown Heroes Park 1001 E League City Pkwy\, League City\, TX 77573 League City\, TX 77573.\n\n\nLive Stream – SouthLakeLC.org
URL:https://southlakelc.org/calendar/weekly-worship-communion-sunday-18
LOCATION:Hometown Heroes Park\, 1001 E League City Pkwy\, League City\, TX\, 77573\, United States
CATEGORIES:Community,Music,Outreach,Worship
END:VEVENT
END:VCALENDAR