BEGIN:VCALENDAR
VERSION:2.0
PRODID:-//South Lake Church - ECPv6.15.20//NONSGML v1.0//EN
CALSCALE:GREGORIAN
METHOD:PUBLISH
X-ORIGINAL-URL:https://southlakelc.org
X-WR-CALDESC:Events for South Lake Church
REFRESH-INTERVAL;VALUE=DURATION:PT1H
X-Robots-Tag:noindex
X-PUBLISHED-TTL:PT1H
BEGIN:VTIMEZONE
TZID:America/Chicago
BEGIN:DAYLIGHT
TZOFFSETFROM:-0600
TZOFFSETTO:-0500
TZNAME:CDT
DTSTART:20250309T080000
END:DAYLIGHT
BEGIN:STANDARD
TZOFFSETFROM:-0500
TZOFFSETTO:-0600
TZNAME:CST
DTSTART:20251102T070000
END:STANDARD
BEGIN:DAYLIGHT
TZOFFSETFROM:-0600
TZOFFSETTO:-0500
TZNAME:CDT
DTSTART:20260308T080000
END:DAYLIGHT
BEGIN:STANDARD
TZOFFSETFROM:-0500
TZOFFSETTO:-0600
TZNAME:CST
DTSTART:20261101T070000
END:STANDARD
BEGIN:DAYLIGHT
TZOFFSETFROM:-0600
TZOFFSETTO:-0500
TZNAME:CDT
DTSTART:20270314T080000
END:DAYLIGHT
BEGIN:STANDARD
TZOFFSETFROM:-0500
TZOFFSETTO:-0600
TZNAME:CST
DTSTART:20271107T070000
END:STANDARD
END:VTIMEZONE
BEGIN:VEVENT
DTSTART;TZID=America/Chicago:20261007T070000
DTEND;TZID=America/Chicago:20261007T080000
DTSTAMP:20260425T085619
CREATED:20260122T143329Z
LAST-MODIFIED:20260122T143329Z
UID:117023-1791356400-1791360000@southlakelc.org
SUMMARY:Wednesday Morning Recap
DESCRIPTION:Got questions or thoughts from this past Sunday or just hungry to start your morning? Join us at Kelley’s Country Cookin’ 7:00 AM each Wednesday to go over the reading from last Sunday\, discuss\, and be together as we begin the work day. Another great opportunity to share with friends and invite them to get to know Jesus. \n1502 FM518\, League City\, TX 77573 \n  \nEngage | Grow | Share
URL:https://southlakelc.org/calendar/wednesday-morning-recap-47
LOCATION:Kelley’s Country Cookin’\, 1502 West Main Street\, League City\, TX\, 77573\, United States
CATEGORIES:Community,Food,Outreach
END:VEVENT
BEGIN:VEVENT
DTSTART;TZID=America/Chicago:20261007T130000
DTEND;TZID=America/Chicago:20261007T140000
DTSTAMP:20260425T085619
CREATED:20260122T195823Z
LAST-MODIFIED:20260122T195823Z
UID:117329-1791378000-1791381600@southlakelc.org
SUMMARY:Renschen's Small Group
DESCRIPTION:Meet us Wednesday’s at 1pm at the Renschen’s home. \nFor more information and to register\, click here. \n  \nEngage | Grow | Share
URL:https://southlakelc.org/calendar/renschens-small-group-43
CATEGORIES:Community,Outreach
END:VEVENT
BEGIN:VEVENT
DTSTART;TZID=America/Chicago:20261008T121500
DTEND;TZID=America/Chicago:20261008T140000
DTSTAMP:20260425T085619
CREATED:20260122T172057Z
LAST-MODIFIED:20260421T115209Z
UID:117104-1791461700-1791468000@southlakelc.org
SUMMARY:South Lake Luncheon
DESCRIPTION:Bring your appetite and a friend as we gather. As we meet for lunch\, we’ll get to know one another and enjoy great food. \n  \nEngage | Grow | Share
URL:https://southlakelc.org/calendar/south-lake-luncheon-93
LOCATION:La Brisa Mexican Restaurant\, 501 N Wesley Dr\, League City\, TX\, 77573\, United States
CATEGORIES:Community,Food,Outreach
END:VEVENT
BEGIN:VEVENT
DTSTART;TZID=America/Chicago:20261009T183000
DTEND;TZID=America/Chicago:20261009T200000
DTSTAMP:20260425T085619
CREATED:20260122T174548Z
LAST-MODIFIED:20260122T174548Z
UID:117133-1791570600-1791576000@southlakelc.org
SUMMARY:Guys' Gathering
DESCRIPTION:Men of South Lake\, we are having our next guys gathering. Join us as we take time to be together\, share what’s going on with all the craziness of our life. Bring a side dish (chips or nuts count) Come together for whisky or drink of choice\, cigars\, and a side. \nLocation: TBD \nFor more information and to register\, click here. \n  \nEngage | Grow | Share
URL:https://southlakelc.org/calendar/guys-gathering-46
CATEGORIES:Community,Food,Outreach
END:VEVENT
BEGIN:VEVENT
DTSTART;TZID=America/Chicago:20261011T103000
DTEND;TZID=America/Chicago:20261011T120000
DTSTAMP:20260425T085619
CREATED:20260120T114132Z
LAST-MODIFIED:20260120T114132Z
UID:116623-1791714600-1791720000@southlakelc.org
SUMMARY:Weekly Worship- No Communion Sunday
DESCRIPTION:Weekly Worship Sundays 10:30am\nWe are meeting at Hometown Heroes Park 1001 E League City Pkwy\, League City\, TX 77573 League City\, TX 77573.\n\n\nLive Stream – SouthLakeLC.org
URL:https://southlakelc.org/calendar/weekly-worship-no-communion-sunday-19
LOCATION:Hometown Heroes Park\, 1001 E League City Pkwy\, League City\, TX\, 77573\, United States
CATEGORIES:Community,Music,Outreach,Worship
END:VEVENT
BEGIN:VEVENT
DTSTART;TZID=America/Chicago:20261013T140000
DTEND;TZID=America/Chicago:20261013T150000
DTSTAMP:20260425T085619
CREATED:20260120T140842Z
LAST-MODIFIED:20260120T150123Z
UID:116717-1791900000-1791903600@southlakelc.org
SUMMARY:Prayer @ 2
DESCRIPTION:Join Pastor Rob every Tuesday at 2 for prayer time at Panera. Location: Panera. 2630 Gulf Fwy Suite A\, League City\, TX 77573 \nEngage | Grow | Share
URL:https://southlakelc.org/calendar/prayer-2-45
LOCATION:Panera Bread (2630 Gulf Freeway\, Suite A\, League City\, TX 77573\, United States)
CATEGORIES:Community,Food,Outreach
END:VEVENT
BEGIN:VEVENT
DTSTART;TZID=America/Chicago:20261013T140000
DTEND;TZID=America/Chicago:20261013T150000
DTSTAMP:20260425T085619
CREATED:20260122T185609Z
LAST-MODIFIED:20260122T185609Z
UID:117227-1791900000-1791903600@southlakelc.org
SUMMARY:Arbet's Small Group
DESCRIPTION:Meet us on the 2nd and 4th Tuesdays at 2:30pm at the Arbet home. \nThis Small Group is for the Tuscan Lakes area. \nFor more information and to register\, click here. \n  \nEngage | Grow | Share
URL:https://southlakelc.org/calendar/arbets-small-group-20
CATEGORIES:Community,Outreach
END:VEVENT
BEGIN:VEVENT
DTSTART;TZID=America/Chicago:20261014T070000
DTEND;TZID=America/Chicago:20261014T080000
DTSTAMP:20260425T085619
CREATED:20260122T143426Z
LAST-MODIFIED:20260122T143426Z
UID:117025-1791961200-1791964800@southlakelc.org
SUMMARY:Wednesday Morning Recap
DESCRIPTION:Got questions or thoughts from this past Sunday or just hungry to start your morning? Join us at Kelley’s Country Cookin’ 7:00 AM each Wednesday to go over the reading from last Sunday\, discuss\, and be together as we begin the work day. Another great opportunity to share with friends and invite them to get to know Jesus. \n1502 FM518\, League City\, TX 77573 \n  \nEngage | Grow | Share
URL:https://southlakelc.org/calendar/wednesday-morning-recap-48
LOCATION:Kelley’s Country Cookin’\, 1502 West Main Street\, League City\, TX\, 77573\, United States
CATEGORIES:Community,Food,Outreach
END:VEVENT
BEGIN:VEVENT
DTSTART;TZID=America/Chicago:20261014T130000
DTEND;TZID=America/Chicago:20261014T140000
DTSTAMP:20260425T085619
CREATED:20260122T195907Z
LAST-MODIFIED:20260122T195907Z
UID:117331-1791982800-1791986400@southlakelc.org
SUMMARY:Renschen's Small Group
DESCRIPTION:Meet us Wednesday’s at 1pm at the Renschen’s home. \nFor more information and to register\, click here. \n  \nEngage | Grow | Share
URL:https://southlakelc.org/calendar/renschens-small-group-44
CATEGORIES:Community,Outreach
END:VEVENT
BEGIN:VEVENT
DTSTART;TZID=America/Chicago:20261016T183000
DTEND;TZID=America/Chicago:20261016T200000
DTSTAMP:20260425T085619
CREATED:20260122T180458Z
LAST-MODIFIED:20260122T180458Z
UID:117158-1792175400-1792180800@southlakelc.org
SUMMARY:Renewal- A Women's Gathering
DESCRIPTION:Renewal is South Lake’s Women’s Gathering. A chance for women from all over our League City community to gather together\, be renewed from all that life throws at us and be reminded we walk together on our faith journey. \n\nLocation: TBA \nFor more information and to register: click here \n\n  \nEngage | Grow | Share
URL:https://southlakelc.org/calendar/renewal-a-womens-gathering-9
CATEGORIES:Community,Food,Outreach
END:VEVENT
BEGIN:VEVENT
DTSTART;TZID=America/Chicago:20261018T103000
DTEND;TZID=America/Chicago:20261018T120000
DTSTAMP:20260425T085619
CREATED:20260120T105713Z
LAST-MODIFIED:20260120T105713Z
UID:116571-1792319400-1792324800@southlakelc.org
SUMMARY:Weekly Worship- Communion Sunday
DESCRIPTION:Weekly Worship Sundays 10:30am\nWe are meeting at Hometown Heroes Park 1001 E League City Pkwy\, League City\, TX 77573 League City\, TX 77573.\n\n\nLive Stream – SouthLakeLC.org
URL:https://southlakelc.org/calendar/weekly-worship-communion-sunday-29
LOCATION:Hometown Heroes Park\, 1001 E League City Pkwy\, League City\, TX\, 77573\, United States
CATEGORIES:Community,Music,Outreach,Worship
END:VEVENT
BEGIN:VEVENT
DTSTART;TZID=America/Chicago:20261018T123000
DTEND;TZID=America/Chicago:20261018T140000
DTSTAMP:20260425T085619
CREATED:20260122T182821Z
LAST-MODIFIED:20260122T182821Z
UID:117184-1792326600-1792332000@southlakelc.org
SUMMARY:Sunday Funday
DESCRIPTION:Welcome to South Lake’s Sunday Funday Gathering. A chance to gather together after church and have lunch. We go to different restaurants South of the Lake monthly to enjoy the food and people. \nThis Month’s location is TBD \nFor more information and to let us know you’re coming\, clicking here. \n\nEngage | Grow | Share
URL:https://southlakelc.org/calendar/sunday-funday-32
CATEGORIES:Community,Food,Outreach
END:VEVENT
BEGIN:VEVENT
DTSTART;TZID=America/Chicago:20261020T140000
DTEND;TZID=America/Chicago:20261020T150000
DTSTAMP:20260425T085619
CREATED:20260120T140939Z
LAST-MODIFIED:20260120T150056Z
UID:116719-1792504800-1792508400@southlakelc.org
SUMMARY:Prayer @ 2
DESCRIPTION:Join Pastor Rob every Tuesday at 2 for prayer time at Panera. Location: Panera. 2630 Gulf Fwy Suite A\, League City\, TX 77573 \nEngage | Grow | Share
URL:https://southlakelc.org/calendar/prayer-2-46
LOCATION:Panera Bread (2630 Gulf Freeway\, Suite A\, League City\, TX 77573\, United States)
CATEGORIES:Community,Food,Outreach
END:VEVENT
BEGIN:VEVENT
DTSTART;TZID=America/Chicago:20261021T070000
DTEND;TZID=America/Chicago:20261021T080000
DTSTAMP:20260425T085619
CREATED:20260122T143540Z
LAST-MODIFIED:20260122T143540Z
UID:117027-1792566000-1792569600@southlakelc.org
SUMMARY:Wednesday Morning Recap
DESCRIPTION:Got questions or thoughts from this past Sunday or just hungry to start your morning? Join us at Kelley’s Country Cookin’ 7:00 AM each Wednesday to go over the reading from last Sunday\, discuss\, and be together as we begin the work day. Another great opportunity to share with friends and invite them to get to know Jesus. \n1502 FM518\, League City\, TX 77573 \n  \nEngage | Grow | Share
URL:https://southlakelc.org/calendar/wednesday-morning-recap-49
LOCATION:Kelley’s Country Cookin’\, 1502 West Main Street\, League City\, TX\, 77573\, United States
CATEGORIES:Community,Food,Outreach
END:VEVENT
BEGIN:VEVENT
DTSTART;TZID=America/Chicago:20261021T130000
DTEND;TZID=America/Chicago:20261021T140000
DTSTAMP:20260425T085619
CREATED:20260122T195947Z
LAST-MODIFIED:20260122T195947Z
UID:117333-1792587600-1792591200@southlakelc.org
SUMMARY:Renschen's Small Group
DESCRIPTION:Meet us Wednesday’s at 1pm at the Renschen’s home. \nFor more information and to register\, click here. \n  \nEngage | Grow | Share
URL:https://southlakelc.org/calendar/renschens-small-group-45
CATEGORIES:Community,Outreach
END:VEVENT
BEGIN:VEVENT
DTSTART;TZID=America/Chicago:20261022T121500
DTEND;TZID=America/Chicago:20261022T140000
DTSTAMP:20260425T085619
CREATED:20260122T172504Z
LAST-MODIFIED:20260421T114439Z
UID:117107-1792671300-1792677600@southlakelc.org
SUMMARY:South Lake Luncheon
DESCRIPTION:Bring your appetite and a friend as we gather. As we meet for lunch\, we’ll get to know one another and enjoy great food. \n  \nEngage | Grow | Share
URL:https://southlakelc.org/calendar/south-lake-luncheon-94
LOCATION:La Brisa Mexican Restaurant\, 501 N Wesley Dr\, League City\, TX\, 77573\, United States
CATEGORIES:Community,Food,Outreach
END:VEVENT
BEGIN:VEVENT
DTSTART;TZID=America/Chicago:20261025T103000
DTEND;TZID=America/Chicago:20261025T120000
DTSTAMP:20260425T085619
CREATED:20260120T114243Z
LAST-MODIFIED:20260120T114243Z
UID:116626-1792924200-1792929600@southlakelc.org
SUMMARY:Weekly Worship- No Communion Sunday
DESCRIPTION:Weekly Worship Sundays 10:30am\nWe are meeting at Hometown Heroes Park 1001 E League City Pkwy\, League City\, TX 77573 League City\, TX 77573.\n\n\nLive Stream – SouthLakeLC.org
URL:https://southlakelc.org/calendar/weekly-worship-no-communion-sunday-20
CATEGORIES:Community,Music,Outreach,Worship
END:VEVENT
BEGIN:VEVENT
DTSTART;TZID=America/Chicago:20261027T140000
DTEND;TZID=America/Chicago:20261027T150000
DTSTAMP:20260425T085619
CREATED:20260120T141050Z
LAST-MODIFIED:20260120T150039Z
UID:116721-1793109600-1793113200@southlakelc.org
SUMMARY:Prayer @ 2
DESCRIPTION:Join Pastor Rob every Tuesday at 2 for prayer time at Panera. Location: Panera. 2630 Gulf Fwy Suite A\, League City\, TX 77573 \nEngage | Grow | Share
URL:https://southlakelc.org/calendar/prayer-2-47
LOCATION:Panera Bread (2630 Gulf Freeway\, Suite A\, League City\, TX 77573\, United States)
CATEGORIES:Community,Food,Outreach
END:VEVENT
BEGIN:VEVENT
DTSTART;TZID=America/Chicago:20261027T140000
DTEND;TZID=America/Chicago:20261027T150000
DTSTAMP:20260425T085619
CREATED:20260122T185702Z
LAST-MODIFIED:20260122T185702Z
UID:117229-1793109600-1793113200@southlakelc.org
SUMMARY:Arbet's Small Group
DESCRIPTION:Meet us on the 2nd and 4th Tuesdays at 2:30pm at the Arbet home. \nThis Small Group is for the Tuscan Lakes area. \nFor more information and to register\, click here. \n  \nEngage | Grow | Share
URL:https://southlakelc.org/calendar/arbets-small-group-21
CATEGORIES:Community,Outreach
END:VEVENT
BEGIN:VEVENT
DTSTART;TZID=America/Chicago:20261028T070000
DTEND;TZID=America/Chicago:20261028T080000
DTSTAMP:20260425T085619
CREATED:20260122T143651Z
LAST-MODIFIED:20260122T143651Z
UID:117029-1793170800-1793174400@southlakelc.org
SUMMARY:Wednesday Morning Recap
DESCRIPTION:Got questions or thoughts from this past Sunday or just hungry to start your morning? Join us at Kelley’s Country Cookin’ 7:00 AM each Wednesday to go over the reading from last Sunday\, discuss\, and be together as we begin the work day. Another great opportunity to share with friends and invite them to get to know Jesus. \n1502 FM518\, League City\, TX 77573 \n  \nEngage | Grow | Share
URL:https://southlakelc.org/calendar/wednesday-morning-recap-50
LOCATION:Kelley’s Country Cookin’\, 1502 West Main Street\, League City\, TX\, 77573\, United States
CATEGORIES:Community,Food,Outreach
END:VEVENT
BEGIN:VEVENT
DTSTART;TZID=America/Chicago:20261028T130000
DTEND;TZID=America/Chicago:20261028T140000
DTSTAMP:20260425T085619
CREATED:20260122T200034Z
LAST-MODIFIED:20260122T200034Z
UID:117335-1793192400-1793196000@southlakelc.org
SUMMARY:Renschen's Small Group
DESCRIPTION:Meet us Wednesday’s at 1pm at the Renschen’s home. \nFor more information and to register\, click here. \n  \nEngage | Grow | Share
URL:https://southlakelc.org/calendar/renschens-small-group-46
CATEGORIES:Community,Outreach
END:VEVENT
BEGIN:VEVENT
DTSTART;TZID=America/Chicago:20261101T103000
DTEND;TZID=America/Chicago:20261101T120000
DTSTAMP:20260425T085619
CREATED:20260120T105900Z
LAST-MODIFIED:20260120T105933Z
UID:116574-1793529000-1793534400@southlakelc.org
SUMMARY:Weekly Worship- Communion Sunday
DESCRIPTION:Weekly Worship Sundays 10:30am\nWe are meeting at Hometown Heroes Park 1001 E League City Pkwy\, League City\, TX 77573 League City\, TX 77573.\n\n\nLive Stream – SouthLakeLC.org
URL:https://southlakelc.org/calendar/weekly-worship-communion-sunday-30
LOCATION:Hometown Heroes Park\, 1001 E League City Pkwy\, League City\, TX\, 77573\, United States
CATEGORIES:Community,Music,Outreach,Worship
END:VEVENT
BEGIN:VEVENT
DTSTART;TZID=America/Chicago:20261103T140000
DTEND;TZID=America/Chicago:20261103T150000
DTSTAMP:20260425T085619
CREATED:20260120T141155Z
LAST-MODIFIED:20260120T145930Z
UID:116723-1793714400-1793718000@southlakelc.org
SUMMARY:Prayer @ 2
DESCRIPTION:Join Pastor Rob every Tuesday at 2 for prayer time at Panera. Location: Panera. 2630 Gulf Fwy Suite A\, League City\, TX 77573 \nEngage | Grow | Share
URL:https://southlakelc.org/calendar/prayer-2-48
LOCATION:Panera Bread (2630 Gulf Freeway\, Suite A\, League City\, TX 77573\, United States)
CATEGORIES:Community,Food,Outreach
END:VEVENT
BEGIN:VEVENT
DTSTART;TZID=America/Chicago:20261103T190000
DTEND;TZID=America/Chicago:20261103T200000
DTSTAMP:20260425T085619
CREATED:20260120T100708Z
LAST-MODIFIED:20260120T100708Z
UID:116501-1793732400-1793736000@southlakelc.org
SUMMARY:Pints & Questions (Ps & Qs)
DESCRIPTION:Join us for Ps & Qs every 1st Tuesday at 7pm! This is a great opportunity to ask Pastor Rob questions!\nCheck out more info about the South Lake Church @ SouthLakeLC.org\n\nMeet us at Craft 96\, 2575 E League City Pkwy\, League City\, TX 77573\n\n  \nEngage | Grow | Share
URL:https://southlakelc.org/calendar/pints-questions-ps-qs-12
LOCATION:Craft 96\, 2575 League City Pkwy\, League City\, TX\, 77573\, United States
CATEGORIES:Community,Food,Outreach
END:VEVENT
BEGIN:VEVENT
DTSTART;TZID=America/Chicago:20261104T070000
DTEND;TZID=America/Chicago:20261104T080000
DTSTAMP:20260425T085619
CREATED:20260122T143849Z
LAST-MODIFIED:20260122T143849Z
UID:117031-1793775600-1793779200@southlakelc.org
SUMMARY:Wednesday Morning Recap
DESCRIPTION:Got questions or thoughts from this past Sunday or just hungry to start your morning? Join us at Kelley’s Country Cookin’ 7:00 AM each Wednesday to go over the reading from last Sunday\, discuss\, and be together as we begin the work day. Another great opportunity to share with friends and invite them to get to know Jesus. \n1502 FM518\, League City\, TX 77573 \n  \nEngage | Grow | Share
URL:https://southlakelc.org/calendar/wednesday-morning-recap-51
LOCATION:Kelley’s Country Cookin’\, 1502 West Main Street\, League City\, TX\, 77573\, United States
CATEGORIES:Community,Food,Outreach
END:VEVENT
BEGIN:VEVENT
DTSTART;TZID=America/Chicago:20261104T130000
DTEND;TZID=America/Chicago:20261104T140000
DTSTAMP:20260425T085619
CREATED:20260122T200123Z
LAST-MODIFIED:20260122T200123Z
UID:117337-1793797200-1793800800@southlakelc.org
SUMMARY:Renschen's Small Group
DESCRIPTION:Meet us Wednesday’s at 1pm at the Renschen’s home. \nFor more information and to register\, click here. \n  \nEngage | Grow | Share
URL:https://southlakelc.org/calendar/renschens-small-group-47
CATEGORIES:Community,Outreach
END:VEVENT
BEGIN:VEVENT
DTSTART;TZID=America/Chicago:20261108T103000
DTEND;TZID=America/Chicago:20261108T120000
DTSTAMP:20260425T085619
CREATED:20260120T114349Z
LAST-MODIFIED:20260120T114349Z
UID:116628-1794133800-1794139200@southlakelc.org
SUMMARY:Weekly Worship- No Communion Sunday
DESCRIPTION:Weekly Worship Sundays 10:30am\nWe are meeting at Hometown Heroes Park 1001 E League City Pkwy\, League City\, TX 77573 League City\, TX 77573.\n\n\nLive Stream – SouthLakeLC.org
URL:https://southlakelc.org/calendar/weekly-worship-no-communion-sunday-21
LOCATION:Hometown Heroes Park\, 1001 E League City Pkwy\, League City\, TX\, 77573\, United States
CATEGORIES:Community,Music,Outreach,Worship
END:VEVENT
BEGIN:VEVENT
DTSTART;TZID=America/Chicago:20261110T140000
DTEND;TZID=America/Chicago:20261110T150000
DTSTAMP:20260425T085619
CREATED:20260120T141320Z
LAST-MODIFIED:20260120T145900Z
UID:116726-1794319200-1794322800@southlakelc.org
SUMMARY:Prayer @ 2
DESCRIPTION:Join Pastor Rob every Tuesday at 2 for prayer time at Panera. Location: Panera. 2630 Gulf Fwy Suite A\, League City\, TX 77573 \nEngage | Grow | Share
URL:https://southlakelc.org/calendar/prayer-2-49
LOCATION:Panera Bread (2630 Gulf Freeway\, Suite A\, League City\, TX 77573\, United States)
CATEGORIES:Community,Food,Outreach
END:VEVENT
BEGIN:VEVENT
DTSTART;TZID=America/Chicago:20261110T140000
DTEND;TZID=America/Chicago:20261110T150000
DTSTAMP:20260425T085619
CREATED:20260122T185827Z
LAST-MODIFIED:20260122T185827Z
UID:117232-1794319200-1794322800@southlakelc.org
SUMMARY:Arbet's Small Group
DESCRIPTION:Meet us on the 2nd and 4th Tuesdays at 2:30pm at the Arbet home. \nThis Small Group is for the Tuscan Lakes area. \nFor more information and to register\, click here. \n  \nEngage | Grow | Share
URL:https://southlakelc.org/calendar/arbets-small-group-22
CATEGORIES:Community,Outreach
END:VEVENT
BEGIN:VEVENT
DTSTART;TZID=America/Chicago:20261111T070000
DTEND;TZID=America/Chicago:20261111T080000
DTSTAMP:20260425T085619
CREATED:20260122T144131Z
LAST-MODIFIED:20260122T144131Z
UID:117033-1794380400-1794384000@southlakelc.org
SUMMARY:Wednesday Morning Recap
DESCRIPTION:Got questions or thoughts from this past Sunday or just hungry to start your morning? Join us at Kelley’s Country Cookin’ 7:00 AM each Wednesday to go over the reading from last Sunday\, discuss\, and be together as we begin the work day. Another great opportunity to share with friends and invite them to get to know Jesus. \n1502 FM518\, League City\, TX 77573 \n  \nEngage | Grow | Share
URL:https://southlakelc.org/calendar/wednesday-morning-recap-52
LOCATION:Kelley’s Country Cookin’\, 1502 West Main Street\, League City\, TX\, 77573\, United States
CATEGORIES:Community,Food,Outreach
END:VEVENT
END:VCALENDAR