BEGIN:VCALENDAR
VERSION:2.0
PRODID:-//South Lake Church - ECPv6.15.20//NONSGML v1.0//EN
CALSCALE:GREGORIAN
METHOD:PUBLISH
X-WR-CALNAME:South Lake Church
X-ORIGINAL-URL:https://southlakelc.org
X-WR-CALDESC:Events for South Lake Church
REFRESH-INTERVAL;VALUE=DURATION:PT1H
X-Robots-Tag:noindex
X-PUBLISHED-TTL:PT1H
BEGIN:VTIMEZONE
TZID:America/Chicago
BEGIN:DAYLIGHT
TZOFFSETFROM:-0600
TZOFFSETTO:-0500
TZNAME:CDT
DTSTART:20230312T080000
END:DAYLIGHT
BEGIN:STANDARD
TZOFFSETFROM:-0500
TZOFFSETTO:-0600
TZNAME:CST
DTSTART:20231105T070000
END:STANDARD
BEGIN:DAYLIGHT
TZOFFSETFROM:-0600
TZOFFSETTO:-0500
TZNAME:CDT
DTSTART:20240310T080000
END:DAYLIGHT
BEGIN:STANDARD
TZOFFSETFROM:-0500
TZOFFSETTO:-0600
TZNAME:CST
DTSTART:20241103T070000
END:STANDARD
BEGIN:DAYLIGHT
TZOFFSETFROM:-0600
TZOFFSETTO:-0500
TZNAME:CDT
DTSTART:20250309T080000
END:DAYLIGHT
BEGIN:STANDARD
TZOFFSETFROM:-0500
TZOFFSETTO:-0600
TZNAME:CST
DTSTART:20251102T070000
END:STANDARD
END:VTIMEZONE
BEGIN:VEVENT
DTSTART;TZID=America/Chicago:20241105T190000
DTEND;TZID=America/Chicago:20241105T200000
DTSTAMP:20260425T201012
CREATED:20241025T155253Z
LAST-MODIFIED:20241025T155253Z
UID:71935-1730833200-1730836800@southlakelc.org
SUMMARY:Pints and Questions (Ps and Qs)
DESCRIPTION:Join us for Ps & Qs every 1st Tuesday at 7pm! This is a great opportunity to ask Pastor Rob questions!\nCheck out more info about the South Lake Church @ SouthLakeLC.org\n\nMeet us at Craft 96\, 2575 E League City Pkwy\, League City\, TX 77573\n\n  \nEngage | Grow | Share
URL:https://southlakelc.org/calendar/pints-and-questions-ps-and-qs-36
LOCATION:TX
CATEGORIES:Community,Food,Outreach
ATTACH;FMTTYPE=image/jpeg:https://southlakelc.org/wp-content/uploads/2024/06/psqs-web-scaled.jpg
END:VEVENT
BEGIN:VEVENT
DTSTART;TZID=America/Chicago:20241104T180000
DTEND;TZID=America/Chicago:20241104T190000
DTSTAMP:20260425T201012
CREATED:20241025T155122Z
LAST-MODIFIED:20241025T155122Z
UID:71931-1730743200-1730746800@southlakelc.org
SUMMARY:Small Group - Kirkley's
DESCRIPTION:Meet us the 1st and 3rd Mondays at 6pm at the Kirkley’s home to discuss The Gospel of Matthew \n  \nFor more information and to register\, click here. \n  \nEngage | Grow | Share
URL:https://southlakelc.org/calendar/small-group-kirkleys-36
LOCATION:TX
CATEGORIES:Community,Outreach
ATTACH;FMTTYPE=image/jpeg:https://southlakelc.org/wp-content/uploads/2023/03/small_groups-title-2-Wide-16x9-1.jpg
END:VEVENT
BEGIN:VEVENT
DTSTART;TZID=America/Chicago:20241103T103000
DTEND;TZID=America/Chicago:20241103T113000
DTSTAMP:20260425T201012
CREATED:20241025T161136Z
LAST-MODIFIED:20241025T161427Z
UID:71963-1730629800-1730633400@southlakelc.org
SUMMARY:Weekly Worship
DESCRIPTION:Weekly Worship Sundays 10:30am\nThe Blue Building\n144 Park Ave\, League City\, TX 77573\n\n\nLive Stream – SouthLakeLC.org
URL:https://southlakelc.org/calendar/weekly-worship-7
LOCATION:TX
CATEGORIES:Community,Music,Outreach
ATTACH;FMTTYPE=image/jpeg:https://southlakelc.org/wp-content/uploads/2020/11/worship-2-orh4uyww62p8wcxyfofslvas4h3zxl5gtyzjhk1g_26784dd1e7ecdceb97fd98a90e6b97d4-opt-1.jpg
END:VEVENT
BEGIN:VEVENT
DTSTART;TZID=America/Chicago:20241102T080000
DTEND;TZID=America/Chicago:20241102T090000
DTSTAMP:20260425T201012
CREATED:20241010T224343Z
LAST-MODIFIED:20241010T224343Z
UID:70487-1730534400-1730538000@southlakelc.org
SUMMARY:Immerse
DESCRIPTION:This is a 8 Week Reading Plan: https://immersebible.com/messiah \nGetting to know Jesus the best way possible. We’ll be reading together through the New Testament reading about God’s plan from getting to know who Jesus and the Church are as well as what does it mean to live a life as a Christian. Meet us 8am Saturdays at Noah’s Ark Café in Bacliff\, 4438 Boulevard St\, Bacliff\, TX 77518 \n\nContact Rob Bailey at rbailey@southlakelc.org\n\n  \nEngage | Grow | Share
URL:https://southlakelc.org/calendar/immerse-104
LOCATION:TX
CATEGORIES:Community,Food,Outreach
ATTACH;FMTTYPE=image/jpeg:https://southlakelc.org/wp-content/uploads/2024/06/Immerse-Update-Recoveredweb-scaled.jpg
END:VEVENT
BEGIN:VEVENT
DTSTART;TZID=America/Chicago:20241030T070000
DTEND;TZID=America/Chicago:20241030T080000
DTSTAMP:20260425T201012
CREATED:20241010T223817Z
LAST-MODIFIED:20241010T223817Z
UID:70473-1730271600-1730275200@southlakelc.org
SUMMARY:Wednesday Recap Breakfast
DESCRIPTION:Got questions or thoughts from this past Sunday or just hungry to start your morning? Join us at Kelley’s Country Cookin 7am each Wednesday to go over the reading from last Sunday\, discuss\, and be together as we begin the work day. Another great opportunity to share with friends and invite them to get to know Jesus. \n1502 FM518\, League City\, TX 77573 \n  \nEngage | Grow | Share
URL:https://southlakelc.org/calendar/wednesday-recap-breakfast-92
LOCATION:TX
CATEGORIES:Community,Food,Outreach
ATTACH;FMTTYPE=image/jpeg:https://southlakelc.org/wp-content/uploads/2024/06/Wednesday-Morning-web-scaled.jpg
END:VEVENT
BEGIN:VEVENT
DTSTART;TZID=America/Chicago:20241028T183000
DTEND;TZID=America/Chicago:20241028T200000
DTSTAMP:20260425T201012
CREATED:20241010T225003Z
LAST-MODIFIED:20241010T225003Z
UID:70498-1730140200-1730145600@southlakelc.org
SUMMARY:Discovering Jesus
DESCRIPTION:Join us with Discovering Jesus every 4th Monday at 6:30pm. We will begin with the Gospel of Mark; this will be an opportunity to begin reading the Bible in a way that changes how you read and think about it. There is no homework or extra readings and we encourage you to bring yourself and a friend. \nLocation: La Brisa League City. 501 N Wesley Dr\, League City\, TX 77573 \nMore Info \n  \nEngage | Grow | Share
URL:https://southlakelc.org/calendar/discovering-jesus-5
LOCATION:TX
CATEGORIES:Community,Food,Outreach
ATTACH;FMTTYPE=image/jpeg:https://southlakelc.org/wp-content/uploads/2024/06/discover-jesus-19201080-Recovered-scaled.jpg
END:VEVENT
BEGIN:VEVENT
DTSTART;TZID=America/Chicago:20241026T150000
DTEND;TZID=America/Chicago:20241026T180000
DTSTAMP:20260425T201012
CREATED:20241021T154932Z
LAST-MODIFIED:20241021T161625Z
UID:71534-1729954800-1729965600@southlakelc.org
SUMMARY:Reformation and Pizza Family Gathering
DESCRIPTION:Join us for pizza and a movie for our Reformation Gathering. We will look further into what it means and all the risks that went into sharing God’s word. \nLocation: Gary and Emily Wilson’s home.  \nLearn more here. \nEngage | Grow | Share
URL:https://southlakelc.org/calendar/reformation-and-pizza-family-gathering
LOCATION:TX
CATEGORIES:Community,Food,Outreach
ATTACH;FMTTYPE=image/png:https://southlakelc.org/wp-content/uploads/2024/10/ref-and-pizza-update.png
END:VEVENT
BEGIN:VEVENT
DTSTART;TZID=America/Chicago:20241026T080000
DTEND;TZID=America/Chicago:20241026T090000
DTSTAMP:20260425T201012
CREATED:20241010T224357Z
LAST-MODIFIED:20241010T224357Z
UID:70486-1729929600-1729933200@southlakelc.org
SUMMARY:Immerse
DESCRIPTION:This is a 8 Week Reading Plan: https://immersebible.com/messiah \nGetting to know Jesus the best way possible. We’ll be reading together through the New Testament reading about God’s plan from getting to know who Jesus and the Church are as well as what does it mean to live a life as a Christian. Meet us 8am Saturdays at Noah’s Ark Café in Bacliff\, 4438 Boulevard St\, Bacliff\, TX 77518 \n\nContact Rob Bailey at rbailey@southlakelc.org\n\n  \nEngage | Grow | Share
URL:https://southlakelc.org/calendar/immerse-105
LOCATION:TX
CATEGORIES:Community,Food,Outreach
ATTACH;FMTTYPE=image/jpeg:https://southlakelc.org/wp-content/uploads/2024/06/Immerse-Update-Recoveredweb-scaled.jpg
END:VEVENT
BEGIN:VEVENT
DTSTART;TZID=America/Chicago:20241025T183000
DTEND;TZID=America/Chicago:20241025T203000
DTSTAMP:20260425T201012
CREATED:20240819T145644Z
LAST-MODIFIED:20241010T223539Z
UID:65304-1729881000-1729888200@southlakelc.org
SUMMARY:Renewal - Women's Gathering
DESCRIPTION:Renewal is South Lake’s Women’s Gathering. A chance for women from all over our League City community to gather together\, be renewed from all that life throws at us and be reminded we walk together on our faith journey. We are also going to be discussing the book “Here For It (the Good\, the Bad\, and the Queso): The How-To Guide for Deepening Your Friendships and Doing Life Together” by Amy Weatherly and Jess Johnston (Chapter 1-2!) \nLocation: Melissa’s home \nFor more information and to register: click here \n\nAmazon link to the book: click here \n  \nEngage | Grow | Share
URL:https://southlakelc.org/calendar/renewal-womens-gathering-23
LOCATION:TX
CATEGORIES:Community,Food,Outreach
ATTACH;FMTTYPE=image/jpeg:https://southlakelc.org/wp-content/uploads/2022/01/womens-gathering.jpeg
END:VEVENT
BEGIN:VEVENT
DTSTART;TZID=America/Chicago:20241024T123000
DTEND;TZID=America/Chicago:20241024T133000
DTSTAMP:20260425T201012
CREATED:20241010T224817Z
LAST-MODIFIED:20241010T224817Z
UID:70496-1729773000-1729776600@southlakelc.org
SUMMARY:South Lake Luncheon
DESCRIPTION:Join us every 2nd and 4th Thursdays of the month. Bring your appetite and a friend as we gather. As we meet for lunch\, we’ll get to know one another and enjoy great food. \nThis week’s meeting will start at 12:30pm and we will be meeting at La Brisa League City 501 N Wesley Dr\, League City\, TX 77573 \nMore Info \n  \nEngage | Grow | Share
URL:https://southlakelc.org/calendar/south-lake-luncheon-55
LOCATION:TX
CATEGORIES:Community,Food,Outreach
ATTACH;FMTTYPE=image/png:https://southlakelc.org/wp-content/uploads/2024/03/Luncheon-1.png
END:VEVENT
BEGIN:VEVENT
DTSTART;TZID=America/Chicago:20241023T070000
DTEND;TZID=America/Chicago:20241023T080000
DTSTAMP:20260425T201012
CREATED:20241010T223836Z
LAST-MODIFIED:20241010T223836Z
UID:70472-1729666800-1729670400@southlakelc.org
SUMMARY:Wednesday Recap Breakfast
DESCRIPTION:Got questions or thoughts from this past Sunday or just hungry to start your morning? Join us at Kelley’s Country Cookin 7am each Wednesday to go over the reading from last Sunday\, discuss\, and be together as we begin the work day. Another great opportunity to share with friends and invite them to get to know Jesus. \n1502 FM518\, League City\, TX 77573 \n  \nEngage | Grow | Share
URL:https://southlakelc.org/calendar/wednesday-recap-breakfast-93
LOCATION:TX
CATEGORIES:Community,Food,Outreach
ATTACH;FMTTYPE=image/jpeg:https://southlakelc.org/wp-content/uploads/2024/06/Wednesday-Morning-web-scaled.jpg
END:VEVENT
BEGIN:VEVENT
DTSTART;TZID=America/Chicago:20241022T143000
DTEND;TZID=America/Chicago:20241022T153000
DTSTAMP:20260425T201012
CREATED:20241010T224603Z
LAST-MODIFIED:20241010T224646Z
UID:70494-1729607400-1729611000@southlakelc.org
SUMMARY:Small Group - Arbet's
DESCRIPTION:Meet us on the 2nd and 4th Tuesdays at 2:30pm at the Arbet home. We will be discussing the Serendipity Bible study called “Coping with Tough Times”. \nThis Small Group is for the Tuscan Lakes area. \nFor more information and to register\, click here. \n  \nEngage | Grow | Share
URL:https://southlakelc.org/calendar/small-group-arbets-33
LOCATION:TX
CATEGORIES:Community,Food,Outreach
ATTACH;FMTTYPE=image/jpeg:https://southlakelc.org/wp-content/uploads/2023/03/small_groups-title-2-Wide-16x9-1.jpg
END:VEVENT
BEGIN:VEVENT
DTSTART;TZID=America/Chicago:20241021T180000
DTEND;TZID=America/Chicago:20241021T190000
DTSTAMP:20260425T201012
CREATED:20241010T224518Z
LAST-MODIFIED:20241010T224718Z
UID:70491-1729533600-1729537200@southlakelc.org
SUMMARY:Small Group - Kirkley's
DESCRIPTION:Meet us the 1st and 3rd Mondays at 6pm at the Kirkley’s home to discuss The Gospel of Matthew \n  \nFor more information and to register\, click here. \n  \nEngage | Grow | Share
URL:https://southlakelc.org/calendar/small-group-kirkleys-35
LOCATION:TX
CATEGORIES:Community,Food,Outreach
ATTACH;FMTTYPE=image/jpeg:https://southlakelc.org/wp-content/uploads/2023/03/small_groups-title-2-Wide-16x9-1.jpg
END:VEVENT
BEGIN:VEVENT
DTSTART;TZID=America/Chicago:20241020T120000
DTEND;TZID=America/Chicago:20241020T140000
DTSTAMP:20260425T201012
CREATED:20240923T154148Z
LAST-MODIFIED:20240923T154148Z
UID:68790-1729425600-1729432800@southlakelc.org
SUMMARY:Sunday Funday
DESCRIPTION:Welcome to South Lake’s Sunday Funday Gathering. A chance to gather together after church and have lunch. We go to different restaurants South of the Lake monthly to enjoy the food and people.\nThis Month’s location is The Backyard. 1301 4th St\, Seabrook\, TX 77586\nFor more information and to let us know you’re coming\, clicking here.\n 
URL:https://southlakelc.org/calendar/sunday-funday-16
LOCATION:TX
CATEGORIES:Community,Food,Outreach
ATTACH;FMTTYPE=image/jpeg:https://southlakelc.org/wp-content/uploads/2024/06/Sunday-Funday-scaled.jpg
END:VEVENT
BEGIN:VEVENT
DTSTART;TZID=America/Chicago:20241019T080000
DTEND;TZID=America/Chicago:20241019T090000
DTSTAMP:20260425T201012
CREATED:20241010T224410Z
LAST-MODIFIED:20241010T224410Z
UID:70485-1729324800-1729328400@southlakelc.org
SUMMARY:Immerse
DESCRIPTION:This is a 8 Week Reading Plan: https://immersebible.com/messiah \nGetting to know Jesus the best way possible. We’ll be reading together through the New Testament reading about God’s plan from getting to know who Jesus and the Church are as well as what does it mean to live a life as a Christian. Meet us 8am Saturdays at Noah’s Ark Café in Bacliff\, 4438 Boulevard St\, Bacliff\, TX 77518 \n\nContact Rob Bailey at rbailey@southlakelc.org\n\n  \nEngage | Grow | Share
URL:https://southlakelc.org/calendar/immerse-106
LOCATION:TX
CATEGORIES:Community,Food,Outreach
ATTACH;FMTTYPE=image/jpeg:https://southlakelc.org/wp-content/uploads/2024/06/Immerse-Update-Recoveredweb-scaled.jpg
END:VEVENT
BEGIN:VEVENT
DTSTART;TZID=America/Chicago:20241017T130000
DTEND;TZID=America/Chicago:20241017T140000
DTSTAMP:20260425T201012
CREATED:20241010T224104Z
LAST-MODIFIED:20241010T224211Z
UID:70478-1729170000-1729173600@southlakelc.org
SUMMARY:Small Group - Renschen's
DESCRIPTION:Meet us every Thursdays at 1pm at the Renschen’s home to discuss “NT in Antiquity – Studying the New Testament”  with a 27 week video Bible study presented by Gary M. Burge & Gene L. Green. \nSynopsis: The New Testament in Antiquity. The New Testament in Antiquity skillfully develops how Jewish\, Hellenistic\, and Roman cultures formed the essential environment in which the New Testament authors wrote their books and letters. Throughout the video lectures\, presenters Gary Burge and Gene Green provide windows into the first-century world and discuss issues of interpretation derived from cultural observations. You will learn how understanding the land\, history\, and culture of this world brings remarkable new insights into how we read the New Testament itself.\nFor more information and to register\, click here. \n  \nEngage | Grow | Share
URL:https://southlakelc.org/calendar/small-group-renschens-51
LOCATION:TX
CATEGORIES:Community,Food,Outreach
ATTACH;FMTTYPE=image/jpeg:https://southlakelc.org/wp-content/uploads/2023/03/small_groups-title-2-Wide-16x9-1.jpg
END:VEVENT
BEGIN:VEVENT
DTSTART;TZID=America/Chicago:20241016T070000
DTEND;TZID=America/Chicago:20241016T080000
DTSTAMP:20260425T201012
CREATED:20241010T223855Z
LAST-MODIFIED:20241010T223855Z
UID:70471-1729062000-1729065600@southlakelc.org
SUMMARY:Wednesday Recap Breakfast
DESCRIPTION:Got questions or thoughts from this past Sunday or just hungry to start your morning? Join us at Kelley’s Country Cookin 7am each Wednesday to go over the reading from last Sunday\, discuss\, and be together as we begin the work day. Another great opportunity to share with friends and invite them to get to know Jesus. \n1502 FM518\, League City\, TX 77573 \n  \nEngage | Grow | Share
URL:https://southlakelc.org/calendar/wednesday-recap-breakfast-94
LOCATION:TX
CATEGORIES:Community,Food,Outreach
ATTACH;FMTTYPE=image/jpeg:https://southlakelc.org/wp-content/uploads/2024/06/Wednesday-Morning-web-scaled.jpg
END:VEVENT
BEGIN:VEVENT
DTSTART;TZID=America/Chicago:20241012T080000
DTEND;TZID=America/Chicago:20241012T090000
DTSTAMP:20260425T201012
CREATED:20241010T191352Z
LAST-MODIFIED:20241010T191352Z
UID:70453-1728720000-1728723600@southlakelc.org
SUMMARY:Immerse
DESCRIPTION:This is a 8 Week Reading Plan: https://immersebible.com/messiah \nGetting to know Jesus the best way possible. We’ll be reading together through the New Testament reading about God’s plan from getting to know who Jesus and the Church are as well as what does it mean to live a life as a Christian. Meet us 8am Saturdays at Noah’s Ark Café in Bacliff\, 4438 Boulevard St\, Bacliff\, TX 77518 \n\nContact Rob Bailey at rbailey@southlakelc.org\n\n  \nEngage | Grow | Share
URL:https://southlakelc.org/calendar/immerse-103
LOCATION:TX
CATEGORIES:Community,Food
ATTACH;FMTTYPE=image/jpeg:https://southlakelc.org/wp-content/uploads/2024/06/Immerse-Update-Recoveredweb-scaled.jpg
END:VEVENT
BEGIN:VEVENT
DTSTART;TZID=America/Chicago:20241011T183000
DTEND;TZID=America/Chicago:20241011T200000
DTSTAMP:20260425T201012
CREATED:20241010T194700Z
LAST-MODIFIED:20241010T230814Z
UID:70457-1728671400-1728676800@southlakelc.org
SUMMARY:Guys' Gathering
DESCRIPTION:Men of South Lake\, we are having our next guys gathering. Join us as we take time to be together\, share what’s going on with all the craziness of our life. Bring a side dish (chips or nuts count) Come together for whisky or drink of choice\, cigars\, and a side. We’re having beer brats! \nLocation: Joe Volesky’s home \nFor more information and to register\, click here. \n  \nEngage | Grow | Share
URL:https://southlakelc.org/calendar/guys-gathering-29
LOCATION:TX
CATEGORIES:Community,Food,Outreach
ATTACH;FMTTYPE=image/jpeg:https://southlakelc.org/wp-content/uploads/2022/01/guys-gathering-update.jpg
END:VEVENT
BEGIN:VEVENT
DTSTART;TZID=America/Chicago:20241010T130000
DTEND;TZID=America/Chicago:20241010T140000
DTSTAMP:20260425T201012
CREATED:20241010T224101Z
LAST-MODIFIED:20241010T224101Z
UID:70477-1728565200-1728568800@southlakelc.org
SUMMARY:Small Group - Renschen's
DESCRIPTION:Meet us every Thursdays at 1pm at the Renschen’s home to discuss “NT in Antiquity – Studying the New Testament”  with a 27 week video Bible study presented by Gary M. Burge & Gene L. Green. \nSynopsis: The New Testament in Antiquity. The New Testament in Antiquity skillfully develops how Jewish\, Hellenistic\, and Roman cultures formed the essential environment in which the New Testament authors wrote their books and letters. Throughout the video lectures\, presenters Gary Burge and Gene Green provide windows into the first-century world and discuss issues of interpretation derived from cultural observations. You will learn how understanding the land\, history\, and culture of this world brings remarkable new insights into how we read the New Testament itself.\nFor more information and to register\, click here. \n  \nEngage | Grow | Share
URL:https://southlakelc.org/calendar/small-group-renschens-50
LOCATION:TX
CATEGORIES:Community,Food,Outreach
ATTACH;FMTTYPE=image/jpeg:https://southlakelc.org/wp-content/uploads/2023/03/small_groups-title-2-Wide-16x9-1.jpg
END:VEVENT
BEGIN:VEVENT
DTSTART;TZID=America/Chicago:20241005T080000
DTEND;TZID=America/Chicago:20241005T170000
DTSTAMP:20260425T201012
CREATED:20241003T151022Z
LAST-MODIFIED:20241003T151022Z
UID:69758-1728115200-1728147600@southlakelc.org
SUMMARY:Immerse
DESCRIPTION:This is a 8 Week Reading Plan: https://immersebible.com/messiah \nGetting to know Jesus the best way possible. We’ll be reading together through the New Testament reading about God’s plan from getting to know who Jesus and the Church are as well as what does it mean to live a life as a Christian. Meet us 8am Saturdays at Noah’s Ark Café in Bacliff\, 4438 Boulevard St\, Bacliff\, TX 77518 \n\nContact Rob Bailey at rbailey@southlakelc.org\n\n  \nEngage | Grow | Share
URL:https://southlakelc.org/calendar/immerse-102
LOCATION:TX
CATEGORIES:Community,Food
END:VEVENT
BEGIN:VEVENT
DTSTART;TZID=America/Chicago:20240929T103000
DTEND;TZID=America/Chicago:20240929T113000
DTSTAMP:20260425T201012
CREATED:20240826T151153Z
LAST-MODIFIED:20240826T151153Z
UID:66021-1727605800-1727609400@southlakelc.org
SUMMARY:Weekly Worship
DESCRIPTION:Weekly Worship Sundays 10:30am\nHometown Heroes Park\n1001 E League City Pkwy\, League City\, TX 77573\n\n\nLive Stream – SouthLakeLC.org
URL:https://southlakelc.org/calendar/weekly-worship-6
LOCATION:TX
CATEGORIES:Community,Music,Outreach
ATTACH;FMTTYPE=image/jpeg:https://southlakelc.org/wp-content/uploads/2020/11/worship-2-orh4uyww62p8wcxyfofslvas4h3zxl5gtyzjhk1g_26784dd1e7ecdceb97fd98a90e6b97d4-opt-1.jpg
END:VEVENT
BEGIN:VEVENT
DTSTART;TZID=America/Chicago:20240928T080000
DTEND;TZID=America/Chicago:20240928T090000
DTSTAMP:20260425T201012
CREATED:20240826T150835Z
LAST-MODIFIED:20240826T150835Z
UID:66012-1727510400-1727514000@southlakelc.org
SUMMARY:Immerse
DESCRIPTION:This is a 8 Week Reading Plan: https://immersebible.com/chronicles-8-week/ \nGetting to know Jesus the best way possible. We’ll be reading together through the New Testament reading about God’s plan from getting to know who Jesus and the Church are as well as what does it mean to live a life as a Christian. Meet us 8am Saturdays at Noah’s Ark Café in Bacliff\, 4438 Boulevard St\, Bacliff\, TX 77518 \n\nContact Rob Bailey at rbailey@southlakelc.org\n\n  \nEngage | Grow | Share
URL:https://southlakelc.org/calendar/immerse-99
LOCATION:TX
CATEGORIES:Community,Food,Outreach
ATTACH;FMTTYPE=image/jpeg:https://southlakelc.org/wp-content/uploads/2024/06/Immerse-Update-Recoveredweb-scaled.jpg
END:VEVENT
BEGIN:VEVENT
DTSTART;TZID=America/Chicago:20240926T130000
DTEND;TZID=America/Chicago:20240926T140000
DTSTAMP:20260425T201012
CREATED:20240826T150302Z
LAST-MODIFIED:20240826T150302Z
UID:66003-1727355600-1727359200@southlakelc.org
SUMMARY:Small Group - Renschen's
DESCRIPTION:Meet us every Thursdays at 1pm at the Renschen’s home to discuss “NT in Antiquity – Studying the New Testament”  with a 27 week video Bible study presented by Gary M. Burge & Gene L. Green. \nSynopsis: The New Testament in Antiquity. The New Testament in Antiquity skillfully develops how Jewish\, Hellenistic\, and Roman cultures formed the essential environment in which the New Testament authors wrote their books and letters. Throughout the video lectures\, presenters Gary Burge and Gene Green provide windows into the first-century world and discuss issues of interpretation derived from cultural observations. You will learn how understanding the land\, history\, and culture of this world brings remarkable new insights into how we read the New Testament itself.\nFor more information and to register\, click here. \n  \nEngage | Grow | Share
URL:https://southlakelc.org/calendar/small-group-renschens-46
LOCATION:TX
CATEGORIES:Community,Outreach
ATTACH;FMTTYPE=image/jpeg:https://southlakelc.org/wp-content/uploads/2023/03/small_groups-title-2-Wide-16x9-1.jpg
END:VEVENT
BEGIN:VEVENT
DTSTART;TZID=America/Chicago:20240926T123000
DTEND;TZID=America/Chicago:20240926T133000
DTSTAMP:20260425T201012
CREATED:20240826T150109Z
LAST-MODIFIED:20240826T150109Z
UID:65996-1727353800-1727357400@southlakelc.org
SUMMARY:South Lake Luncheon
DESCRIPTION:Join us every 2nd and 4th Thursdays of the month. Bring your appetite and a friend as we gather. As we meet for lunch\, we’ll get to know one another and enjoy great food. \nThis week’s meeting will start at 12:30pm and we will be meeting at La Brisa League City 501 N Wesley Dr\, League City\, TX 77573 \nMore Info \n  \nEngage | Grow | Share
URL:https://southlakelc.org/calendar/south-lake-luncheon-54
LOCATION:TX
CATEGORIES:Community,Food,Outreach
ATTACH;FMTTYPE=image/png:https://southlakelc.org/wp-content/uploads/2024/03/Luncheon-1.png
END:VEVENT
BEGIN:VEVENT
DTSTART;TZID=America/Chicago:20240925T070000
DTEND;TZID=America/Chicago:20240925T080000
DTSTAMP:20260425T201012
CREATED:20240826T145913Z
LAST-MODIFIED:20240826T145913Z
UID:65993-1727247600-1727251200@southlakelc.org
SUMMARY:Wednesday Recap Breakfast
DESCRIPTION:Got questions or thoughts from this past Sunday or just hungry to start your morning? Join us at Kelley’s Country Cookin 7am each Wednesday to go over the reading from last Sunday\, discuss\, and be together as we begin the work day. Another great opportunity to share with friends and invite them to get to know Jesus. \n1502 FM518\, League City\, TX 77573 \n  \nEngage | Grow | Share
URL:https://southlakelc.org/calendar/wednesday-recap-breakfast-91
LOCATION:TX
CATEGORIES:Community,Food,Outreach
ATTACH;FMTTYPE=image/jpeg:https://southlakelc.org/wp-content/uploads/2022/04/WednesdayRecapBreakfast.jpg
END:VEVENT
BEGIN:VEVENT
DTSTART;TZID=America/Chicago:20240924T143000
DTEND;TZID=America/Chicago:20240924T160000
DTSTAMP:20260425T201012
CREATED:20240826T144814Z
LAST-MODIFIED:20240826T144814Z
UID:65980-1727188200-1727193600@southlakelc.org
SUMMARY:Small Group - Arbet's
DESCRIPTION:Meet us on the 2nd and 4th Tuesdays at 2:30pm at the Arbet home. We will be discussing the Serendipity Bible study called “Coping with Tough Times”. \nThis Small Group is for the Tuscan Lakes area. \nFor more information and to register\, click here. \n  \nEngage | Grow | Share
URL:https://southlakelc.org/calendar/small-group-arbets-38
LOCATION:TX
CATEGORIES:Community,Outreach
ATTACH;FMTTYPE=image/jpeg:https://southlakelc.org/wp-content/uploads/2023/03/small_groups-title-2-Wide-16x9-1.jpg
END:VEVENT
BEGIN:VEVENT
DTSTART;TZID=America/Chicago:20240923T183000
DTEND;TZID=America/Chicago:20240923T200000
DTSTAMP:20260425T201012
CREATED:20240826T145445Z
LAST-MODIFIED:20240826T145506Z
UID:65985-1727116200-1727121600@southlakelc.org
SUMMARY:Discovering Jesus
DESCRIPTION:Join us with Discovering Jesus every 4th Monday at 6:30pm. We will begin with the Gospel of Mark; this will be an opportunity to begin reading the Bible in a way that changes how you read and think about it. There is no homework or extra readings and we encourage you to bring yourself and a friend. \nLocation: La Brisa League City. 501 N Wesley Dr\, League City\, TX 77573 \nMore Info \n  \nEngage | Grow | Share
URL:https://southlakelc.org/calendar/discovering-jesus-4
LOCATION:TX
CATEGORIES:Community,Food,Outreach
ATTACH;FMTTYPE=image/jpeg:https://southlakelc.org/wp-content/uploads/2024/06/discover-jesus-web-jpg-scaled.jpg
END:VEVENT
BEGIN:VEVENT
DTSTART;TZID=America/Chicago:20240923T180000
DTEND;TZID=America/Chicago:20240923T190000
DTSTAMP:20260425T201012
CREATED:20240826T145635Z
LAST-MODIFIED:20240916T173307Z
UID:65988-1727114400-1727118000@southlakelc.org
SUMMARY:Small Group - Kirkley's
DESCRIPTION:Meet us the 1st and 3rd Mondays at 6pm at the Kirkley’s home to discuss The Gospel of Matthew \n  \nFor more information and to register\, click here. \n  \nEngage | Grow | Share
URL:https://southlakelc.org/calendar/small-group-kirkleys-34
LOCATION:TX
CATEGORIES:Community,Outreach
ATTACH;FMTTYPE=image/jpeg:https://southlakelc.org/wp-content/uploads/2023/03/small_groups-title-2-Wide-16x9-1.jpg
END:VEVENT
BEGIN:VEVENT
DTSTART;TZID=America/Chicago:20240922T103000
DTEND;TZID=America/Chicago:20240922T113000
DTSTAMP:20260425T201012
CREATED:20240826T151135Z
LAST-MODIFIED:20240826T151135Z
UID:66020-1727001000-1727004600@southlakelc.org
SUMMARY:Weekly Worship
DESCRIPTION:Weekly Worship Sundays 10:30am\nHometown Heroes Park\n1001 E League City Pkwy\, League City\, TX 77573\n\n\nLive Stream – SouthLakeLC.org
URL:https://southlakelc.org/calendar/weekly-worship-5
LOCATION:TX
CATEGORIES:Community,Music,Outreach
ATTACH;FMTTYPE=image/jpeg:https://southlakelc.org/wp-content/uploads/2020/11/worship-2-orh4uyww62p8wcxyfofslvas4h3zxl5gtyzjhk1g_26784dd1e7ecdceb97fd98a90e6b97d4-opt-1.jpg
END:VEVENT
END:VCALENDAR