BEGIN:VCALENDAR
VERSION:2.0
PRODID:-//South Lake Church - ECPv6.15.20//NONSGML v1.0//EN
CALSCALE:GREGORIAN
METHOD:PUBLISH
X-WR-CALNAME:South Lake Church
X-ORIGINAL-URL:https://southlakelc.org
X-WR-CALDESC:Events for South Lake Church
REFRESH-INTERVAL;VALUE=DURATION:PT1H
X-Robots-Tag:noindex
X-PUBLISHED-TTL:PT1H
BEGIN:VTIMEZONE
TZID:America/Chicago
BEGIN:DAYLIGHT
TZOFFSETFROM:-0600
TZOFFSETTO:-0500
TZNAME:CDT
DTSTART:20240310T080000
END:DAYLIGHT
BEGIN:STANDARD
TZOFFSETFROM:-0500
TZOFFSETTO:-0600
TZNAME:CST
DTSTART:20241103T070000
END:STANDARD
BEGIN:DAYLIGHT
TZOFFSETFROM:-0600
TZOFFSETTO:-0500
TZNAME:CDT
DTSTART:20250309T080000
END:DAYLIGHT
BEGIN:STANDARD
TZOFFSETFROM:-0500
TZOFFSETTO:-0600
TZNAME:CST
DTSTART:20251102T070000
END:STANDARD
BEGIN:DAYLIGHT
TZOFFSETFROM:-0600
TZOFFSETTO:-0500
TZNAME:CDT
DTSTART:20260308T080000
END:DAYLIGHT
BEGIN:STANDARD
TZOFFSETFROM:-0500
TZOFFSETTO:-0600
TZNAME:CST
DTSTART:20261101T070000
END:STANDARD
END:VTIMEZONE
BEGIN:VEVENT
DTSTART;TZID=America/Chicago:20250417T130000
DTEND;TZID=America/Chicago:20250417T140000
DTSTAMP:20260425T102236
CREATED:20250327T162210Z
LAST-MODIFIED:20250327T162210Z
UID:86993-1744894800-1744898400@southlakelc.org
SUMMARY:Small Group - Renschen's
DESCRIPTION:Meet us every Thursdays at 1pm at the Renschen’s home for our 8-week discussion on the 8-week series: “Epic of Eden: Deborah – Unlikely Heroes and the Book of Judges” by Sandra L. Richter. \nFor more information and to register\, click here. \n  \nEngage | Grow | Share
URL:https://southlakelc.org/calendar/small-group-renschens-71
LOCATION:TX
CATEGORIES:Community,Outreach
ATTACH;FMTTYPE=image/jpeg:https://southlakelc.org/wp-content/uploads/2023/03/small_groups-title-2-Wide-16x9-1.jpg
END:VEVENT
BEGIN:VEVENT
DTSTART;TZID=America/Chicago:20250416T070000
DTEND;TZID=America/Chicago:20250416T080000
DTSTAMP:20260425T102236
CREATED:20250327T162830Z
LAST-MODIFIED:20250327T162830Z
UID:87005-1744786800-1744790400@southlakelc.org
SUMMARY:Wednesday Recap Breakfast
DESCRIPTION:Got questions or thoughts from this past Sunday or just hungry to start your morning? Join us at Kelley’s Country Cookin 7am each Wednesday to go over the reading from last Sunday\, discuss\, and be together as we begin the work day. Another great opportunity to share with friends and invite them to get to know Jesus. \n1502 FM518\, League City\, TX 77573 \n  \nEngage | Grow | Share
URL:https://southlakelc.org/calendar/wednesday-recap-breakfast-113
LOCATION:TX
CATEGORIES:Community,Food,Outreach
ATTACH;FMTTYPE=image/jpeg:https://southlakelc.org/wp-content/uploads/2024/10/Breakfast-Wednesday-Morning-web-scaled.jpg
END:VEVENT
BEGIN:VEVENT
DTSTART;TZID=America/Chicago:20250413T103000
DTEND;TZID=America/Chicago:20250413T113000
DTSTAMP:20260425T102236
CREATED:20250327T170925Z
LAST-MODIFIED:20250327T171621Z
UID:87036-1744540200-1744543800@southlakelc.org
SUMMARY:Palm Sunday
DESCRIPTION:Join South Lake as we celebrate Palm Sunday together. Palms and crosses will be handed out\, as well as Sunday School at 10. \nWe’ll be meeting April 13thd 10:30AM at Hometown Heroes Park\, 1001 E League City Pkwy\, League City\, TX 77573 \nTo learn more\, click here.
URL:https://southlakelc.org/calendar/palm-sunday-2
LOCATION:TX
CATEGORIES:Community,Music,Outreach
ATTACH;FMTTYPE=image/jpeg:https://southlakelc.org/wp-content/uploads/2025/03/palm_sunday_ink_palm_sunday-title-1-Standard-4x3-1.jpg
END:VEVENT
BEGIN:VEVENT
DTSTART;TZID=America/Chicago:20250412T080000
DTEND;TZID=America/Chicago:20250412T090000
DTSTAMP:20260425T102236
CREATED:20250327T161802Z
LAST-MODIFIED:20250327T161802Z
UID:86983-1744444800-1744448400@southlakelc.org
SUMMARY:Immerse
DESCRIPTION:Join South Lake Church for Immerse! \nWe’re embarking on a 12-week journey of reading the Apocrypha together every Saturday morning. Dive deep into these ancient texts\, enrich your faith\, and connect with our community as we read books to help give us understanding of the times leading up to the New Testament \n  \nDon’t miss out on this unique and enlightening experience! Everyone is welcome. \n#SouthLakeChurch #Immerse #Apocrypha #FaithJourney #Community \nMore info: https://southlakelc.churchcenter.com/registrations/events/524440 \n\nContact Rob Bailey at rbailey@southlakelc.org\n\n  \nEngage | Grow | Share
URL:https://southlakelc.org/calendar/immerse-128
LOCATION:TX
CATEGORIES:Community,Food,Outreach
ATTACH;FMTTYPE=image/jpeg:https://southlakelc.org/wp-content/uploads/2024/06/Immerse-Update-Recoveredweb-scaled.jpg
END:VEVENT
BEGIN:VEVENT
DTSTART;TZID=America/Chicago:20250411T183000
DTEND;TZID=America/Chicago:20250411T203000
DTSTAMP:20260425T102236
CREATED:20250113T161829Z
LAST-MODIFIED:20250506T154530Z
UID:79779-1744396200-1744403400@southlakelc.org
SUMMARY:Guys' Gathering
DESCRIPTION:Men of South Lake\, we are having our next guys gathering. Join us as we take time to be together\, share what’s going on with all the craziness of our life. Bring a side dish (chips or nuts count) Come together for whisky or drink of choice\, cigars\, and a side. \nLocation: Pastor Rob’s house \nFor more information and to register\, click here. \n  \nEngage | Grow | Share
URL:https://southlakelc.org/calendar/guys-gathering-32
LOCATION:TX
CATEGORIES:Community,Food,Outreach
ATTACH;FMTTYPE=image/jpeg:https://southlakelc.org/wp-content/uploads/2022/01/guys-gathering-update.jpg
END:VEVENT
BEGIN:VEVENT
DTSTART;TZID=America/Chicago:20250410T130000
DTEND;TZID=America/Chicago:20250410T140000
DTSTAMP:20260425T102236
CREATED:20250327T162157Z
LAST-MODIFIED:20250327T162157Z
UID:86992-1744290000-1744293600@southlakelc.org
SUMMARY:Small Group - Renschen's
DESCRIPTION:Meet us every Thursdays at 1pm at the Renschen’s home for our 8-week discussion on the 8-week series: “Epic of Eden: Deborah – Unlikely Heroes and the Book of Judges” by Sandra L. Richter. \nFor more information and to register\, click here. \n  \nEngage | Grow | Share
URL:https://southlakelc.org/calendar/small-group-renschens-70
LOCATION:TX
CATEGORIES:Community,Outreach
ATTACH;FMTTYPE=image/jpeg:https://southlakelc.org/wp-content/uploads/2023/03/small_groups-title-2-Wide-16x9-1.jpg
END:VEVENT
BEGIN:VEVENT
DTSTART;TZID=America/Chicago:20250409T070000
DTEND;TZID=America/Chicago:20250409T080000
DTSTAMP:20260425T102236
CREATED:20250327T162847Z
LAST-MODIFIED:20250327T162847Z
UID:87004-1744182000-1744185600@southlakelc.org
SUMMARY:Wednesday Recap Breakfast
DESCRIPTION:Got questions or thoughts from this past Sunday or just hungry to start your morning? Join us at Kelley’s Country Cookin 7am each Wednesday to go over the reading from last Sunday\, discuss\, and be together as we begin the work day. Another great opportunity to share with friends and invite them to get to know Jesus. \n1502 FM518\, League City\, TX 77573 \n  \nEngage | Grow | Share
URL:https://southlakelc.org/calendar/wednesday-recap-breakfast-114
LOCATION:TX
CATEGORIES:Community,Food,Outreach
ATTACH;FMTTYPE=image/jpeg:https://southlakelc.org/wp-content/uploads/2024/10/Breakfast-Wednesday-Morning-web-scaled.jpg
END:VEVENT
BEGIN:VEVENT
DTSTART;TZID=America/Chicago:20250408T143000
DTEND;TZID=America/Chicago:20250408T160000
DTSTAMP:20260425T102236
CREATED:20250321T214617Z
LAST-MODIFIED:20250321T214617Z
UID:86369-1744122600-1744128000@southlakelc.org
SUMMARY:Small Group - Arbet's
DESCRIPTION:Meet us on the 2nd and 4th Tuesdays at 2:30pm at the Arbet home. \nThis Small Group is for the Tuscan Lakes area. \nFor more information and to register\, click here. \n  \nEngage | Grow | Share
URL:https://southlakelc.org/calendar/small-group-arbets-46
LOCATION:TX
CATEGORIES:Community,Outreach
ATTACH;FMTTYPE=image/jpeg:https://southlakelc.org/wp-content/uploads/2023/03/small_groups-title-2-Wide-16x9-1.jpg
END:VEVENT
BEGIN:VEVENT
DTSTART;TZID=America/Chicago:20250406T103000
DTEND;TZID=America/Chicago:20250406T113000
DTSTAMP:20260425T102236
CREATED:20250327T163247Z
LAST-MODIFIED:20250327T163540Z
UID:87013-1743935400-1743939000@southlakelc.org
SUMMARY:Weekly Worship
DESCRIPTION:Weekly Worship Sundays 10:30am\nThe Blue Building\n144 Park Ave\, League City\, TX 77573\n\n\nLive Stream – SouthLakeLC.org
URL:https://southlakelc.org/calendar/weekly-worship-29
LOCATION:TX
CATEGORIES:Community,Music,Outreach
ATTACH;FMTTYPE=image/jpeg:https://southlakelc.org/wp-content/uploads/2020/11/worship-2-orh4uyww62p8wcxyfofslvas4h3zxl5gtyzjhk1g_26784dd1e7ecdceb97fd98a90e6b97d4-opt-1.jpg
END:VEVENT
BEGIN:VEVENT
DTSTART;TZID=America/Chicago:20250405T080000
DTEND;TZID=America/Chicago:20250405T090000
DTSTAMP:20260425T102236
CREATED:20250327T161747Z
LAST-MODIFIED:20250327T161747Z
UID:86982-1743840000-1743843600@southlakelc.org
SUMMARY:Immerse
DESCRIPTION:Join South Lake Church for Immerse! \nWe’re embarking on a 12-week journey of reading the Apocrypha together every Saturday morning. Dive deep into these ancient texts\, enrich your faith\, and connect with our community as we read books to help give us understanding of the times leading up to the New Testament \n  \nDon’t miss out on this unique and enlightening experience! Everyone is welcome. \n#SouthLakeChurch #Immerse #Apocrypha #FaithJourney #Community \nMore info: https://southlakelc.churchcenter.com/registrations/events/524440 \n\nContact Rob Bailey at rbailey@southlakelc.org\n\n  \nEngage | Grow | Share
URL:https://southlakelc.org/calendar/immerse-127
LOCATION:TX
CATEGORIES:Community,Food,Outreach
ATTACH;FMTTYPE=image/jpeg:https://southlakelc.org/wp-content/uploads/2024/06/Immerse-Update-Recoveredweb-scaled.jpg
END:VEVENT
BEGIN:VEVENT
DTSTART;TZID=America/Chicago:20250403T183000
DTEND;TZID=America/Chicago:20250403T200000
DTSTAMP:20260425T102236
CREATED:20250311T164547Z
LAST-MODIFIED:20250311T165054Z
UID:85390-1743705000-1743710400@southlakelc.org
SUMMARY:Weekday Walks with Jesus
DESCRIPTION:Interested in spending a little time during the week enjoying your evening with a walk and reflection on God’s Word? We are having an introductory gathering on Thursday\, April 3rd at 6:30 pm at the home of Pete and Corinne Hartwell.  We will have a small devotion and then pose some questions to reflect and discuss while walking around Willow Pond in the Brittany Lakes subdivision (around 1 mile).  After gathering back\, we can share any insights over a cold beverage on the patio. \nDate: Thursday April 3rd \nTime: 6:30pm  \nLocation: home of Pete and Corinne Hartwell. \nRSVP: Corinne Hartwell (216-402-5056/hartwellcorinne@gmail.com) \nFor more information click here \n  \nEngage | Grow | Share
URL:https://southlakelc.org/calendar/weekday-walks-with-jesus
LOCATION:TX
CATEGORIES:Community,Outreach
ATTACH;FMTTYPE=image/png:https://southlakelc.org/wp-content/uploads/2025/03/WalkWithJesus-sit.png
END:VEVENT
BEGIN:VEVENT
DTSTART;TZID=America/Chicago:20250403T130000
DTEND;TZID=America/Chicago:20250403T140000
DTSTAMP:20260425T102236
CREATED:20250327T162141Z
LAST-MODIFIED:20250327T162141Z
UID:86991-1743685200-1743688800@southlakelc.org
SUMMARY:Small Group - Renschen's
DESCRIPTION:Meet us every Thursdays at 1pm at the Renschen’s home for our 8-week discussion on the 8-week series: “Epic of Eden: Deborah – Unlikely Heroes and the Book of Judges” by Sandra L. Richter. \nFor more information and to register\, click here. \n  \nEngage | Grow | Share
URL:https://southlakelc.org/calendar/small-group-renschens-69
LOCATION:TX
CATEGORIES:Community,Outreach
ATTACH;FMTTYPE=image/jpeg:https://southlakelc.org/wp-content/uploads/2023/03/small_groups-title-2-Wide-16x9-1.jpg
END:VEVENT
BEGIN:VEVENT
DTSTART;TZID=America/Chicago:20250402T070000
DTEND;TZID=America/Chicago:20250402T080000
DTSTAMP:20260425T102236
CREATED:20250327T162903Z
LAST-MODIFIED:20250327T162903Z
UID:87003-1743577200-1743580800@southlakelc.org
SUMMARY:Wednesday Recap Breakfast
DESCRIPTION:Got questions or thoughts from this past Sunday or just hungry to start your morning? Join us at Kelley’s Country Cookin 7am each Wednesday to go over the reading from last Sunday\, discuss\, and be together as we begin the work day. Another great opportunity to share with friends and invite them to get to know Jesus. \n1502 FM518\, League City\, TX 77573 \n  \nEngage | Grow | Share
URL:https://southlakelc.org/calendar/wednesday-recap-breakfast-115
LOCATION:TX
CATEGORIES:Community,Food,Outreach
ATTACH;FMTTYPE=image/jpeg:https://southlakelc.org/wp-content/uploads/2024/10/Breakfast-Wednesday-Morning-web-scaled.jpg
END:VEVENT
BEGIN:VEVENT
DTSTART;TZID=America/Chicago:20250401T190000
DTEND;TZID=America/Chicago:20250401T200000
DTSTAMP:20260425T102236
CREATED:20250321T214918Z
LAST-MODIFIED:20250321T214918Z
UID:86397-1743534000-1743537600@southlakelc.org
SUMMARY:Pints and Questions (Ps and Qs)
DESCRIPTION:Join us for Ps & Qs every 1st Tuesday at 7pm! This is a great opportunity to ask Pastor Rob questions!\nCheck out more info about the South Lake Church @ SouthLakeLC.org\n\nMeet us at Craft 96\, 2575 E League City Pkwy\, League City\, TX 77573\n\n  \nEngage | Grow | Share
URL:https://southlakelc.org/calendar/pints-and-questions-ps-and-qs-39
LOCATION:TX
CATEGORIES:Community,Food
ATTACH;FMTTYPE=image/jpeg:https://southlakelc.org/wp-content/uploads/2024/06/psqs-web-scaled.jpg
END:VEVENT
BEGIN:VEVENT
DTSTART;TZID=America/Chicago:20250330T103000
DTEND;TZID=America/Chicago:20250330T113000
DTSTAMP:20260425T102236
CREATED:20250217T165822Z
LAST-MODIFIED:20250217T165953Z
UID:83242-1743330600-1743334200@southlakelc.org
SUMMARY:Weekly Worship
DESCRIPTION:Weekly Worship Sundays 10:30am\nHometown Heroes Park\n1001 E League City Pkwy\, League City\, TX 77573\n\n\nLive Stream – SouthLakeLC.org
URL:https://southlakelc.org/calendar/weekly-worship-28
LOCATION:TX
CATEGORIES:Community,Music,Outreach
ATTACH;FMTTYPE=image/jpeg:https://southlakelc.org/wp-content/uploads/2020/11/worship-2-orh4uyww62p8wcxyfofslvas4h3zxl5gtyzjhk1g_26784dd1e7ecdceb97fd98a90e6b97d4-opt-1.jpg
END:VEVENT
BEGIN:VEVENT
DTSTART;TZID=America/Chicago:20250329T170000
DTEND;TZID=America/Chicago:20250329T200000
DTSTAMP:20260425T102236
CREATED:20250217T165309Z
LAST-MODIFIED:20250321T145335Z
UID:83247-1743267600-1743278400@southlakelc.org
SUMMARY:Crawfish Boil
DESCRIPTION:Join us for a crawfish boil! \nEvent Details: \n\nDate: Saturday\, March 29\nTime: 5-8pm\nLocation: The Knea’s home.\n\nBring your family and friends—it’s going to be a memorable day! \nMore information here \nSign up to bring sides or drinks here
URL:https://southlakelc.org/calendar/crawfish-boil
LOCATION:TX
CATEGORIES:Community,Food,Outreach
ATTACH;FMTTYPE=image/png:https://southlakelc.org/wp-content/uploads/2025/02/Crawfish-Boil-2025.png
END:VEVENT
BEGIN:VEVENT
DTSTART;TZID=America/Chicago:20250329T080000
DTEND;TZID=America/Chicago:20250329T090000
DTSTAMP:20260425T102236
CREATED:20250217T170310Z
LAST-MODIFIED:20250217T170310Z
UID:83238-1743235200-1743238800@southlakelc.org
SUMMARY:Immerse
DESCRIPTION:Join South Lake Church for Immerse! \nWe’re embarking on a 12-week journey of reading the Apocrypha together every Saturday morning. Dive deep into these ancient texts\, enrich your faith\, and connect with our community as we read books to help give us understanding of the times leading up to the New Testament \n  \nDon’t miss out on this unique and enlightening experience! Everyone is welcome. \n#SouthLakeChurch #Immerse #Apocrypha #FaithJourney #Community \nMore info: https://southlakelc.churchcenter.com/registrations/events/524440 \n\nContact Rob Bailey at rbailey@southlakelc.org\n\n  \nEngage | Grow | Share
URL:https://southlakelc.org/calendar/immerse-126
LOCATION:TX
CATEGORIES:Community,Food,Outreach
ATTACH;FMTTYPE=image/jpeg:https://southlakelc.org/wp-content/uploads/2024/06/Immerse-Update-Recoveredweb-scaled.jpg
END:VEVENT
BEGIN:VEVENT
DTSTART;TZID=America/Chicago:20250327T130000
DTEND;TZID=America/Chicago:20250327T140000
DTSTAMP:20260425T102236
CREATED:20250217T164618Z
LAST-MODIFIED:20250217T164618Z
UID:83222-1743080400-1743084000@southlakelc.org
SUMMARY:Small Group - Renschen's
DESCRIPTION:Meet us every Thursdays at 1pm at the Renschen’s home for our 8-week discussion on the 8-week series: “Epic of Eden: Deborah – Unlikely Heroes and the Book of Judges” by Sandra L. Richter. \nFor more information and to register\, click here. \n  \nEngage | Grow | Share
URL:https://southlakelc.org/calendar/small-group-renschens-68
LOCATION:TX
CATEGORIES:Community,Outreach
ATTACH;FMTTYPE=image/jpeg:https://southlakelc.org/wp-content/uploads/2025/02/small-group-renschen.jpg
END:VEVENT
BEGIN:VEVENT
DTSTART;TZID=America/Chicago:20250326T070000
DTEND;TZID=America/Chicago:20250326T080000
DTSTAMP:20260425T102236
CREATED:20250217T170132Z
LAST-MODIFIED:20250217T170132Z
UID:83232-1742972400-1742976000@southlakelc.org
SUMMARY:Wednesday Recap Breakfast
DESCRIPTION:Got questions or thoughts from this past Sunday or just hungry to start your morning? Join us at Kelley’s Country Cookin 7am each Wednesday to go over the reading from last Sunday\, discuss\, and be together as we begin the work day. Another great opportunity to share with friends and invite them to get to know Jesus. \n1502 FM518\, League City\, TX 77573 \n  \nEngage | Grow | Share
URL:https://southlakelc.org/calendar/wednesday-recap-breakfast-110
LOCATION:TX
CATEGORIES:Community,Food,Outreach
ATTACH;FMTTYPE=image/jpeg:https://southlakelc.org/wp-content/uploads/2024/10/Breakfast-Wednesday-Morning-web-scaled.jpg
END:VEVENT
BEGIN:VEVENT
DTSTART;TZID=America/Chicago:20250325T143000
DTEND;TZID=America/Chicago:20250325T160000
DTSTAMP:20260425T102236
CREATED:20250321T214631Z
LAST-MODIFIED:20250321T214631Z
UID:86368-1742913000-1742918400@southlakelc.org
SUMMARY:Small Group - Arbet's
DESCRIPTION:Meet us on the 2nd and 4th Tuesdays at 2:30pm at the Arbet home. \nThis Small Group is for the Tuscan Lakes area. \nFor more information and to register\, click here. \n  \nEngage | Grow | Share
URL:https://southlakelc.org/calendar/small-group-arbets-47
LOCATION:TX
CATEGORIES:Community,Outreach
ATTACH;FMTTYPE=image/jpeg:https://southlakelc.org/wp-content/uploads/2023/03/small_groups-title-2-Wide-16x9-1.jpg
END:VEVENT
BEGIN:VEVENT
DTSTART;TZID=America/Chicago:20250323T103000
DTEND;TZID=America/Chicago:20250323T113000
DTSTAMP:20260425T102236
CREATED:20250217T165807Z
LAST-MODIFIED:20250217T165954Z
UID:83241-1742725800-1742729400@southlakelc.org
SUMMARY:Weekly Worship
DESCRIPTION:Weekly Worship Sundays 10:30am\nHometown Heroes Park\n1001 E League City Pkwy\, League City\, TX 77573\n\n\nLive Stream – SouthLakeLC.org
URL:https://southlakelc.org/calendar/weekly-worship-27
LOCATION:TX
CATEGORIES:Community,Music,Outreach
ATTACH;FMTTYPE=image/jpeg:https://southlakelc.org/wp-content/uploads/2020/11/worship-2-orh4uyww62p8wcxyfofslvas4h3zxl5gtyzjhk1g_26784dd1e7ecdceb97fd98a90e6b97d4-opt-1.jpg
END:VEVENT
BEGIN:VEVENT
DTSTART;TZID=America/Chicago:20250322T080000
DTEND;TZID=America/Chicago:20250322T090000
DTSTAMP:20260425T102236
CREATED:20250217T170256Z
LAST-MODIFIED:20250217T170256Z
UID:83237-1742630400-1742634000@southlakelc.org
SUMMARY:Immerse
DESCRIPTION:Join South Lake Church for Immerse! \nWe’re embarking on a 12-week journey of reading the Apocrypha together every Saturday morning. Dive deep into these ancient texts\, enrich your faith\, and connect with our community as we read books to help give us understanding of the times leading up to the New Testament \n  \nDon’t miss out on this unique and enlightening experience! Everyone is welcome. \n#SouthLakeChurch #Immerse #Apocrypha #FaithJourney #Community \nMore info: https://southlakelc.churchcenter.com/registrations/events/524440 \n\nContact Rob Bailey at rbailey@southlakelc.org\n\n  \nEngage | Grow | Share
URL:https://southlakelc.org/calendar/immerse-125
LOCATION:TX
CATEGORIES:Community,Food,Outreach
ATTACH;FMTTYPE=image/jpeg:https://southlakelc.org/wp-content/uploads/2024/06/Immerse-Update-Recoveredweb-scaled.jpg
END:VEVENT
BEGIN:VEVENT
DTSTART;TZID=America/Chicago:20250321T183000
DTEND;TZID=America/Chicago:20250321T203000
DTSTAMP:20260425T102236
CREATED:20250217T170151Z
LAST-MODIFIED:20250227T151903Z
UID:83233-1742581800-1742589000@southlakelc.org
SUMMARY:Renewal - Women's Gathering
DESCRIPTION:Renewal is South Lake’s Women’s Gathering. A chance for women from all over our League City community to gather together\, be renewed from all that life throws at us and be reminded we walk together on our faith journey. We are also going to be discussing the book Don’t forget to grab a copy of “Here For It (the Good\, the Bad\, and the Queso): The How-To Guide for Deepening Your Friendships and Doing Life Together” by Amy Weatherly and Jess Johnston \nLocation: Betsy’s home \nFor more information and to register: click here \n\nAmazon link to the book: click here \n  \nEngage | Grow | Share
URL:https://southlakelc.org/calendar/renewal-womens-gathering-28
LOCATION:TX
CATEGORIES:Community,Food,Outreach
ATTACH;FMTTYPE=image/jpeg:https://southlakelc.org/wp-content/uploads/2022/01/womens-gathering.jpeg
END:VEVENT
BEGIN:VEVENT
DTSTART;TZID=America/Chicago:20250320T130000
DTEND;TZID=America/Chicago:20250320T140000
DTSTAMP:20260425T102236
CREATED:20250217T164558Z
LAST-MODIFIED:20250217T164558Z
UID:83221-1742475600-1742479200@southlakelc.org
SUMMARY:Small Group - Renschen's
DESCRIPTION:Meet us every Thursdays at 1pm at the Renschen’s home for our 8-week discussion on the 8-week series: “Epic of Eden: Deborah – Unlikely Heroes and the Book of Judges” by Sandra L. Richter. \nFor more information and to register\, click here. \n  \nEngage | Grow | Share
URL:https://southlakelc.org/calendar/small-group-renschens-67
LOCATION:TX
CATEGORIES:Community,Outreach
ATTACH;FMTTYPE=image/jpeg:https://southlakelc.org/wp-content/uploads/2025/02/small-group-renschen.jpg
END:VEVENT
BEGIN:VEVENT
DTSTART;TZID=America/Chicago:20250319T070000
DTEND;TZID=America/Chicago:20250319T080000
DTSTAMP:20260425T102236
CREATED:20250217T170118Z
LAST-MODIFIED:20250217T170118Z
UID:83231-1742367600-1742371200@southlakelc.org
SUMMARY:Wednesday Recap Breakfast
DESCRIPTION:Got questions or thoughts from this past Sunday or just hungry to start your morning? Join us at Kelley’s Country Cookin 7am each Wednesday to go over the reading from last Sunday\, discuss\, and be together as we begin the work day. Another great opportunity to share with friends and invite them to get to know Jesus. \n1502 FM518\, League City\, TX 77573 \n  \nEngage | Grow | Share
URL:https://southlakelc.org/calendar/wednesday-recap-breakfast-109
LOCATION:TX
CATEGORIES:Community,Food,Outreach
ATTACH;FMTTYPE=image/jpeg:https://southlakelc.org/wp-content/uploads/2024/10/Breakfast-Wednesday-Morning-web-scaled.jpg
END:VEVENT
BEGIN:VEVENT
DTSTART;TZID=America/Chicago:20250316T120000
DTEND;TZID=America/Chicago:20250316T140000
DTSTAMP:20260425T102236
CREATED:20250217T163820Z
LAST-MODIFIED:20250217T163820Z
UID:83217-1742126400-1742133600@southlakelc.org
SUMMARY:Sunday Funday
DESCRIPTION:Welcome to South Lake’s Sunday Funday Gathering. A chance to gather together after church and have lunch. We go to different restaurants South of the Lake monthly to enjoy the food and people.\nThis Month’s location is Vida Mariscos. 210 Osprey Dr\, Webster\, TX 77598\n  \nFor more information and to let us know you’re coming\, clicking here.\n\n 
URL:https://southlakelc.org/calendar/sunday-funday-18
LOCATION:TX
CATEGORIES:Community,Food,Outreach
ATTACH;FMTTYPE=image/jpeg:https://southlakelc.org/wp-content/uploads/2024/06/Sunday-Funday-scaled.jpg
END:VEVENT
BEGIN:VEVENT
DTSTART;TZID=America/Chicago:20250316T103000
DTEND;TZID=America/Chicago:20250316T113000
DTSTAMP:20260425T102236
CREATED:20250217T165752Z
LAST-MODIFIED:20250217T165955Z
UID:83240-1742121000-1742124600@southlakelc.org
SUMMARY:Weekly Worship
DESCRIPTION:Weekly Worship Sundays 10:30am\nHometown Heroes Park\n1001 E League City Pkwy\, League City\, TX 77573\n\n\nLive Stream – SouthLakeLC.org
URL:https://southlakelc.org/calendar/weekly-worship-26
LOCATION:TX
CATEGORIES:Community,Music,Outreach
ATTACH;FMTTYPE=image/jpeg:https://southlakelc.org/wp-content/uploads/2020/11/worship-2-orh4uyww62p8wcxyfofslvas4h3zxl5gtyzjhk1g_26784dd1e7ecdceb97fd98a90e6b97d4-opt-1.jpg
END:VEVENT
BEGIN:VEVENT
DTSTART;TZID=America/Chicago:20250315T080000
DTEND;TZID=America/Chicago:20250315T090000
DTSTAMP:20260425T102236
CREATED:20250217T170242Z
LAST-MODIFIED:20250217T170242Z
UID:83236-1742025600-1742029200@southlakelc.org
SUMMARY:Immerse
DESCRIPTION:Join South Lake Church for Immerse! \nWe’re embarking on a 12-week journey of reading the Apocrypha together every Saturday morning. Dive deep into these ancient texts\, enrich your faith\, and connect with our community as we read books to help give us understanding of the times leading up to the New Testament \n  \nDon’t miss out on this unique and enlightening experience! Everyone is welcome. \n#SouthLakeChurch #Immerse #Apocrypha #FaithJourney #Community \nMore info: https://southlakelc.churchcenter.com/registrations/events/524440 \n\nContact Rob Bailey at rbailey@southlakelc.org\n\n  \nEngage | Grow | Share
URL:https://southlakelc.org/calendar/immerse-124
LOCATION:TX
CATEGORIES:Community,Food,Outreach
ATTACH;FMTTYPE=image/jpeg:https://southlakelc.org/wp-content/uploads/2024/06/Immerse-Update-Recoveredweb-scaled.jpg
END:VEVENT
BEGIN:VEVENT
DTSTART;TZID=America/Chicago:20250313T130000
DTEND;TZID=America/Chicago:20250313T140000
DTSTAMP:20260425T102236
CREATED:20250217T164545Z
LAST-MODIFIED:20250217T164545Z
UID:83220-1741870800-1741874400@southlakelc.org
SUMMARY:Small Group - Renschen's
DESCRIPTION:Meet us every Thursdays at 1pm at the Renschen’s home for our 8-week discussion on the 8-week series: “Epic of Eden: Deborah – Unlikely Heroes and the Book of Judges” by Sandra L. Richter. \nFor more information and to register\, click here. \n  \nEngage | Grow | Share
URL:https://southlakelc.org/calendar/small-group-renschens-66
LOCATION:TX
CATEGORIES:Community,Outreach
ATTACH;FMTTYPE=image/jpeg:https://southlakelc.org/wp-content/uploads/2025/02/small-group-renschen.jpg
END:VEVENT
BEGIN:VEVENT
DTSTART;TZID=America/Chicago:20250312T070000
DTEND;TZID=America/Chicago:20250312T080000
DTSTAMP:20260425T102236
CREATED:20250217T170105Z
LAST-MODIFIED:20250217T170105Z
UID:83230-1741762800-1741766400@southlakelc.org
SUMMARY:Wednesday Recap Breakfast
DESCRIPTION:Got questions or thoughts from this past Sunday or just hungry to start your morning? Join us at Kelley’s Country Cookin 7am each Wednesday to go over the reading from last Sunday\, discuss\, and be together as we begin the work day. Another great opportunity to share with friends and invite them to get to know Jesus. \n1502 FM518\, League City\, TX 77573 \n  \nEngage | Grow | Share
URL:https://southlakelc.org/calendar/wednesday-recap-breakfast-108
LOCATION:TX
CATEGORIES:Community,Food,Outreach
ATTACH;FMTTYPE=image/jpeg:https://southlakelc.org/wp-content/uploads/2024/10/Breakfast-Wednesday-Morning-web-scaled.jpg
END:VEVENT
END:VCALENDAR