BEGIN:VCALENDAR
VERSION:2.0
PRODID:-//South Lake Church - ECPv6.15.20//NONSGML v1.0//EN
CALSCALE:GREGORIAN
METHOD:PUBLISH
X-WR-CALNAME:South Lake Church
X-ORIGINAL-URL:https://southlakelc.org
X-WR-CALDESC:Events for South Lake Church
REFRESH-INTERVAL;VALUE=DURATION:PT1H
X-Robots-Tag:noindex
X-PUBLISHED-TTL:PT1H
BEGIN:VTIMEZONE
TZID:America/Chicago
BEGIN:DAYLIGHT
TZOFFSETFROM:-0600
TZOFFSETTO:-0500
TZNAME:CDT
DTSTART:20240310T080000
END:DAYLIGHT
BEGIN:STANDARD
TZOFFSETFROM:-0500
TZOFFSETTO:-0600
TZNAME:CST
DTSTART:20241103T070000
END:STANDARD
BEGIN:DAYLIGHT
TZOFFSETFROM:-0600
TZOFFSETTO:-0500
TZNAME:CDT
DTSTART:20250309T080000
END:DAYLIGHT
BEGIN:STANDARD
TZOFFSETFROM:-0500
TZOFFSETTO:-0600
TZNAME:CST
DTSTART:20251102T070000
END:STANDARD
BEGIN:DAYLIGHT
TZOFFSETFROM:-0600
TZOFFSETTO:-0500
TZNAME:CDT
DTSTART:20260308T080000
END:DAYLIGHT
BEGIN:STANDARD
TZOFFSETFROM:-0500
TZOFFSETTO:-0600
TZNAME:CST
DTSTART:20261101T070000
END:STANDARD
END:VTIMEZONE
BEGIN:VEVENT
DTSTART;TZID=America/Chicago:20250903T070000
DTEND;TZID=America/Chicago:20250903T080000
DTSTAMP:20260425T061014
CREATED:20250728T143108Z
LAST-MODIFIED:20250728T143108Z
UID:99104-1756882800-1756886400@southlakelc.org
SUMMARY:Wednesday Recap Breakfast
DESCRIPTION:Got questions or thoughts from this past Sunday or just hungry to start your morning? Join us at Kelley’s Country Cookin 7am each Wednesday to go over the reading from last Sunday\, discuss\, and be together as we begin the work day. Another great opportunity to share with friends and invite them to get to know Jesus. \n1502 FM518\, League City\, TX 77573 \n  \nEngage | Grow | Share
URL:https://southlakelc.org/calendar/wednesday-recap-breakfast-131
CATEGORIES:Community,Food,Outreach
ATTACH;FMTTYPE=image/jpeg:https://southlakelc.org/wp-content/uploads/2024/10/Breakfast-Wednesday-Morning-web-scaled.jpg
END:VEVENT
BEGIN:VEVENT
DTSTART;TZID=America/Chicago:20250902T190000
DTEND;TZID=America/Chicago:20250902T203000
DTSTAMP:20260425T061015
CREATED:20250828T150331Z
LAST-MODIFIED:20250828T150430Z
UID:102181-1756839600-1756845000@southlakelc.org
SUMMARY:Pints and Questions (Ps and Qs)
DESCRIPTION:Join us for Ps & Qs every 1st Tuesday at 7pm! This is a great opportunity to ask Pastor Rob questions!\nCheck out more info about the South Lake Church @ SouthLakeLC.org\n\nMeet us at Craft 96\, 2575 E League City Pkwy\, League City\, TX 77573\n\n  \nEngage | Grow | Share
URL:https://southlakelc.org/calendar/pints-and-questions-ps-and-qs-44
CATEGORIES:Community,Food,Outreach
ATTACH;FMTTYPE=image/jpeg:https://southlakelc.org/wp-content/uploads/2024/06/psqs-web-scaled.jpg
END:VEVENT
BEGIN:VEVENT
DTSTART;TZID=America/Chicago:20250902T140000
DTEND;TZID=America/Chicago:20250902T150000
DTSTAMP:20260425T061015
CREATED:20250728T143915Z
LAST-MODIFIED:20250904T141021Z
UID:99125-1756821600-1756825200@southlakelc.org
SUMMARY:Prayer at 2
DESCRIPTION:Join Pastor Rob every Tuesday at 2 for prayer time at Panera. \nLocation: Panera. 2630 Gulf Fwy Suite A\, League City\, TX 77573 \nEngage | Grow | Share
URL:https://southlakelc.org/calendar/prayer-at-2-14
CATEGORIES:Community,Food,Outreach
ATTACH;FMTTYPE=image/jpeg:https://southlakelc.org/wp-content/uploads/2025/08/Prayers-At-2.jpg
END:VEVENT
BEGIN:VEVENT
DTSTART;TZID=America/Chicago:20250831T103000
DTEND;TZID=America/Chicago:20250831T113000
DTSTAMP:20260425T061015
CREATED:20250728T143402Z
LAST-MODIFIED:20250728T143402Z
UID:99112-1756636200-1756639800@southlakelc.org
SUMMARY:Weekly Worship
DESCRIPTION:Weekly Worship Sundays 10:30am\nHometown Heroes Park\n1001 E League City Pkwy\, League City\, TX 77573\n\n\nLive Stream – SouthLakeLC.org
URL:https://southlakelc.org/calendar/weekly-worship-48
CATEGORIES:Community,Music,Outreach
ATTACH;FMTTYPE=image/jpeg:https://southlakelc.org/wp-content/uploads/2020/11/worship-2-orh4uyww62p8wcxyfofslvas4h3zxl5gtyzjhk1g_26784dd1e7ecdceb97fd98a90e6b97d4-opt-1.jpg
END:VEVENT
BEGIN:VEVENT
DTSTART;TZID=America/Chicago:20250830T080000
DTEND;TZID=America/Chicago:20250830T090000
DTSTAMP:20260425T061015
CREATED:20250728T145311Z
LAST-MODIFIED:20250728T145311Z
UID:99157-1756540800-1756544400@southlakelc.org
SUMMARY:Immerse
DESCRIPTION:Join us as we continue the 16-week series: Beginnings. Getting to know Jesus the best way possible. We’ll be reading together from the Old Testament about God’s plan from the very beginning and need of His love and forgiveness. Meet us 8am Saturdays. \nMore info: https://southlakelc.churchcenter.com/registrations/events/524440 \n\nContact Rob Bailey at rbailey@southlakelc.org\n\n  \nEngage | Grow | Share
URL:https://southlakelc.org/calendar/immerse-148
CATEGORIES:Community,Food,Outreach
ATTACH;FMTTYPE=image/png:https://southlakelc.org/wp-content/uploads/2025/06/Immerse-Bible-Experience1.png
END:VEVENT
BEGIN:VEVENT
DTSTART;TZID=America/Chicago:20250828T123000
DTEND;TZID=America/Chicago:20250828T133000
DTSTAMP:20260425T061015
CREATED:20250728T144621Z
LAST-MODIFIED:20250728T144621Z
UID:99142-1756384200-1756387800@southlakelc.org
SUMMARY:South Lake Luncheon
DESCRIPTION:Join us every 2nd and 4th Thursdays of the month. Bring your appetite and a friend as we gather. As we meet for lunch\, we’ll get to know one another and enjoy great food. \nThis week’s meeting will start at 12:30pm and we will be meeting at La Brisa League City 501 N Wesley Dr\, League City\, TX 77573 \nMore Info \n  \nEngage | Grow | Share
URL:https://southlakelc.org/calendar/south-lake-luncheon-67
CATEGORIES:Community,Food,Outreach
ATTACH;FMTTYPE=image/png:https://southlakelc.org/wp-content/uploads/2024/03/Luncheon-1.png
END:VEVENT
BEGIN:VEVENT
DTSTART;TZID=America/Chicago:20250827T130000
DTEND;TZID=America/Chicago:20250827T140000
DTSTAMP:20260425T061015
CREATED:20250728T144223Z
LAST-MODIFIED:20250728T144223Z
UID:99133-1756299600-1756303200@southlakelc.org
SUMMARY:Small Group - Renschen's
DESCRIPTION:Join us every Wednesday to discuss the book of John\, taught by scholar and professor Gary M. Burge\, you’ll learn about the text itself\, explore issues in John’s culture and in ours that help us understand the ultimate meaning of each passage\, and discover ways in which the eternal theology of John can be understood and lived out in our modern culture. \nFor more information and to register\, click here. \n  \nEngage | Grow | Share
URL:https://southlakelc.org/calendar/small-group-renschens-94
CATEGORIES:Community,Outreach
ATTACH;FMTTYPE=image/jpeg:https://southlakelc.org/wp-content/uploads/2023/03/small_groups-title-2-Wide-16x9-1.jpg
END:VEVENT
BEGIN:VEVENT
DTSTART;TZID=America/Chicago:20250827T070000
DTEND;TZID=America/Chicago:20250827T080000
DTSTAMP:20260425T061015
CREATED:20250728T143054Z
LAST-MODIFIED:20250728T143054Z
UID:99103-1756278000-1756281600@southlakelc.org
SUMMARY:Wednesday Recap Breakfast
DESCRIPTION:Got questions or thoughts from this past Sunday or just hungry to start your morning? Join us at Kelley’s Country Cookin 7am each Wednesday to go over the reading from last Sunday\, discuss\, and be together as we begin the work day. Another great opportunity to share with friends and invite them to get to know Jesus. \n1502 FM518\, League City\, TX 77573 \n  \nEngage | Grow | Share
URL:https://southlakelc.org/calendar/wednesday-recap-breakfast-130
CATEGORIES:Community,Food,Outreach
ATTACH;FMTTYPE=image/jpeg:https://southlakelc.org/wp-content/uploads/2024/10/Breakfast-Wednesday-Morning-web-scaled.jpg
END:VEVENT
BEGIN:VEVENT
DTSTART;TZID=America/Chicago:20250826T140000
DTEND;TZID=America/Chicago:20250826T150000
DTSTAMP:20260425T061015
CREATED:20250728T144437Z
LAST-MODIFIED:20250728T144437Z
UID:99139-1756216800-1756220400@southlakelc.org
SUMMARY:Small Group - Arbet's
DESCRIPTION:We have a special schedule for the summer! Join us at Main Street Bistro. 100 Perkins Ave\, League City\, TX 77573 for food and fellowship on August 26th at 2pm. \n  \nTo join us\, please email Shirley at jsarbet@aol.com \nLocation: Main Street Bistro. 100 Perkins Ave\, League City\, TX 77573 \n  \nEngage | Grow | Share
URL:https://southlakelc.org/calendar/small-group-arbets-53
CATEGORIES:Community,Food,Outreach
ATTACH;FMTTYPE=image/jpeg:https://southlakelc.org/wp-content/uploads/2023/03/small_groups-title-2-Wide-16x9-1.jpg
END:VEVENT
BEGIN:VEVENT
DTSTART;TZID=America/Chicago:20250826T140000
DTEND;TZID=America/Chicago:20250826T150000
DTSTAMP:20260425T061015
CREATED:20250728T143900Z
LAST-MODIFIED:20250728T143900Z
UID:99124-1756216800-1756220400@southlakelc.org
SUMMARY:Prayer at 2
DESCRIPTION:Join Pastor Rob every Tuesday at 2 for prayer time at Panera. \nLocation: Panera. 2630 Gulf Fwy Suite A\, League City\, TX 77573 \nEngage | Grow | Share
URL:https://southlakelc.org/calendar/prayer-at-2-13
CATEGORIES:Community,Food,Outreach
ATTACH;FMTTYPE=image/jpeg:https://southlakelc.org/wp-content/uploads/2022/01/cropped-slc-logo-no-text-Slanted-PSL-1.jpg
END:VEVENT
BEGIN:VEVENT
DTSTART;TZID=America/Chicago:20250824T103000
DTEND;TZID=America/Chicago:20250824T113000
DTSTAMP:20260425T061015
CREATED:20250728T143348Z
LAST-MODIFIED:20250728T143348Z
UID:99111-1756031400-1756035000@southlakelc.org
SUMMARY:Weekly Worship
DESCRIPTION:Weekly Worship Sundays 10:30am\nHometown Heroes Park\n1001 E League City Pkwy\, League City\, TX 77573\n\n\nLive Stream – SouthLakeLC.org
URL:https://southlakelc.org/calendar/weekly-worship-47
CATEGORIES:Community,Music,Outreach
ATTACH;FMTTYPE=image/jpeg:https://southlakelc.org/wp-content/uploads/2020/11/worship-2-orh4uyww62p8wcxyfofslvas4h3zxl5gtyzjhk1g_26784dd1e7ecdceb97fd98a90e6b97d4-opt-1.jpg
END:VEVENT
BEGIN:VEVENT
DTSTART;TZID=America/Chicago:20250823T080000
DTEND;TZID=America/Chicago:20250823T090000
DTSTAMP:20260425T061015
CREATED:20250728T145257Z
LAST-MODIFIED:20250728T145257Z
UID:99156-1755936000-1755939600@southlakelc.org
SUMMARY:Immerse
DESCRIPTION:Join us as we continue the 16-week series: Beginnings. Getting to know Jesus the best way possible. We’ll be reading together from the Old Testament about God’s plan from the very beginning and need of His love and forgiveness. Meet us 8am Saturdays. \nMore info: https://southlakelc.churchcenter.com/registrations/events/524440 \n\nContact Rob Bailey at rbailey@southlakelc.org\n\n  \nEngage | Grow | Share
URL:https://southlakelc.org/calendar/immerse-147
CATEGORIES:Community,Food,Outreach
ATTACH;FMTTYPE=image/png:https://southlakelc.org/wp-content/uploads/2025/06/Immerse-Bible-Experience1.png
END:VEVENT
BEGIN:VEVENT
DTSTART;TZID=America/Chicago:20250820T130000
DTEND;TZID=America/Chicago:20250820T140000
DTSTAMP:20260425T061015
CREATED:20250728T144209Z
LAST-MODIFIED:20250728T144209Z
UID:99132-1755694800-1755698400@southlakelc.org
SUMMARY:Small Group - Renschen's
DESCRIPTION:Join us every Wednesday to discuss the book of John\, taught by scholar and professor Gary M. Burge\, you’ll learn about the text itself\, explore issues in John’s culture and in ours that help us understand the ultimate meaning of each passage\, and discover ways in which the eternal theology of John can be understood and lived out in our modern culture. \nFor more information and to register\, click here. \n  \nEngage | Grow | Share
URL:https://southlakelc.org/calendar/small-group-renschens-93
CATEGORIES:Community,Outreach
ATTACH;FMTTYPE=image/jpeg:https://southlakelc.org/wp-content/uploads/2023/03/small_groups-title-2-Wide-16x9-1.jpg
END:VEVENT
BEGIN:VEVENT
DTSTART;TZID=America/Chicago:20250820T070000
DTEND;TZID=America/Chicago:20250820T080000
DTSTAMP:20260425T061015
CREATED:20250728T143039Z
LAST-MODIFIED:20250728T143039Z
UID:99102-1755673200-1755676800@southlakelc.org
SUMMARY:Wednesday Recap Breakfast
DESCRIPTION:Got questions or thoughts from this past Sunday or just hungry to start your morning? Join us at Kelley’s Country Cookin 7am each Wednesday to go over the reading from last Sunday\, discuss\, and be together as we begin the work day. Another great opportunity to share with friends and invite them to get to know Jesus. \n1502 FM518\, League City\, TX 77573 \n  \nEngage | Grow | Share
URL:https://southlakelc.org/calendar/wednesday-recap-breakfast-129
CATEGORIES:Community,Food,Outreach
ATTACH;FMTTYPE=image/jpeg:https://southlakelc.org/wp-content/uploads/2024/10/Breakfast-Wednesday-Morning-web-scaled.jpg
END:VEVENT
BEGIN:VEVENT
DTSTART;TZID=America/Chicago:20250819T140000
DTEND;TZID=America/Chicago:20250819T150000
DTSTAMP:20260425T061015
CREATED:20250728T143844Z
LAST-MODIFIED:20250728T143844Z
UID:99123-1755612000-1755615600@southlakelc.org
SUMMARY:Prayer at 2
DESCRIPTION:Join Pastor Rob every Tuesday at 2 for prayer time at Panera. \nLocation: Panera. 2630 Gulf Fwy Suite A\, League City\, TX 77573 \nEngage | Grow | Share
URL:https://southlakelc.org/calendar/prayer-at-2-12
CATEGORIES:Community,Food,Outreach
ATTACH;FMTTYPE=image/jpeg:https://southlakelc.org/wp-content/uploads/2022/01/cropped-slc-logo-no-text-Slanted-PSL-1.jpg
END:VEVENT
BEGIN:VEVENT
DTSTART;TZID=America/Chicago:20250817T120000
DTEND;TZID=America/Chicago:20250817T140000
DTSTAMP:20260425T061015
CREATED:20250728T143543Z
LAST-MODIFIED:20250728T143602Z
UID:99119-1755432000-1755439200@southlakelc.org
SUMMARY:Sunday Funday
DESCRIPTION:Welcome to South Lake’s Sunday Funday Gathering. A chance to gather together after church and have lunch. We go to different restaurants South of the Lake monthly to enjoy the food and people.\nThis Month’s location is Yard House\, 700 BayBrook Mall\, Space D 126\, Friendswood TX 77546\n  \nFor more information and to let us know you’re coming\, clicking here.\n\nEngage | Grow | Share
URL:https://southlakelc.org/calendar/sunday-funday-22
CATEGORIES:Community,Food,Outreach
ATTACH;FMTTYPE=image/jpeg:https://southlakelc.org/wp-content/uploads/2024/06/Sunday-Funday-scaled.jpg
END:VEVENT
BEGIN:VEVENT
DTSTART;TZID=America/Chicago:20250817T103000
DTEND;TZID=America/Chicago:20250817T113000
DTSTAMP:20260425T061015
CREATED:20250728T143332Z
LAST-MODIFIED:20250728T143332Z
UID:99110-1755426600-1755430200@southlakelc.org
SUMMARY:Weekly Worship
DESCRIPTION:Weekly Worship Sundays 10:30am\nHometown Heroes Park\n1001 E League City Pkwy\, League City\, TX 77573\n\n\nLive Stream – SouthLakeLC.org
URL:https://southlakelc.org/calendar/weekly-worship-46
CATEGORIES:Community,Music,Outreach
ATTACH;FMTTYPE=image/jpeg:https://southlakelc.org/wp-content/uploads/2020/11/worship-2-orh4uyww62p8wcxyfofslvas4h3zxl5gtyzjhk1g_26784dd1e7ecdceb97fd98a90e6b97d4-opt-1.jpg
END:VEVENT
BEGIN:VEVENT
DTSTART;TZID=America/Chicago:20250816T080000
DTEND;TZID=America/Chicago:20250816T090000
DTSTAMP:20260425T061015
CREATED:20250728T145244Z
LAST-MODIFIED:20250728T145244Z
UID:99155-1755331200-1755334800@southlakelc.org
SUMMARY:Immerse
DESCRIPTION:Join us as we continue the 16-week series: Beginnings. Getting to know Jesus the best way possible. We’ll be reading together from the Old Testament about God’s plan from the very beginning and need of His love and forgiveness. Meet us 8am Saturdays. \nMore info: https://southlakelc.churchcenter.com/registrations/events/524440 \n\nContact Rob Bailey at rbailey@southlakelc.org\n\n  \nEngage | Grow | Share
URL:https://southlakelc.org/calendar/immerse-146
CATEGORIES:Community,Food,Outreach
ATTACH;FMTTYPE=image/png:https://southlakelc.org/wp-content/uploads/2025/06/Immerse-Bible-Experience1.png
END:VEVENT
BEGIN:VEVENT
DTSTART;TZID=America/Chicago:20250815T183000
DTEND;TZID=America/Chicago:20250815T203000
DTSTAMP:20260425T061015
CREATED:20250728T145004Z
LAST-MODIFIED:20250728T145004Z
UID:99148-1755282600-1755289800@southlakelc.org
SUMMARY:Renewal - Women's Gathering
DESCRIPTION:Renewal is South Lake’s Women’s Gathering. A chance for women from all over our League City community to gather together\, be renewed from all that life throws at us and be reminded we walk together on our faith journey. \n\nLocation: Melissa’s home \nFor more information and to register: click here \n\n  \nEngage | Grow | Share
URL:https://southlakelc.org/calendar/renewal-womens-gathering-30
CATEGORIES:Community,Food,Outreach
ATTACH;FMTTYPE=image/jpeg:https://southlakelc.org/wp-content/uploads/2022/01/womens-gathering.jpeg
END:VEVENT
BEGIN:VEVENT
DTSTART;TZID=America/Chicago:20250814T123000
DTEND;TZID=America/Chicago:20250814T133000
DTSTAMP:20260425T061015
CREATED:20250630T145847Z
LAST-MODIFIED:20250630T145847Z
UID:96383-1755174600-1755178200@southlakelc.org
SUMMARY:South Lake Luncheon
DESCRIPTION:Join us every 2nd and 4th Thursdays of the month. Bring your appetite and a friend as we gather. As we meet for lunch\, we’ll get to know one another and enjoy great food. \nThis week’s meeting will start at 12:30pm and we will be meeting at La Brisa League City 501 N Wesley Dr\, League City\, TX 77573 \nMore Info \n  \nEngage | Grow | Share
URL:https://southlakelc.org/calendar/south-lake-luncheon-64
CATEGORIES:Community,Food,Outreach
ATTACH;FMTTYPE=image/png:https://southlakelc.org/wp-content/uploads/2024/03/Luncheon-1.png
END:VEVENT
BEGIN:VEVENT
DTSTART;TZID=America/Chicago:20250813T130000
DTEND;TZID=America/Chicago:20250813T140000
DTSTAMP:20260425T061015
CREATED:20250728T144154Z
LAST-MODIFIED:20250728T144154Z
UID:99131-1755090000-1755093600@southlakelc.org
SUMMARY:Small Group - Renschen's
DESCRIPTION:Join us every Wednesday to discuss the book of John\, taught by scholar and professor Gary M. Burge\, you’ll learn about the text itself\, explore issues in John’s culture and in ours that help us understand the ultimate meaning of each passage\, and discover ways in which the eternal theology of John can be understood and lived out in our modern culture. \nFor more information and to register\, click here. \n  \nEngage | Grow | Share
URL:https://southlakelc.org/calendar/small-group-renschens-92
CATEGORIES:Community,Outreach
ATTACH;FMTTYPE=image/jpeg:https://southlakelc.org/wp-content/uploads/2023/03/small_groups-title-2-Wide-16x9-1.jpg
END:VEVENT
BEGIN:VEVENT
DTSTART;TZID=America/Chicago:20250813T070000
DTEND;TZID=America/Chicago:20250813T080000
DTSTAMP:20260425T061015
CREATED:20250630T144826Z
LAST-MODIFIED:20250630T144826Z
UID:96356-1755068400-1755072000@southlakelc.org
SUMMARY:Wednesday Recap Breakfast
DESCRIPTION:Got questions or thoughts from this past Sunday or just hungry to start your morning? Join us at Kelley’s Country Cookin 7am each Wednesday to go over the reading from last Sunday\, discuss\, and be together as we begin the work day. Another great opportunity to share with friends and invite them to get to know Jesus. \n1502 FM518\, League City\, TX 77573 \n  \nEngage | Grow | Share
URL:https://southlakelc.org/calendar/wednesday-recap-breakfast-125
CATEGORIES:Community,Food,Outreach
ATTACH;FMTTYPE=image/jpeg:https://southlakelc.org/wp-content/uploads/2024/06/Wednesday-Morning-web-scaled.jpg
END:VEVENT
BEGIN:VEVENT
DTSTART;TZID=America/Chicago:20250812T140000
DTEND;TZID=America/Chicago:20250812T150000
DTSTAMP:20260425T061015
CREATED:20250728T143830Z
LAST-MODIFIED:20250728T143830Z
UID:99122-1755007200-1755010800@southlakelc.org
SUMMARY:Prayer at 2
DESCRIPTION:Join Pastor Rob every Tuesday at 2 for prayer time at Panera. \nLocation: Panera. 2630 Gulf Fwy Suite A\, League City\, TX 77573 \nEngage | Grow | Share
URL:https://southlakelc.org/calendar/prayer-at-2-11
CATEGORIES:Community,Food,Outreach
ATTACH;FMTTYPE=image/jpeg:https://southlakelc.org/wp-content/uploads/2022/01/cropped-slc-logo-no-text-Slanted-PSL-1.jpg
END:VEVENT
BEGIN:VEVENT
DTSTART;TZID=America/Chicago:20250810T103000
DTEND;TZID=America/Chicago:20250810T113000
DTSTAMP:20260425T061015
CREATED:20250728T143313Z
LAST-MODIFIED:20250728T143313Z
UID:99109-1754821800-1754825400@southlakelc.org
SUMMARY:Weekly Worship
DESCRIPTION:Weekly Worship Sundays 10:30am\nHometown Heroes Park\n1001 E League City Pkwy\, League City\, TX 77573\n\n\nLive Stream – SouthLakeLC.org
URL:https://southlakelc.org/calendar/weekly-worship-45
CATEGORIES:Community,Music,Outreach
ATTACH;FMTTYPE=image/jpeg:https://southlakelc.org/wp-content/uploads/2020/11/worship-2-orh4uyww62p8wcxyfofslvas4h3zxl5gtyzjhk1g_26784dd1e7ecdceb97fd98a90e6b97d4-opt-1.jpg
END:VEVENT
BEGIN:VEVENT
DTSTART;TZID=America/Chicago:20250809T080000
DTEND;TZID=America/Chicago:20250809T090000
DTSTAMP:20260425T061015
CREATED:20250728T145230Z
LAST-MODIFIED:20250728T145230Z
UID:99154-1754726400-1754730000@southlakelc.org
SUMMARY:Immerse
DESCRIPTION:Join us as we continue the 16-week series: Beginnings. Getting to know Jesus the best way possible. We’ll be reading together from the Old Testament about God’s plan from the very beginning and need of His love and forgiveness. Meet us 8am Saturdays. \nMore info: https://southlakelc.churchcenter.com/registrations/events/524440 \n\nContact Rob Bailey at rbailey@southlakelc.org\n\n  \nEngage | Grow | Share
URL:https://southlakelc.org/calendar/immerse-145
CATEGORIES:Community,Food,Outreach
ATTACH;FMTTYPE=image/png:https://southlakelc.org/wp-content/uploads/2025/06/Immerse-Bible-Experience1.png
END:VEVENT
BEGIN:VEVENT
DTSTART;TZID=America/Chicago:20250808T183000
DTEND;TZID=America/Chicago:20250808T203000
DTSTAMP:20260425T061015
CREATED:20250728T144928Z
LAST-MODIFIED:20250728T144928Z
UID:99146-1754677800-1754685000@southlakelc.org
SUMMARY:Guys' Gathering
DESCRIPTION:Men of South Lake\, we are having our next guys gathering. Join us as we take time to be together\, share what’s going on with all the craziness of our life. Bring a side dish (chips or nuts count) Come together for whisky or drink of choice\, cigars\, and a side. \nLocation: TBD \nFor more information and to register\, click here. \n  \nEngage | Grow | Share
URL:https://southlakelc.org/calendar/guys-gathering-34
CATEGORIES:Community,Food,Outreach
ATTACH;FMTTYPE=image/jpeg:https://southlakelc.org/wp-content/uploads/2022/01/guys-gathering-update.jpg
END:VEVENT
BEGIN:VEVENT
DTSTART;TZID=America/Chicago:20250806T130000
DTEND;TZID=America/Chicago:20250806T140000
DTSTAMP:20260425T061015
CREATED:20250630T145425Z
LAST-MODIFIED:20250630T145425Z
UID:96373-1754485200-1754488800@southlakelc.org
SUMMARY:Small Group - Renschen's
DESCRIPTION:Meet us every Wednesday at 1pm at the Renschen’s home.  In this series on the book of John\, taught by scholar and professor Gary M. Burge\, you’ll learn about the text itself\, explore issues in John’s culture and in ours that help us understand the ultimate meaning of each passage\, and discover ways in which the eternal theology of John can be understood and lived out in our modern culture. \nFor more information and to register\, click here. \n  \nEngage | Grow | Share
URL:https://southlakelc.org/calendar/small-group-renschens-91
CATEGORIES:Community,Outreach
ATTACH;FMTTYPE=image/jpeg:https://southlakelc.org/wp-content/uploads/2023/03/small_groups-title-2-Wide-16x9-1.jpg
END:VEVENT
BEGIN:VEVENT
DTSTART;TZID=America/Chicago:20250806T070000
DTEND;TZID=America/Chicago:20250806T080000
DTSTAMP:20260425T061015
CREATED:20250630T144840Z
LAST-MODIFIED:20250630T144840Z
UID:96355-1754463600-1754467200@southlakelc.org
SUMMARY:Wednesday Recap Breakfast
DESCRIPTION:Got questions or thoughts from this past Sunday or just hungry to start your morning? Join us at Kelley’s Country Cookin 7am each Wednesday to go over the reading from last Sunday\, discuss\, and be together as we begin the work day. Another great opportunity to share with friends and invite them to get to know Jesus. \n1502 FM518\, League City\, TX 77573 \n  \nEngage | Grow | Share
URL:https://southlakelc.org/calendar/wednesday-recap-breakfast-126
CATEGORIES:Community,Food,Outreach
ATTACH;FMTTYPE=image/jpeg:https://southlakelc.org/wp-content/uploads/2024/06/Wednesday-Morning-web-scaled.jpg
END:VEVENT
BEGIN:VEVENT
DTSTART;TZID=America/Chicago:20250805T190000
DTEND;TZID=America/Chicago:20250805T200000
DTSTAMP:20260425T061015
CREATED:20250630T144644Z
LAST-MODIFIED:20250630T144644Z
UID:96350-1754420400-1754424000@southlakelc.org
SUMMARY:Pints and Questions (Ps and Qs)
DESCRIPTION:Join us for Ps & Qs every 1st Tuesday at 7pm! This is a great opportunity to ask Pastor Rob questions!\nCheck out more info about the South Lake Church @ SouthLakeLC.org\n\nMeet us at Craft 96\, 2575 E League City Pkwy\, League City\, TX 77573\n\n  \nEngage | Grow | Share
URL:https://southlakelc.org/calendar/pints-and-questions-ps-and-qs-43
CATEGORIES:Community,Food,Outreach
ATTACH;FMTTYPE=image/jpeg:https://southlakelc.org/wp-content/uploads/2024/06/psqs-web-scaled.jpg
END:VEVENT
BEGIN:VEVENT
DTSTART;TZID=America/Chicago:20250805T140000
DTEND;TZID=America/Chicago:20250805T150000
DTSTAMP:20260425T061015
CREATED:20250728T143815Z
LAST-MODIFIED:20250728T143815Z
UID:99121-1754402400-1754406000@southlakelc.org
SUMMARY:Prayer at 2
DESCRIPTION:Join Pastor Rob every Tuesday at 2 for prayer time at Panera. \nLocation: Panera. 2630 Gulf Fwy Suite A\, League City\, TX 77573 \nEngage | Grow | Share
URL:https://southlakelc.org/calendar/prayer-at-2-10
CATEGORIES:Community,Food,Outreach
ATTACH;FMTTYPE=image/jpeg:https://southlakelc.org/wp-content/uploads/2022/01/cropped-slc-logo-no-text-Slanted-PSL-1.jpg
END:VEVENT
END:VCALENDAR