BEGIN:VCALENDAR
VERSION:2.0
PRODID:-//South Lake Church - ECPv6.15.20//NONSGML v1.0//EN
CALSCALE:GREGORIAN
METHOD:PUBLISH
X-WR-CALNAME:South Lake Church
X-ORIGINAL-URL:https://southlakelc.org
X-WR-CALDESC:Events for South Lake Church
REFRESH-INTERVAL;VALUE=DURATION:PT1H
X-Robots-Tag:noindex
X-PUBLISHED-TTL:PT1H
BEGIN:VTIMEZONE
TZID:America/Chicago
BEGIN:DAYLIGHT
TZOFFSETFROM:-0600
TZOFFSETTO:-0500
TZNAME:CDT
DTSTART:20240310T080000
END:DAYLIGHT
BEGIN:STANDARD
TZOFFSETFROM:-0500
TZOFFSETTO:-0600
TZNAME:CST
DTSTART:20241103T070000
END:STANDARD
BEGIN:DAYLIGHT
TZOFFSETFROM:-0600
TZOFFSETTO:-0500
TZNAME:CDT
DTSTART:20250309T080000
END:DAYLIGHT
BEGIN:STANDARD
TZOFFSETFROM:-0500
TZOFFSETTO:-0600
TZNAME:CST
DTSTART:20251102T070000
END:STANDARD
BEGIN:DAYLIGHT
TZOFFSETFROM:-0600
TZOFFSETTO:-0500
TZNAME:CDT
DTSTART:20260308T080000
END:DAYLIGHT
BEGIN:STANDARD
TZOFFSETFROM:-0500
TZOFFSETTO:-0600
TZNAME:CST
DTSTART:20261101T070000
END:STANDARD
BEGIN:DAYLIGHT
TZOFFSETFROM:-0600
TZOFFSETTO:-0500
TZNAME:CDT
DTSTART:20270314T080000
END:DAYLIGHT
BEGIN:STANDARD
TZOFFSETFROM:-0500
TZOFFSETTO:-0600
TZNAME:CST
DTSTART:20271107T070000
END:STANDARD
END:VTIMEZONE
BEGIN:VEVENT
DTSTART;TZID=America/Chicago:20251203T183000
DTEND;TZID=America/Chicago:20251203T200000
DTSTAMP:20260425T085857
CREATED:20251121T130845Z
LAST-MODIFIED:20251123T172858Z
UID:110602-1764786600-1764792000@southlakelc.org
SUMMARY:Wilson's Small Group
DESCRIPTION:Join us Wednesday’s from 6:30 PM to 8:00 PM as we Engage\, Share and Grow. In this series\, we will study Missionary Pathways. We will meet at the Wilson’s home. This will be week 6. \nTo find out more and to register for the event\, click here. \nEngage | Grow | Share
URL:https://southlakelc.org/calendar/wilsons-small-group
CATEGORIES:Community,Outreach
END:VEVENT
BEGIN:VEVENT
DTSTART;TZID=America/Chicago:20251204T183000
DTEND;TZID=America/Chicago:20251204T200000
DTSTAMP:20260425T085857
CREATED:20251121T131345Z
LAST-MODIFIED:20251123T172945Z
UID:110610-1764873000-1764878400@southlakelc.org
SUMMARY:Evangelism Meeting
DESCRIPTION:We are scheduling a gathering of the Cohorts\, family\, friends & any persons you may want to invite for Thursday\, December 4th at 6:30 at Los Mirasoles in Dickinson.  This is continuation of our prior conversation on Evangelism.  Please review & RSVP (Don @ 281-381-4596) by 12/1\, YES\, if you are coming or NO\, if not so we can plan space & materials. \n  \nEngage|Grow|Share
URL:https://southlakelc.org/calendar/evangelism-meeting
CATEGORIES:Community,Food,Outreach
END:VEVENT
BEGIN:VEVENT
DTSTART;TZID=America/Chicago:20251206T080000
DTEND;TZID=America/Chicago:20251206T100000
DTSTAMP:20260425T085857
CREATED:20251121T124325Z
LAST-MODIFIED:20251123T172458Z
UID:110584-1765008000-1765015200@southlakelc.org
SUMMARY:Immerse Bible Study
DESCRIPTION:Join us as we continue the 16-week series: Kingdoms. Getting to know Jesus the best way possible. We’ll be reading together from the Old Testament about God’s plan from the very beginning and need of His love and forgiveness. Meet us 8am Saturdays. \nTo Register: https://southlakelc.churchcenter.com/registrations/events/524440 \nMore info: Contact Rob Bailey at rbailey@southlakelc.org \nThis week is Week 13. \nEngage | Grow | Share
URL:https://southlakelc.org/calendar/immerse-bible-study
LOCATION:Noah’s Ark\, 4438 Boulevard St\, Bacliff\, TX\, 77518\, United States
CATEGORIES:Community,Food,Outreach
END:VEVENT
BEGIN:VEVENT
DTSTART;TZID=America/Chicago:20251207T100000
DTEND;TZID=America/Chicago:20251207T120000
DTSTAMP:20260425T085857
CREATED:20251121T120320Z
LAST-MODIFIED:20251123T174138Z
UID:110551-1765101600-1765108800@southlakelc.org
SUMMARY:Weekly Worship- Communion Sunday
DESCRIPTION:Weekly Worship Sundays 10:30am\nWe are meeting at Hometown Heroes Park 1001 E League City Pkwy\, League City\, TX 77573 League City\, TX 77573.\n\n\nLive Stream – SouthLakeLC.org
URL:https://southlakelc.org/calendar/weekly-worship-communion-sunday-3
LOCATION:Hometown Heroes Park\, 1001 E League City Pkwy\, League City\, TX\, 77573\, United States
CATEGORIES:Community,Music,Outreach
END:VEVENT
BEGIN:VEVENT
DTSTART;TZID=America/Chicago:20251209T140000
DTEND;TZID=America/Chicago:20251209T150000
DTSTAMP:20260425T085857
CREATED:20251209T140858Z
LAST-MODIFIED:20251209T140858Z
UID:112409-1765288800-1765292400@southlakelc.org
SUMMARY:Prayer @ 2
DESCRIPTION:Join Pastor Rob every Tuesday at 2 for prayer time at Panera. Location: Panera. 2630 Gulf Fwy Suite A\, League City\, TX 77573 \n  \nEngage | Grow | Share
URL:https://southlakelc.org/calendar/prayer-2
LOCATION:Panera Bread (2630 Gulf Freeway\, Suite A\, League City\, TX 77573\, United States)
CATEGORIES:Community,Food,Outreach
END:VEVENT
BEGIN:VEVENT
DTSTART;TZID=America/Chicago:20251209T140000
DTEND;TZID=America/Chicago:20251209T160000
DTSTAMP:20260425T085857
CREATED:20251121T123130Z
LAST-MODIFIED:20251123T174206Z
UID:110578-1765288800-1765296000@southlakelc.org
SUMMARY:Arbet's Small Group
DESCRIPTION:This month we will meet at 2:00 PM at Perry’s Steakhouse in Friendswood for fun\, fellowship\, and food. \nFor more information and to register\, click here. \n  \nEngage | Grow | Share
URL:https://southlakelc.org/calendar/arbets-small-group
CATEGORIES:Community,Food,Outreach
END:VEVENT
BEGIN:VEVENT
DTSTART;TZID=America/Chicago:20251210T070000
DTEND;TZID=America/Chicago:20251210T080000
DTSTAMP:20260425T085857
CREATED:20251122T091647Z
LAST-MODIFIED:20251122T092047Z
UID:110708-1765350000-1765353600@southlakelc.org
SUMMARY:Wednesday Morning Recap
DESCRIPTION:Got questions or thoughts from this past Sunday or just hungry to start your morning? Join us at Kelley’s Country Cookin’ 7:00 AM each Wednesday to go over the reading from last Sunday\, discuss\, and be together as we begin the work day. Another great opportunity to share with friends and invite them to get to know Jesus. \n1502 FM518\, League City\, TX 77573 \n  \nEngage | Grow | Share
URL:https://southlakelc.org/calendar/wednesday-morning-recap-2
LOCATION:Kelley’s Country Cookin’\, 1502 West Main Street\, League City\, TX\, 77573\, United States
CATEGORIES:Community,Food,Outreach
END:VEVENT
BEGIN:VEVENT
DTSTART;TZID=America/Chicago:20251210T130000
DTEND;TZID=America/Chicago:20251210T143000
DTSTAMP:20260425T085857
CREATED:20251121T122702Z
LAST-MODIFIED:20251123T174251Z
UID:110573-1765371600-1765377000@southlakelc.org
SUMMARY:Renschen's Small Group
DESCRIPTION:Meet us Wednesday’s at 1pm at the Renschen’s home.  In this series\, we will be looking at Christian History\, made Easy! This week’s will be lesson seven. \nFor more information and to register\, click here. \n  \nEngage | Grow | Share
URL:https://southlakelc.org/calendar/renschens-small-group-2
CATEGORIES:Community,Outreach
END:VEVENT
BEGIN:VEVENT
DTSTART;TZID=America/Chicago:20251210T183000
DTEND;TZID=America/Chicago:20251210T200000
DTSTAMP:20260425T085857
CREATED:20251121T130939Z
LAST-MODIFIED:20251123T174317Z
UID:110605-1765391400-1765396800@southlakelc.org
SUMMARY:Wilson's Small Group
DESCRIPTION:Join us Wednesday’s from 6:30 PM to 8:00 PM as we Engage\, Share and Grow. In this series\, we will study Missionary Pathways. We will meet at the Wilson’s home. This will be week seven. \nTo find out more and to register for the event\, click here. \nEngage | Grow | Share
URL:https://southlakelc.org/calendar/wilsons-small-group-2
CATEGORIES:Community,Outreach
END:VEVENT
BEGIN:VEVENT
DTSTART;TZID=America/Chicago:20251211T121500
DTEND;TZID=America/Chicago:20251211T140000
DTSTAMP:20260425T085857
CREATED:20251121T123446Z
LAST-MODIFIED:20251123T174423Z
UID:110581-1765455300-1765461600@southlakelc.org
SUMMARY:South Lake Luncheon
DESCRIPTION:Bring your appetite and a friend as we gather. As we meet for lunch\, we’ll get to know one another and enjoy great food. \nThis month’s meeting will start at 12:15 PM and we will be meeting at La Brisa Mexican Restaurant \nMore Info \nThis will be our only gathering this month. \nEngage | Grow | Share
URL:https://southlakelc.org/calendar/south-lake-luncheon-73
LOCATION:La Brisa Mexican Restaurant\, 501 N Wesley Dr\, League City\, TX\, 77573\, United States
CATEGORIES:Community,Food,Outreach
END:VEVENT
BEGIN:VEVENT
DTSTART;TZID=America/Chicago:20251213T080000
DTEND;TZID=America/Chicago:20251213T100000
DTSTAMP:20260425T085857
CREATED:20251121T124427Z
LAST-MODIFIED:20251123T172544Z
UID:110588-1765612800-1765620000@southlakelc.org
SUMMARY:Immerse Bible Study
DESCRIPTION:Join us as we continue the 16-week series: Kingdoms. Getting to know Jesus the best way possible. We’ll be reading together from the Old Testament about God’s plan from the very beginning and need of His love and forgiveness. Meet us 8am Saturdays. This week is Week 14. \nTo Register: https://southlakelc.churchcenter.com/registrations/events/524440 \nMore info: Contact Rob Bailey at rbailey@southlakelc.org \n  \nEngage | Grow | Share
URL:https://southlakelc.org/calendar/immerse-bible-study-2
LOCATION:Noah’s Ark\, 4438 Boulevard St\, Bacliff\, TX\, 77518\, United States
CATEGORIES:Community,Food,Outreach
END:VEVENT
BEGIN:VEVENT
DTSTART;TZID=America/Chicago:20251214T103000
DTEND;TZID=America/Chicago:20251214T120000
DTSTAMP:20260425T085857
CREATED:20251121T120650Z
LAST-MODIFIED:20251123T174551Z
UID:110554-1765708200-1765713600@southlakelc.org
SUMMARY:Weekly Worship- No Communion
DESCRIPTION:Weekly Worship Sundays 10:30am\nWe are meeting at Hometown Heroes Park 1001 E League City Pkwy\, League City\, TX 77573 League City\, TX 77573.\n\n\nLive Stream – SouthLakeLC.org
URL:https://southlakelc.org/calendar/weekly-worship-no-communion
LOCATION:Hometown Heroes Park\, 1001 E League City Pkwy\, League City\, TX\, 77573\, United States
CATEGORIES:Community,Music,Outreach
END:VEVENT
BEGIN:VEVENT
DTSTART;TZID=America/Chicago:20251216T140000
DTEND;TZID=America/Chicago:20251216T150000
DTSTAMP:20260425T085857
CREATED:20251209T140518Z
LAST-MODIFIED:20251209T140952Z
UID:112406-1765893600-1765897200@southlakelc.org
SUMMARY:Prayer @ 2
DESCRIPTION:Join Pastor Rob every Tuesday at 2 for prayer time at Panera. Location: Panera. 2630 Gulf Fwy Suite A\, League City\, TX 77573 \nEngage | Grow | Share
URL:https://southlakelc.org/calendar/prayers-2
LOCATION:Panera Bread (2630 Gulf Freeway\, Suite A\, League City\, TX 77573\, United States)
CATEGORIES:Community,Food,Outreach
END:VEVENT
BEGIN:VEVENT
DTSTART;TZID=America/Chicago:20251217T080000
DTEND;TZID=America/Chicago:20251217T170000
DTSTAMP:20260425T085857
CREATED:20251122T091737Z
LAST-MODIFIED:20251122T091737Z
UID:110710-1765958400-1765990800@southlakelc.org
SUMMARY:Wednesday Morning Recap
DESCRIPTION:Got questions or thoughts from this past Sunday or just hungry to start your morning? Join us at Kelley’s Country Cookin’ 7:00 AM each Wednesday to go over the reading from last Sunday\, discuss\, and be together as we begin the work day. Another great opportunity to share with friends and invite them to get to know Jesus. \n1502 FM518\, League City\, TX 77573 \n  \nEngage | Grow | Share
URL:https://southlakelc.org/calendar/wednesday-morning-recap-3
LOCATION:Kelley’s Country Cookin’\, 1502 West Main Street\, League City\, TX\, 77573\, United States
CATEGORIES:Community,Food,Outreach
END:VEVENT
BEGIN:VEVENT
DTSTART;TZID=America/Chicago:20251217T130000
DTEND;TZID=America/Chicago:20251217T143000
DTSTAMP:20260425T085857
CREATED:20251121T122802Z
LAST-MODIFIED:20251209T135702Z
UID:110576-1765976400-1765981800@southlakelc.org
SUMMARY:Renschen's Small Group
DESCRIPTION:Meet us Wednesday’s at 1pm at the Renschen’s home.  In this series\, we will be looking at Christian History\, made Easy! This week’s will be lesson seven. \nFor more information and to register\, click here. \n  \nEngage | Grow | Share
URL:https://southlakelc.org/calendar/renschens-small-group-3
CATEGORIES:Community,Outreach
END:VEVENT
BEGIN:VEVENT
DTSTART;TZID=America/Chicago:20251217T183000
DTEND;TZID=America/Chicago:20251217T200000
DTSTAMP:20260425T085857
CREATED:20251121T131051Z
LAST-MODIFIED:20251122T091009Z
UID:110607-1765996200-1766001600@southlakelc.org
SUMMARY:Wilson's Small Group
DESCRIPTION:Join us Wednesday’s from 6:30 PM to 8:00 PM as we Engage\, Share and Grow. In this series\, we will study Missionary Pathways. We will meet at the Wilson’s home. This will be week eight; our final week. \nTo find out more and to register for the event\, click here. \nEngage | Grow | Share
URL:https://southlakelc.org/calendar/wilsons-small-group-3
CATEGORIES:Community,Outreach
END:VEVENT
BEGIN:VEVENT
DTSTART;TZID=America/Chicago:20251220T080000
DTEND;TZID=America/Chicago:20251220T100000
DTSTAMP:20260425T085857
CREATED:20251121T124538Z
LAST-MODIFIED:20251123T172147Z
UID:110590-1766217600-1766224800@southlakelc.org
SUMMARY:Immerse Bible Study
DESCRIPTION:Join us as we continue the 16-week series: Kingdoms. Getting to know Jesus the best way possible. We’ll be reading together from the Old Testament about God’s plan from the very beginning and need of His love and forgiveness. Meet us 8am Saturdays. \nTo Register: https://southlakelc.churchcenter.com/registrations/events/524440 \nMore info: Contact Rob Bailey at rbailey@southlakelc.org \nThis week is Week 15. \n  \nEngage | Grow | Share
URL:https://southlakelc.org/calendar/immerse-bible-study-3
LOCATION:Noah’s Ark\, 4438 Boulevard St\, Bacliff\, TX\, 77518\, United States
CATEGORIES:Community,Food,Outreach
END:VEVENT
BEGIN:VEVENT
DTSTART;TZID=America/Chicago:20251221T103000
DTEND;TZID=America/Chicago:20251221T120000
DTSTAMP:20260425T085857
CREATED:20251121T120818Z
LAST-MODIFIED:20251123T175004Z
UID:110556-1766313000-1766318400@southlakelc.org
SUMMARY:Weekly Worship- Communion Sunday
DESCRIPTION:Weekly Worship Sundays 10:30am\nWe are meeting at Hometown Heroes Park 1001 E League City Pkwy\, League City\, TX 77573 League City\, TX 77573.\n\n\nLive Stream – SouthLakeLC.org
URL:https://southlakelc.org/calendar/weekly-worship-communion-sunday-4
LOCATION:Hometown Heroes Park\, 1001 E League City Pkwy\, League City\, TX\, 77573\, United States
CATEGORIES:Community,Music,Outreach,Worship
END:VEVENT
BEGIN:VEVENT
DTSTART;TZID=America/Chicago:20251223T140000
DTEND;TZID=America/Chicago:20251223T150000
DTSTAMP:20260425T085857
CREATED:20251209T141057Z
LAST-MODIFIED:20251209T141057Z
UID:112413-1766498400-1766502000@southlakelc.org
SUMMARY:Prayer @ 2
DESCRIPTION:Join Pastor Rob every Tuesday at 2 for prayer time at Panera. Location: Panera. 2630 Gulf Fwy Suite A\, League City\, TX 77573 \nEngage | Grow | Share
URL:https://southlakelc.org/calendar/prayer-2-2
CATEGORIES:Community,Food,Outreach
END:VEVENT
BEGIN:VEVENT
DTSTART;TZID=America/Chicago:20251224T070000
DTEND;TZID=America/Chicago:20251224T080000
DTSTAMP:20260425T085857
CREATED:20251122T091828Z
LAST-MODIFIED:20251122T091828Z
UID:110712-1766559600-1766563200@southlakelc.org
SUMMARY:Wednesday Morning Recap
DESCRIPTION:Got questions or thoughts from this past Sunday or just hungry to start your morning? Join us at Kelley’s Country Cookin’ 7:00 AM each Wednesday to go over the reading from last Sunday\, discuss\, and be together as we begin the work day. Another great opportunity to share with friends and invite them to get to know Jesus. \n1502 FM518\, League City\, TX 77573 \n  \nEngage | Grow | Share
URL:https://southlakelc.org/calendar/wednesday-morning-recap-4
LOCATION:Kelley’s Country Cookin’\, 1502 West Main Street\, League City\, TX\, 77573\, United States
CATEGORIES:Community,Food,Outreach
END:VEVENT
BEGIN:VEVENT
DTSTART;TZID=America/Chicago:20251224T160000
DTEND;TZID=America/Chicago:20251224T173000
DTSTAMP:20260425T085857
CREATED:20251121T121341Z
LAST-MODIFIED:20251122T090600Z
UID:110560-1766592000-1766597400@southlakelc.org
SUMMARY:Christmas Eve Worship
DESCRIPTION:Christmas Eve Worship\nWe are meeting at Empire Creative  1145 Butler Rd\, League City\, TX 77573.\n\n\nLive Stream – SouthLakeLC.org
URL:https://southlakelc.org/calendar/christmas-eve-worship-3
LOCATION:Empire Creative\, 1145 Butler Rd\, League City\, TX\, 77573\, United States
CATEGORIES:Community,Music,Outreach,Worship
END:VEVENT
BEGIN:VEVENT
DTSTART;TZID=America/Chicago:20251225T100000
DTEND;TZID=America/Chicago:20251225T110000
DTSTAMP:20260425T085857
CREATED:20251121T121538Z
LAST-MODIFIED:20251203T173803Z
UID:110564-1766656800-1766660400@southlakelc.org
SUMMARY:Christmas Day Worship- Online Only
DESCRIPTION:Christmas Day Worship is online only. Watch at southlakelc.org
URL:https://southlakelc.org/calendar/christmas-day-worship-online-only
CATEGORIES:Community,Music,Outreach,Worship
END:VEVENT
BEGIN:VEVENT
DTSTART;TZID=America/Chicago:20251228T103000
DTEND;TZID=America/Chicago:20251228T113000
DTSTAMP:20260425T085857
CREATED:20251121T121113Z
LAST-MODIFIED:20251216T123547Z
UID:110558-1766917800-1766921400@southlakelc.org
SUMMARY:Weekly Worship Devotional-Online Only
DESCRIPTION:Weekly Worship Sundays 10:30am\n\n\nLive Stream – SouthLakeLC.org
URL:https://southlakelc.org/calendar/weekly-worship-no-communion-2
LOCATION:Hometown Heroes Park\, 1001 E League City Pkwy\, League City\, TX\, 77573\, United States
CATEGORIES:Community,Music,Outreach,Worship
END:VEVENT
BEGIN:VEVENT
DTSTART;TZID=America/Chicago:20251230T140000
DTEND;TZID=America/Chicago:20251230T150000
DTSTAMP:20260425T085857
CREATED:20251209T141149Z
LAST-MODIFIED:20251209T141149Z
UID:112415-1767103200-1767106800@southlakelc.org
SUMMARY:Prayer @ 2
DESCRIPTION:Join Pastor Rob every Tuesday at 2 for prayer time at Panera. Location: Panera. 2630 Gulf Fwy Suite A\, League City\, TX 77573 \nEngage | Grow | Share
URL:https://southlakelc.org/calendar/prayer-2-3
LOCATION:Panera Bread (2630 Gulf Freeway\, Suite A\, League City\, TX 77573\, United States)
CATEGORIES:Community,Food,Outreach
END:VEVENT
BEGIN:VEVENT
DTSTART;TZID=America/Chicago:20251231T070000
DTEND;TZID=America/Chicago:20251231T080000
DTSTAMP:20260425T085857
CREATED:20251122T091933Z
LAST-MODIFIED:20251122T091933Z
UID:110714-1767164400-1767168000@southlakelc.org
SUMMARY:Wednesday Morning Recap
DESCRIPTION:Got questions or thoughts from this past Sunday or just hungry to start your morning? Join us at Kelley’s Country Cookin’ 7:00 AM each Wednesday to go over the reading from last Sunday\, discuss\, and be together as we begin the work day. Another great opportunity to share with friends and invite them to get to know Jesus. \n1502 FM518\, League City\, TX 77573 \n  \nEngage | Grow | Share
URL:https://southlakelc.org/calendar/wednesday-morning-recap-5
LOCATION:Kelley’s Country Cookin’\, 1502 West Main Street\, League City\, TX\, 77573\, United States
CATEGORIES:Community,Food,Outreach
END:VEVENT
BEGIN:VEVENT
DTSTART;TZID=America/Chicago:20260103T080000
DTEND;TZID=America/Chicago:20260103T100000
DTSTAMP:20260425T085857
CREATED:20251121T124851Z
LAST-MODIFIED:20251216T123717Z
UID:110596-1767427200-1767434400@southlakelc.org
SUMMARY:Immerse Bible Study
DESCRIPTION:Join us as we gather to enjoy each others’ company as we finished up Kingdom’s last week. Next week we will begin Immerse Poetry. Meet us 8am Saturdays. \nTo Register: https://southlakelc.churchcenter.com/registrations/events/524440 \nMore info: Contact Rob Bailey at rbailey@southlakelc.org \nThis is week 16. \nEngage | Grow | Share
URL:https://southlakelc.org/calendar/immerse-bible-study-6
LOCATION:Noah’s Ark\, 4438 Boulevard St\, Bacliff\, TX\, 77518\, United States
CATEGORIES:Community,Food,Outreach
END:VEVENT
BEGIN:VEVENT
DTSTART;TZID=America/Chicago:20260104T080000
DTEND;TZID=America/Chicago:20260104T170000
DTSTAMP:20260425T085857
CREATED:20260120T102706Z
LAST-MODIFIED:20260120T102706Z
UID:116522-1767513600-1767546000@southlakelc.org
SUMMARY:Weekly Worship- Communion Sunday
DESCRIPTION:Weekly Worship Sundays 10:30am\nWe are meeting at Hometown Heroes Park 1001 E League City Pkwy\, League City\, TX 77573 League City\, TX 77573.\n\n\nLive Stream – SouthLakeLC.org
URL:https://southlakelc.org/calendar/weekly-worship-communion-sunday-6
LOCATION:Hometown Heroes Park\, 1001 E League City Pkwy\, League City\, TX\, 77573\, United States
CATEGORIES:Community,Music,Outreach,Worship
END:VEVENT
BEGIN:VEVENT
DTSTART;TZID=America/Chicago:20260104T103000
DTEND;TZID=America/Chicago:20260104T120000
DTSTAMP:20260425T085857
CREATED:20260120T102313Z
LAST-MODIFIED:20260120T102313Z
UID:116519-1767522600-1767528000@southlakelc.org
SUMMARY:Weekly Worship- Communion Sunday
DESCRIPTION:Weekly Worship Sundays 10:30am\nWe are meeting at Hometown Heroes Park 1001 E League City Pkwy\, League City\, TX 77573 League City\, TX 77573.\n\n\nLive Stream – SouthLakeLC.org
URL:https://southlakelc.org/calendar/weekly-worship-communion-sunday-5
LOCATION:Hometown Heroes Park\, 1001 E League City Pkwy\, League City\, TX\, 77573\, United States
CATEGORIES:Community,Music,Outreach,Worship
END:VEVENT
BEGIN:VEVENT
DTSTART;TZID=America/Chicago:20260106T140000
DTEND;TZID=America/Chicago:20260106T150000
DTSTAMP:20260425T085857
CREATED:20260120T101256Z
LAST-MODIFIED:20260120T101256Z
UID:116505-1767708000-1767711600@southlakelc.org
SUMMARY:Prayer @ 2
DESCRIPTION:Join Pastor Rob every Tuesday at 2 for prayer time at Panera. Location: Panera. 2630 Gulf Fwy Suite A\, League City\, TX 77573 \nEngage | Grow | Share
URL:https://southlakelc.org/calendar/prayer-2-4
LOCATION:Panera Bread (2630 Gulf Freeway\, Suite A\, League City\, TX 77573\, United States)
CATEGORIES:Community,Food,Outreach
END:VEVENT
BEGIN:VEVENT
DTSTART;TZID=America/Chicago:20260106T190000
DTEND;TZID=America/Chicago:20260106T200000
DTSTAMP:20260425T085857
CREATED:20260120T095236Z
LAST-MODIFIED:20260120T095236Z
UID:116479-1767726000-1767729600@southlakelc.org
SUMMARY:Pints & Questions (Ps & Qs)
DESCRIPTION:Join us for Ps & Qs every 1st Tuesday at 7pm! This is a great opportunity to ask Pastor Rob questions!\nCheck out more info about the South Lake Church @ SouthLakeLC.org\n\nMeet us at Craft 96\, 2575 E League City Pkwy\, League City\, TX 77573\n\n  \nEngage | Grow | Share
URL:https://southlakelc.org/calendar/pints-questions-ps-qs-2
LOCATION:Craft 96\, 2575 League City Pkwy\, League City\, TX\, 77573\, United States
CATEGORIES:Community,Food,Outreach
END:VEVENT
END:VCALENDAR