BEGIN:VCALENDAR
VERSION:2.0
PRODID:-//South Lake Church - ECPv6.15.20//NONSGML v1.0//EN
CALSCALE:GREGORIAN
METHOD:PUBLISH
X-ORIGINAL-URL:https://southlakelc.org
X-WR-CALDESC:Events for South Lake Church
REFRESH-INTERVAL;VALUE=DURATION:PT1H
X-Robots-Tag:noindex
X-PUBLISHED-TTL:PT1H
BEGIN:VTIMEZONE
TZID:America/Chicago
BEGIN:DAYLIGHT
TZOFFSETFROM:-0600
TZOFFSETTO:-0500
TZNAME:CDT
DTSTART:20250309T080000
END:DAYLIGHT
BEGIN:STANDARD
TZOFFSETFROM:-0500
TZOFFSETTO:-0600
TZNAME:CST
DTSTART:20251102T070000
END:STANDARD
BEGIN:DAYLIGHT
TZOFFSETFROM:-0600
TZOFFSETTO:-0500
TZNAME:CDT
DTSTART:20260308T080000
END:DAYLIGHT
BEGIN:STANDARD
TZOFFSETFROM:-0500
TZOFFSETTO:-0600
TZNAME:CST
DTSTART:20261101T070000
END:STANDARD
BEGIN:DAYLIGHT
TZOFFSETFROM:-0600
TZOFFSETTO:-0500
TZNAME:CDT
DTSTART:20270314T080000
END:DAYLIGHT
BEGIN:STANDARD
TZOFFSETFROM:-0500
TZOFFSETTO:-0600
TZNAME:CST
DTSTART:20271107T070000
END:STANDARD
END:VTIMEZONE
BEGIN:VEVENT
DTSTART;TZID=America/Chicago:20260121T070000
DTEND;TZID=America/Chicago:20260121T080000
DTSTAMP:20260425T054809
CREATED:20260120T094723Z
LAST-MODIFIED:20260120T094757Z
UID:116475-1768978800-1768982400@southlakelc.org
SUMMARY:Wednesday Morning Recap
DESCRIPTION:Got questions or thoughts from this past Sunday or just hungry to start your morning? Join us at Kelley’s Country Cookin’ 7:00 AM each Wednesday to go over the reading from last Sunday\, discuss\, and be together as we begin the work day. Another great opportunity to share with friends and invite them to get to know Jesus. \n1502 FM518\, League City\, TX 77573 \n  \nEngage | Grow | Share
URL:https://southlakelc.org/calendar/wednesday-morning-recap-8
LOCATION:Kelley’s Country Cookin’\, 1502 West Main Street\, League City\, TX\, 77573\, United States
CATEGORIES:Community,Food,Outreach
END:VEVENT
BEGIN:VEVENT
DTSTART;TZID=America/Chicago:20260121T130000
DTEND;TZID=America/Chicago:20260121T140000
DTSTAMP:20260425T054809
CREATED:20260122T191252Z
LAST-MODIFIED:20260122T191252Z
UID:117246-1769000400-1769004000@southlakelc.org
SUMMARY:Renschen's Small Group
DESCRIPTION:Meet us Wednesday’s at 1pm at the Renschen’s home. \nFor more information and to register\, click here. \n  \nEngage | Grow | Share
URL:https://southlakelc.org/calendar/renschens-small-group-6
CATEGORIES:Community,Outreach
END:VEVENT
BEGIN:VEVENT
DTSTART;TZID=America/Chicago:20260122T121500
DTEND;TZID=America/Chicago:20260122T140000
DTSTAMP:20260425T054809
CREATED:20260122T150118Z
LAST-MODIFIED:20260421T121610Z
UID:117061-1769084100-1769090400@southlakelc.org
SUMMARY:South Lake Luncheon
DESCRIPTION:Bring your appetite and a friend as we gather. As we meet for lunch\, we’ll get to know one another and enjoy great food. \n  \nEngage | Grow | Share
URL:https://southlakelc.org/calendar/south-lake-luncheon-76
LOCATION:La Brisa Mexican Restaurant\, 501 N Wesley Dr\, League City\, TX\, 77573\, United States
CATEGORIES:Community,Food,Outreach
END:VEVENT
BEGIN:VEVENT
DTSTART;TZID=America/Chicago:20260124T080000
DTEND;TZID=America/Chicago:20260124T090000
DTSTAMP:20260425T054809
CREATED:20260122T201239Z
LAST-MODIFIED:20260122T201239Z
UID:117360-1769241600-1769245200@southlakelc.org
SUMMARY:Immerse Bible Study
DESCRIPTION:Join us for breakfast and fellowship. \nMeet us 8am Saturdays at Noah’s Ark Café in Bacliff\, 4438 Boulevard St\, Bacliff\, TX 77518 \nMore Info: Contact Rob Bailey at rbailey@southlakelc.org \nTo register: https://southlakelc.churchcenter.com/registrations/events/3297173 \nEngage | Grow | Share
URL:https://southlakelc.org/calendar/immerse-bible-study-8
CATEGORIES:Community,Food,Outreach
END:VEVENT
BEGIN:VEVENT
DTSTART;TZID=America/Chicago:20260125T103000
DTEND;TZID=America/Chicago:20260125T120000
DTSTAMP:20260425T054809
CREATED:20260120T111710Z
LAST-MODIFIED:20260120T111710Z
UID:116588-1769337000-1769342400@southlakelc.org
SUMMARY:Weekly Worship- No Communion Sunday
DESCRIPTION:Weekly Worship Sundays 10:30am\nWe are meeting at Hometown Heroes Park 1001 E League City Pkwy\, League City\, TX 77573 League City\, TX 77573.\n\n\nLive Stream – SouthLakeLC.org
URL:https://southlakelc.org/calendar/weekly-worship-no-communion-sunday-2
LOCATION:Hometown Heroes Park\, 1001 E League City Pkwy\, League City\, TX\, 77573\, United States
CATEGORIES:Community,Music,Outreach,Worship
END:VEVENT
BEGIN:VEVENT
DTSTART;TZID=America/Chicago:20260127T140000
DTEND;TZID=America/Chicago:20260127T150000
DTSTAMP:20260425T054809
CREATED:20260120T101559Z
LAST-MODIFIED:20260120T145529Z
UID:116512-1769522400-1769526000@southlakelc.org
SUMMARY:Prayer @ 2
DESCRIPTION:Join Pastor Rob every Tuesday at 2 for prayer time at Panera. Location: Panera. 2630 Gulf Fwy Suite A\, League City\, TX 77573 \nEngage | Grow | Share
URL:https://southlakelc.org/calendar/prayer-2-7
LOCATION:Panera Bread (2630 Gulf Freeway\, Suite A\, League City\, TX 77573\, United States)
CATEGORIES:Community,Food,Outreach
END:VEVENT
BEGIN:VEVENT
DTSTART;TZID=America/Chicago:20260127T140000
DTEND;TZID=America/Chicago:20260127T150000
DTSTAMP:20260425T054809
CREATED:20260120T101653Z
LAST-MODIFIED:20260120T101653Z
UID:116514-1769522400-1769526000@southlakelc.org
SUMMARY:Prayer @ 2
DESCRIPTION:Join Pastor Rob every Tuesday at 2 for prayer time at Panera. Location: Panera. 2630 Gulf Fwy Suite A\, League City\, TX 77573 \nEngage | Grow | Share
URL:https://southlakelc.org/calendar/prayer-2-8
LOCATION:Panera Bread (2630 Gulf Freeway\, Suite A\, League City\, TX 77573\, United States)
CATEGORIES:Community,Food,Outreach
END:VEVENT
BEGIN:VEVENT
DTSTART;TZID=America/Chicago:20260127T140000
DTEND;TZID=America/Chicago:20260127T150000
DTSTAMP:20260425T054809
CREATED:20260122T183435Z
LAST-MODIFIED:20260122T183435Z
UID:117192-1769522400-1769526000@southlakelc.org
SUMMARY:Arbet's Small Group
DESCRIPTION:Meet us on the 2nd and 4th Tuesdays at 2:30pm at the Arbet home. \nThis Small Group is for the Tuscan Lakes area. \nFor more information and to register\, click here. \n  \nEngage | Grow | Share
URL:https://southlakelc.org/calendar/arbets-small-group-3
CATEGORIES:Community,Outreach
END:VEVENT
BEGIN:VEVENT
DTSTART;TZID=America/Chicago:20260128T080000
DTEND;TZID=America/Chicago:20260128T080000
DTSTAMP:20260425T054809
CREATED:20260120T094903Z
LAST-MODIFIED:20260120T094903Z
UID:116477-1769587200-1769587200@southlakelc.org
SUMMARY:Wednesday Morning Recap
DESCRIPTION:Got questions or thoughts from this past Sunday or just hungry to start your morning? Join us at Kelley’s Country Cookin’ 7:00 AM each Wednesday to go over the reading from last Sunday\, discuss\, and be together as we begin the work day. Another great opportunity to share with friends and invite them to get to know Jesus. \n1502 FM518\, League City\, TX 77573 \n  \nEngage | Grow | Share
URL:https://southlakelc.org/calendar/wednesday-morning-recap-9
LOCATION:Kelley’s Country Cookin’\, 1502 West Main Street\, League City\, TX\, 77573\, United States
CATEGORIES:Community,Food,Outreach
END:VEVENT
BEGIN:VEVENT
DTSTART;TZID=America/Chicago:20260128T130000
DTEND;TZID=America/Chicago:20260128T140000
DTSTAMP:20260425T054809
CREATED:20260122T191541Z
LAST-MODIFIED:20260122T191541Z
UID:117250-1769605200-1769608800@southlakelc.org
SUMMARY:Renschen's Small Group
DESCRIPTION:Meet us Wednesday’s at 1pm at the Renschen’s home. \nFor more information and to register\, click here. \n  \nEngage | Grow | Share
URL:https://southlakelc.org/calendar/renschens-small-group-7
CATEGORIES:Community,Outreach
END:VEVENT
BEGIN:VEVENT
DTSTART;TZID=America/Chicago:20260131T080000
DTEND;TZID=America/Chicago:20260131T090000
DTSTAMP:20260425T054809
CREATED:20260122T200951Z
LAST-MODIFIED:20260122T200951Z
UID:117355-1769846400-1769850000@southlakelc.org
SUMMARY:Immerse Bible Study
DESCRIPTION:Join us for breakfast and fellowship. \nMeet us 8am Saturdays at Noah’s Ark Café in Bacliff\, 4438 Boulevard St\, Bacliff\, TX 77518 \nMore Info: Contact Rob Bailey at rbailey@southlakelc.org \nTo register: https://southlakelc.churchcenter.com/registrations/events/3297173 \nEngage | Grow | Share
URL:https://southlakelc.org/calendar/immerse-bible-study-4
LOCATION:Noah’s Ark\, 4438 Boulevard St\, Bacliff\, TX\, 77518\, United States
CATEGORIES:Community,Food,Outreach
END:VEVENT
BEGIN:VEVENT
DTSTART;TZID=America/Chicago:20260201T103000
DTEND;TZID=America/Chicago:20260201T120000
DTSTAMP:20260425T054809
CREATED:20260120T103029Z
LAST-MODIFIED:20260120T103029Z
UID:116527-1769941800-1769947200@southlakelc.org
SUMMARY:Weekly Worship- Communion Sunday
DESCRIPTION:Weekly Worship Sundays 10:30am\nWe are meeting at Hometown Heroes Park 1001 E League City Pkwy\, League City\, TX 77573 League City\, TX 77573.\n\n\nLive Stream – SouthLakeLC.org
URL:https://southlakelc.org/calendar/weekly-worship-communion-sunday-8
LOCATION:Hometown Heroes Park\, 1001 E League City Pkwy\, League City\, TX\, 77573\, United States
CATEGORIES:Community,Music,Outreach,Worship
END:VEVENT
BEGIN:VEVENT
DTSTART;TZID=America/Chicago:20260203T140000
DTEND;TZID=America/Chicago:20260203T150000
DTSTAMP:20260425T054809
CREATED:20260120T101734Z
LAST-MODIFIED:20260120T101829Z
UID:116516-1770127200-1770130800@southlakelc.org
SUMMARY:Prayer @ 2
DESCRIPTION:Join Pastor Rob every Tuesday at 2 for prayer time at Panera. Location: Panera. 2630 Gulf Fwy Suite A\, League City\, TX 77573 \nEngage | Grow | Share
URL:https://southlakelc.org/calendar/prayer-2-9
LOCATION:Panera Bread (2630 Gulf Freeway\, Suite A\, League City\, TX 77573\, United States)
CATEGORIES:Community,Food,Outreach
END:VEVENT
BEGIN:VEVENT
DTSTART;TZID=America/Chicago:20260203T190000
DTEND;TZID=America/Chicago:20260203T200000
DTSTAMP:20260425T054809
CREATED:20260120T095349Z
LAST-MODIFIED:20260120T095349Z
UID:116482-1770145200-1770148800@southlakelc.org
SUMMARY:Pints & Questions (Ps & Qs)
DESCRIPTION:Join us for Ps & Qs every 1st Tuesday at 7pm! This is a great opportunity to ask Pastor Rob questions!\nCheck out more info about the South Lake Church @ SouthLakeLC.org\n\nMeet us at Craft 96\, 2575 E League City Pkwy\, League City\, TX 77573\n\n  \nEngage | Grow | Share
URL:https://southlakelc.org/calendar/pints-questions-ps-qs-3
LOCATION:Craft 96\, 2575 League City Pkwy\, League City\, TX\, 77573\, United States
CATEGORIES:Community,Food,Outreach
END:VEVENT
BEGIN:VEVENT
DTSTART;TZID=America/Chicago:20260204T070000
DTEND;TZID=America/Chicago:20260204T200000
DTSTAMP:20260425T054809
CREATED:20260120T142739Z
LAST-MODIFIED:20260120T142739Z
UID:116741-1770188400-1770235200@southlakelc.org
SUMMARY:Wednesday Morning Recap
DESCRIPTION:Got questions or thoughts from this past Sunday or just hungry to start your morning? Join us at Kelley’s Country Cookin’ 7:00 AM each Wednesday to go over the reading from last Sunday\, discuss\, and be together as we begin the work day. Another great opportunity to share with friends and invite them to get to know Jesus. \n1502 FM518\, League City\, TX 77573 \n  \nEngage | Grow | Share
URL:https://southlakelc.org/calendar/wednesday-morning-recap-10
LOCATION:Kelley’s Country Cookin’\, 1502 West Main Street\, League City\, TX\, 77573\, United States
CATEGORIES:Community,Food,Outreach
END:VEVENT
BEGIN:VEVENT
DTSTART;TZID=America/Chicago:20260204T130000
DTEND;TZID=America/Chicago:20260204T140000
DTSTAMP:20260425T054809
CREATED:20260122T191658Z
LAST-MODIFIED:20260122T192120Z
UID:117252-1770210000-1770213600@southlakelc.org
SUMMARY:Renschen's Small Group
DESCRIPTION:Meet us Wednesday’s at 1pm at the Renschen’s home. \nFor more information and to register\, click here. \n  \nEngage | Grow | Share
URL:https://southlakelc.org/calendar/renschens-small-group-8
CATEGORIES:Community,Outreach
END:VEVENT
BEGIN:VEVENT
DTSTART;TZID=America/Chicago:20260207T080000
DTEND;TZID=America/Chicago:20260207T090000
DTSTAMP:20260425T054809
CREATED:20260122T201348Z
LAST-MODIFIED:20260122T201348Z
UID:117362-1770451200-1770454800@southlakelc.org
SUMMARY:Immerse Bible Study
DESCRIPTION:Join us for breakfast and fellowship. \nMeet us 8am Saturdays at Noah’s Ark Café in Bacliff\, 4438 Boulevard St\, Bacliff\, TX 77518 \nMore Info: Contact Rob Bailey at rbailey@southlakelc.org \nTo register: https://southlakelc.churchcenter.com/registrations/events/3297173 \nEngage | Grow | Share
URL:https://southlakelc.org/calendar/immerse-bible-study-9
CATEGORIES:Community,Food,Outreach
END:VEVENT
BEGIN:VEVENT
DTSTART;TZID=America/Chicago:20260208T103000
DTEND;TZID=America/Chicago:20260208T120000
DTSTAMP:20260425T054809
CREATED:20260120T111821Z
LAST-MODIFIED:20260120T111848Z
UID:116590-1770546600-1770552000@southlakelc.org
SUMMARY:Weekly Worship- No Communion Sunday
DESCRIPTION:Weekly Worship Sundays 10:30am\nWe are meeting at Hometown Heroes Park 1001 E League City Pkwy\, League City\, TX 77573 League City\, TX 77573.\n\n\nLive Stream – SouthLakeLC.org
URL:https://southlakelc.org/calendar/weekly-worship-no-communion-sunday-3
CATEGORIES:Community,Music,Outreach,Worship
END:VEVENT
BEGIN:VEVENT
DTSTART;TZID=America/Chicago:20260210T140000
DTEND;TZID=America/Chicago:20260210T150000
DTSTAMP:20260425T054809
CREATED:20260120T132019Z
LAST-MODIFIED:20260120T132019Z
UID:116643-1770732000-1770735600@southlakelc.org
SUMMARY:Prayer @ 2
DESCRIPTION:Join Pastor Rob every Tuesday at 2 for prayer time at Panera. Location: Panera. 2630 Gulf Fwy Suite A\, League City\, TX 77573 \nEngage | Grow | Share
URL:https://southlakelc.org/calendar/prayer-2-10
LOCATION:Panera Bread (2630 Gulf Freeway\, Suite A\, League City\, TX 77573\, United States)
CATEGORIES:Community,Food,Outreach
END:VEVENT
BEGIN:VEVENT
DTSTART;TZID=America/Chicago:20260210T140000
DTEND;TZID=America/Chicago:20260210T150000
DTSTAMP:20260425T054809
CREATED:20260122T183544Z
LAST-MODIFIED:20260122T183544Z
UID:117194-1770732000-1770735600@southlakelc.org
SUMMARY:Arbet's Small Group
DESCRIPTION:Meet us on the 2nd and 4th Tuesdays at 2:30pm at the Arbet home. \nThis Small Group is for the Tuscan Lakes area. \nFor more information and to register\, click here. \n  \nEngage | Grow | Share
URL:https://southlakelc.org/calendar/arbets-small-group-4
CATEGORIES:Community,Outreach
END:VEVENT
BEGIN:VEVENT
DTSTART;TZID=America/Chicago:20260211T070000
DTEND;TZID=America/Chicago:20260211T200000
DTSTAMP:20260425T054809
CREATED:20260120T142909Z
LAST-MODIFIED:20260120T142909Z
UID:116743-1770793200-1770840000@southlakelc.org
SUMMARY:Wednesday Morning Recap
DESCRIPTION:Got questions or thoughts from this past Sunday or just hungry to start your morning? Join us at Kelley’s Country Cookin’ 7:00 AM each Wednesday to go over the reading from last Sunday\, discuss\, and be together as we begin the work day. Another great opportunity to share with friends and invite them to get to know Jesus. \n1502 FM518\, League City\, TX 77573 \n  \nEngage | Grow | Share
URL:https://southlakelc.org/calendar/wednesday-morning-recap-11
LOCATION:Kelley’s Country Cookin’\, 1502 West Main Street\, League City\, TX\, 77573\, United States
CATEGORIES:Community,Food,Outreach
END:VEVENT
BEGIN:VEVENT
DTSTART;TZID=America/Chicago:20260211T130000
DTEND;TZID=America/Chicago:20260211T140000
DTSTAMP:20260425T054809
CREATED:20260122T191805Z
LAST-MODIFIED:20260122T192200Z
UID:117254-1770814800-1770818400@southlakelc.org
SUMMARY:Renschen's Small Group
DESCRIPTION:Meet us Wednesday’s at 1pm at the Renschen’s home. \nFor more information and to register\, click here. \n  \nEngage | Grow | Share
URL:https://southlakelc.org/calendar/renschens-small-group-9
CATEGORIES:Community,Outreach
END:VEVENT
BEGIN:VEVENT
DTSTART;TZID=America/Chicago:20260212T121500
DTEND;TZID=America/Chicago:20260212T140000
DTSTAMP:20260425T054809
CREATED:20260122T150232Z
LAST-MODIFIED:20260421T121539Z
UID:117063-1770898500-1770904800@southlakelc.org
SUMMARY:South Lake Luncheon
DESCRIPTION:Bring your appetite and a friend as we gather. As we meet for lunch\, we’ll get to know one another and enjoy great food. \n  \nEngage | Grow | Share
URL:https://southlakelc.org/calendar/south-lake-luncheon-77
LOCATION:La Brisa Mexican Restaurant\, 501 N Wesley Dr\, League City\, TX\, 77573\, United States
CATEGORIES:Community,Food,Outreach
END:VEVENT
BEGIN:VEVENT
DTSTART;TZID=America/Chicago:20260214T080000
DTEND;TZID=America/Chicago:20260214T090000
DTSTAMP:20260425T054809
CREATED:20260122T201437Z
LAST-MODIFIED:20260122T201437Z
UID:117364-1771056000-1771059600@southlakelc.org
SUMMARY:Immerse Bible Study
DESCRIPTION:Join us for breakfast and fellowship. \nMeet us 8am Saturdays at Noah’s Ark Café in Bacliff\, 4438 Boulevard St\, Bacliff\, TX 77518 \nMore Info: Contact Rob Bailey at rbailey@southlakelc.org \nTo register: https://southlakelc.churchcenter.com/registrations/events/3297173 \nEngage | Grow | Share
URL:https://southlakelc.org/calendar/immerse-bible-study-10
CATEGORIES:Community,Food,Outreach
END:VEVENT
BEGIN:VEVENT
DTSTART;TZID=America/Chicago:20260215T103000
DTEND;TZID=America/Chicago:20260215T120000
DTSTAMP:20260425T054809
CREATED:20260120T103158Z
LAST-MODIFIED:20260120T103158Z
UID:116529-1771151400-1771156800@southlakelc.org
SUMMARY:Weekly Worship- Communion Sunday
DESCRIPTION:Weekly Worship Sundays 10:30am\nWe are meeting at Hometown Heroes Park 1001 E League City Pkwy\, League City\, TX 77573 League City\, TX 77573.\n\n\nLive Stream – SouthLakeLC.org
URL:https://southlakelc.org/calendar/weekly-worship-communion-sunday-9
LOCATION:Hometown Heroes Park\, 1001 E League City Pkwy\, League City\, TX\, 77573\, United States
CATEGORIES:Community,Music,Outreach,Worship
END:VEVENT
BEGIN:VEVENT
DTSTART;TZID=America/Chicago:20260215T123000
DTEND;TZID=America/Chicago:20260215T140000
DTSTAMP:20260425T054809
CREATED:20260122T181255Z
LAST-MODIFIED:20260122T181255Z
UID:117164-1771158600-1771164000@southlakelc.org
SUMMARY:Sunday Funday
DESCRIPTION:Welcome to South Lake’s Sunday Funday Gathering. A chance to gather together after church and have lunch. We go to different restaurants South of the Lake monthly to enjoy the food and people. \nThis Month’s location is TBD \nFor more information and to let us know you’re coming\, clicking here. \n\nEngage | Grow | Share
URL:https://southlakelc.org/calendar/sunday-funday-24
CATEGORIES:Community,Food,Outreach
END:VEVENT
BEGIN:VEVENT
DTSTART;TZID=America/Chicago:20260217T140000
DTEND;TZID=America/Chicago:20260217T150000
DTSTAMP:20260425T054809
CREATED:20260120T132127Z
LAST-MODIFIED:20260120T132127Z
UID:116645-1771336800-1771340400@southlakelc.org
SUMMARY:Prayer @ 2
DESCRIPTION:Join Pastor Rob every Tuesday at 2 for prayer time at Panera. Location: Panera. 2630 Gulf Fwy Suite A\, League City\, TX 77573 \nEngage | Grow | Share
URL:https://southlakelc.org/calendar/prayer-2-11
LOCATION:Panera Bread (2630 Gulf Freeway\, Suite A\, League City\, TX 77573\, United States)
CATEGORIES:Food,Outreach,Worship
END:VEVENT
BEGIN:VEVENT
DTSTART;TZID=America/Chicago:20260218T070000
DTEND;TZID=America/Chicago:20260218T080000
DTSTAMP:20260425T054809
CREATED:20260120T143015Z
LAST-MODIFIED:20260120T143015Z
UID:116745-1771398000-1771401600@southlakelc.org
SUMMARY:Wednesday Morning Recap
DESCRIPTION:Got questions or thoughts from this past Sunday or just hungry to start your morning? Join us at Kelley’s Country Cookin’ 7:00 AM each Wednesday to go over the reading from last Sunday\, discuss\, and be together as we begin the work day. Another great opportunity to share with friends and invite them to get to know Jesus. \n1502 FM518\, League City\, TX 77573 \n  \nEngage | Grow | Share
URL:https://southlakelc.org/calendar/wednesday-morning-recap-12
LOCATION:Kelley’s Country Cookin’\, 1502 West Main Street\, League City\, TX\, 77573\, United States
CATEGORIES:Community,Food,Outreach
END:VEVENT
BEGIN:VEVENT
DTSTART;TZID=America/Chicago:20260218T130000
DTEND;TZID=America/Chicago:20260218T140000
DTSTAMP:20260425T054809
CREATED:20260122T191908Z
LAST-MODIFIED:20260122T192248Z
UID:117256-1771419600-1771423200@southlakelc.org
SUMMARY:Renschen's Small Group
DESCRIPTION:Meet us Wednesday’s at 1pm at the Renschen’s home. \nFor more information and to register\, click here. \n  \nEngage | Grow | Share
URL:https://southlakelc.org/calendar/renschens-small-group-10
CATEGORIES:Community,Outreach
END:VEVENT
BEGIN:VEVENT
DTSTART;TZID=America/Chicago:20260220T183000
DTEND;TZID=America/Chicago:20260220T200000
DTSTAMP:20260425T054809
CREATED:20260122T175142Z
LAST-MODIFIED:20260122T175402Z
UID:117139-1771612200-1771617600@southlakelc.org
SUMMARY:Renewal- A Women's Gathering
DESCRIPTION:Renewal is South Lake’s Women’s Gathering. A chance for women from all over our League City community to gather together\, be renewed from all that life throws at us and be reminded we walk together on our faith journey. \n\nLocation: TBA \nFor more information and to register: click here \n\n  \nEngage | Grow | Share
URL:https://southlakelc.org/calendar/renewal-a-womens-gathering
CATEGORIES:Community,Food,Outreach
END:VEVENT
END:VCALENDAR