BEGIN:VCALENDAR
VERSION:2.0
PRODID:-//South Lake Church - ECPv6.15.20//NONSGML v1.0//EN
CALSCALE:GREGORIAN
METHOD:PUBLISH
X-WR-CALNAME:South Lake Church
X-ORIGINAL-URL:https://southlakelc.org
X-WR-CALDESC:Events for South Lake Church
REFRESH-INTERVAL;VALUE=DURATION:PT1H
X-Robots-Tag:noindex
X-PUBLISHED-TTL:PT1H
BEGIN:VTIMEZONE
TZID:America/Chicago
BEGIN:DAYLIGHT
TZOFFSETFROM:-0600
TZOFFSETTO:-0500
TZNAME:CDT
DTSTART:20250309T080000
END:DAYLIGHT
BEGIN:STANDARD
TZOFFSETFROM:-0500
TZOFFSETTO:-0600
TZNAME:CST
DTSTART:20251102T070000
END:STANDARD
BEGIN:DAYLIGHT
TZOFFSETFROM:-0600
TZOFFSETTO:-0500
TZNAME:CDT
DTSTART:20260308T080000
END:DAYLIGHT
BEGIN:STANDARD
TZOFFSETFROM:-0500
TZOFFSETTO:-0600
TZNAME:CST
DTSTART:20261101T070000
END:STANDARD
BEGIN:DAYLIGHT
TZOFFSETFROM:-0600
TZOFFSETTO:-0500
TZNAME:CDT
DTSTART:20270314T080000
END:DAYLIGHT
BEGIN:STANDARD
TZOFFSETFROM:-0500
TZOFFSETTO:-0600
TZNAME:CST
DTSTART:20271107T070000
END:STANDARD
END:VTIMEZONE
BEGIN:VEVENT
DTSTART;TZID=America/Chicago:20260403T190000
DTEND;TZID=America/Chicago:20260403T200000
DTSTAMP:20260425T061404
CREATED:20260330T132222Z
LAST-MODIFIED:20260330T132222Z
UID:123845-1775242800-1775246400@southlakelc.org
SUMMARY:Good Friday Tenebrae
DESCRIPTION:  \nJoin us at 7:00 P.M. at the League City Civic Center for Good Friday Tenebrae. \n 
URL:https://southlakelc.org/calendar/good-friday-tenebrae
LOCATION:League City Civic Center\, 400 W. Walker\, League City\, 77573\, United States
CATEGORIES:Community,Music,Worship
END:VEVENT
BEGIN:VEVENT
DTSTART;TZID=America/Chicago:20260405T103000
DTEND;TZID=America/Chicago:20260405T120000
DTSTAMP:20260425T061404
CREATED:20260120T103647Z
LAST-MODIFIED:20260323T132401Z
UID:116538-1775385000-1775390400@southlakelc.org
SUMMARY:Weekly Worship- Communion Sunday
DESCRIPTION:Weekly Worship Sundays 10:30am\nWe are meeting at League City Sports Plex\, 1251 League City Pkwy\, League City\, TX 77573.\n\n\nLive Stream – SouthLakeLC.org
URL:https://southlakelc.org/calendar/weekly-worship-communion-sunday-13
LOCATION:League City Sportsplex\, 1251 League City Pkwy\, League City\, 77573\, United States
CATEGORIES:Community,Music,Outreach,Worship
END:VEVENT
BEGIN:VEVENT
DTSTART;TZID=America/Chicago:20260407T140000
DTEND;TZID=America/Chicago:20260407T150000
DTSTAMP:20260425T061404
CREATED:20260120T133306Z
LAST-MODIFIED:20260121T144913Z
UID:116661-1775570400-1775574000@southlakelc.org
SUMMARY:Prayer @ 2
DESCRIPTION:Join Pastor Rob every Tuesday at 2 for prayer time at Panera. Location: Panera. 2630 Gulf Fwy Suite A\, League City\, TX 77573 \nEngage | Grow | Share
URL:https://southlakelc.org/calendar/prayer-2-18
LOCATION:Panera Bread (2630 Gulf Freeway\, Suite A\, League City\, TX 77573\, United States)
CATEGORIES:Community,Food,Outreach
END:VEVENT
BEGIN:VEVENT
DTSTART;TZID=America/Chicago:20260407T190000
DTEND;TZID=America/Chicago:20260407T200000
DTSTAMP:20260425T061404
CREATED:20260120T095644Z
LAST-MODIFIED:20260120T095644Z
UID:116486-1775588400-1775592000@southlakelc.org
SUMMARY:Pints & Questions (Ps & Qs)
DESCRIPTION:Join us for Ps & Qs every 1st Tuesday at 7pm! This is a great opportunity to ask Pastor Rob questions!\nCheck out more info about the South Lake Church @ SouthLakeLC.org\n\nMeet us at Craft 96\, 2575 E League City Pkwy\, League City\, TX 77573\n\n  \nEngage | Grow | Share
URL:https://southlakelc.org/calendar/pints-questions-ps-qs-5
LOCATION:Craft 96\, 2575 League City Pkwy\, League City\, TX\, 77573\, United States
CATEGORIES:Community,Food,Outreach
END:VEVENT
BEGIN:VEVENT
DTSTART;TZID=America/Chicago:20260408T070000
DTEND;TZID=America/Chicago:20260408T080000
DTSTAMP:20260425T061404
CREATED:20260121T150249Z
LAST-MODIFIED:20260121T150249Z
UID:116859-1775631600-1775635200@southlakelc.org
SUMMARY:Wednesday Morning Recap
DESCRIPTION:Got questions or thoughts from this past Sunday or just hungry to start your morning? Join us at Kelley’s Country Cookin’ 7:00 AM each Wednesday to go over the reading from last Sunday\, discuss\, and be together as we begin the work day. Another great opportunity to share with friends and invite them to get to know Jesus. \n1502 FM518\, League City\, TX 77573 \n  \nEngage | Grow | Share
URL:https://southlakelc.org/calendar/wednesday-morning-recap-19
CATEGORIES:Community,Food,Outreach
END:VEVENT
BEGIN:VEVENT
DTSTART;TZID=America/Chicago:20260408T070000
DTEND;TZID=America/Chicago:20260408T080000
DTSTAMP:20260425T061404
CREATED:20260121T150951Z
LAST-MODIFIED:20260121T150951Z
UID:116861-1775631600-1775635200@southlakelc.org
SUMMARY:Wednesday Morning Recap
DESCRIPTION:Got questions or thoughts from this past Sunday or just hungry to start your morning? Join us at Kelley’s Country Cookin’ 7:00 AM each Wednesday to go over the reading from last Sunday\, discuss\, and be together as we begin the work day. Another great opportunity to share with friends and invite them to get to know Jesus. \n1502 FM518\, League City\, TX 77573 \n  \nEngage | Grow | Share
URL:https://southlakelc.org/calendar/wednesday-morning-recap-20
LOCATION:Kelley’s Country Cookin’\, 1502 West Main Street\, League City\, TX\, 77573\, United States
CATEGORIES:Community,Food,Outreach
END:VEVENT
BEGIN:VEVENT
DTSTART;TZID=America/Chicago:20260408T130000
DTEND;TZID=America/Chicago:20260408T140000
DTSTAMP:20260425T061404
CREATED:20260122T193236Z
LAST-MODIFIED:20260122T193236Z
UID:117275-1775653200-1775656800@southlakelc.org
SUMMARY:Renschen's Small Group
DESCRIPTION:Meet us Wednesday’s at 1pm at the Renschen’s home. \nFor more information and to register\, click here. \n  \nEngage | Grow | Share
URL:https://southlakelc.org/calendar/renschens-small-group-17
CATEGORIES:Community,Outreach
END:VEVENT
BEGIN:VEVENT
DTSTART;TZID=America/Chicago:20260409T121500
DTEND;TZID=America/Chicago:20260409T140000
DTSTAMP:20260425T061404
CREATED:20260122T150748Z
LAST-MODIFIED:20260421T120425Z
UID:117071-1775736900-1775743200@southlakelc.org
SUMMARY:South Lake Luncheon
DESCRIPTION:Bring your appetite and a friend as we gather. As we meet for lunch\, we’ll get to know one another and enjoy great food. \n  \nEngage | Grow | Share
URL:https://southlakelc.org/calendar/south-lake-luncheon-81
LOCATION:La Brisa Mexican Restaurant\, 501 N Wesley Dr\, League City\, TX\, 77573\, United States
CATEGORIES:Community,Food,Outreach
END:VEVENT
BEGIN:VEVENT
DTSTART;TZID=America/Chicago:20260410T183000
DTEND;TZID=America/Chicago:20260410T200000
DTSTAMP:20260425T061404
CREATED:20260122T173620Z
LAST-MODIFIED:20260331T022819Z
UID:117120-1775845800-1775851200@southlakelc.org
SUMMARY:Guys' Gathering
DESCRIPTION:Men of South Lake\, we are having our next guys gathering. Join us as we take time to be together\, share what’s going on with all the craziness of our life. Bring a side dish (chips or nuts count) Come together for whisky or drink of choice\, cigars\, and a side. \nLocation: The Lurvey Home \nFor more information and to register\, click here. \n  \nEngage | Grow | Share
URL:https://southlakelc.org/calendar/guys-gathering-40
CATEGORIES:Community,Food,Outreach
END:VEVENT
BEGIN:VEVENT
DTSTART;TZID=America/Chicago:20260411T080000
DTEND;TZID=America/Chicago:20260411T100000
DTSTAMP:20260425T061404
CREATED:20260331T023722Z
LAST-MODIFIED:20260331T023722Z
UID:123904-1775894400-1775901600@southlakelc.org
SUMMARY:Immerse Bible Study
DESCRIPTION:Join us for breakfast and fellowship. This week we will finish the Small Catechism. Meet us 8am Saturdays at Noah’s Ark Café in Bacliff\, 4438 Boulevard St\, Bacliff\, TX 77518 \nMore Info: Contact Rob Bailey at rbailey@southlakelc.org \nTo register: https://southlakelc.churchcenter.com/registrations/events/3297173  Engage | Grow | Share
URL:https://southlakelc.org/calendar/immerse-bible-study-17
LOCATION:Noah’s Ark\, 4438 Boulevard St\, Bacliff\, TX\, 77518\, United States
CATEGORIES:Community,Food,Outreach
END:VEVENT
BEGIN:VEVENT
DTSTART;TZID=America/Chicago:20260412T103000
DTEND;TZID=America/Chicago:20260412T120000
DTSTAMP:20260425T061404
CREATED:20260120T112456Z
LAST-MODIFIED:20260120T112456Z
UID:116598-1775989800-1775995200@southlakelc.org
SUMMARY:Weekly Worship- No Communion Sunday
DESCRIPTION:Weekly Worship Sundays 10:30am\nWe are meeting at Hometown Heroes Park 1001 E League City Pkwy\, League City\, TX 77573 League City\, TX 77573.\n\n\nLive Stream – SouthLakeLC.org
URL:https://southlakelc.org/calendar/weekly-worship-no-communion-sunday-7
LOCATION:Hometown Heroes Park\, 1001 E League City Pkwy\, League City\, TX\, 77573\, United States
CATEGORIES:Community,Music,Outreach,Worship
END:VEVENT
BEGIN:VEVENT
DTSTART;TZID=America/Chicago:20260414T140000
DTEND;TZID=America/Chicago:20260414T150000
DTSTAMP:20260425T061404
CREATED:20260120T133355Z
LAST-MODIFIED:20260121T144755Z
UID:116663-1776175200-1776178800@southlakelc.org
SUMMARY:Prayer @ 2
DESCRIPTION:Join Pastor Rob every Tuesday at 2 for prayer time at Panera. Location: Panera. 2630 Gulf Fwy Suite A\, League City\, TX 77573 \nEngage | Grow | Share
URL:https://southlakelc.org/calendar/prayer-2-19
CATEGORIES:Community,Food,Outreach
END:VEVENT
BEGIN:VEVENT
DTSTART;TZID=America/Chicago:20260414T140000
DTEND;TZID=America/Chicago:20260414T150000
DTSTAMP:20260425T061404
CREATED:20260122T184144Z
LAST-MODIFIED:20260331T015044Z
UID:117202-1776175200-1776178800@southlakelc.org
SUMMARY:Arbet's Small Group
DESCRIPTION:Meet us on the 2nd and 4th Tuesdays at 2:30pm at the Arbet home. \nThis Small Group is in the Tuscan Lakes area. \nFor more information and to register\, click here. \n  \nEngage | Grow | Share
URL:https://southlakelc.org/calendar/arbets-small-group-8
CATEGORIES:Community,Outreach
END:VEVENT
BEGIN:VEVENT
DTSTART;TZID=America/Chicago:20260415T070000
DTEND;TZID=America/Chicago:20260415T080000
DTSTAMP:20260425T061404
CREATED:20260121T151048Z
LAST-MODIFIED:20260121T151048Z
UID:116863-1776236400-1776240000@southlakelc.org
SUMMARY:Wednesday Morning Recap
DESCRIPTION:Got questions or thoughts from this past Sunday or just hungry to start your morning? Join us at Kelley’s Country Cookin’ 7:00 AM each Wednesday to go over the reading from last Sunday\, discuss\, and be together as we begin the work day. Another great opportunity to share with friends and invite them to get to know Jesus. \n1502 FM518\, League City\, TX 77573 \n  \nEngage | Grow | Share
URL:https://southlakelc.org/calendar/wednesday-morning-recap-21
LOCATION:Kelley’s Country Cookin’\, 1502 West Main Street\, League City\, TX\, 77573\, United States
CATEGORIES:Community,Food,Outreach
END:VEVENT
BEGIN:VEVENT
DTSTART;TZID=America/Chicago:20260415T130000
DTEND;TZID=America/Chicago:20260415T140000
DTSTAMP:20260425T061404
CREATED:20260122T193321Z
LAST-MODIFIED:20260122T193321Z
UID:117277-1776258000-1776261600@southlakelc.org
SUMMARY:Renschen's Small Group
DESCRIPTION:Meet us Wednesday’s at 1pm at the Renschen’s home. \nFor more information and to register\, click here. \n  \nEngage | Grow | Share
URL:https://southlakelc.org/calendar/renschens-small-group-18
CATEGORIES:Community,Outreach
END:VEVENT
BEGIN:VEVENT
DTSTART;TZID=America/Chicago:20260417T183000
DTEND;TZID=America/Chicago:20260417T200000
DTSTAMP:20260425T061404
CREATED:20260122T175623Z
LAST-MODIFIED:20260413T101809Z
UID:117144-1776450600-1776456000@southlakelc.org
SUMMARY:Renewal- A Women's Gathering
DESCRIPTION:Renewal is South Lake’s Women’s Gathering. A chance for women from all over our League City community to gather together\, be renewed from all that life throws at us and be reminded we walk together on our faith journey. \n\nLocation: The Bailey Home \nFor more information and to register: click here \n\n  \nEngage | Grow | Share
URL:https://southlakelc.org/calendar/renewal-a-womens-gathering-3
CATEGORIES:Community,Food,Outreach
END:VEVENT
BEGIN:VEVENT
DTSTART;TZID=America/Chicago:20260418T080000
DTEND;TZID=America/Chicago:20260418T170000
DTSTAMP:20260425T061404
CREATED:20260331T024042Z
LAST-MODIFIED:20260331T024042Z
UID:123906-1776499200-1776531600@southlakelc.org
SUMMARY:Immerse Bible Study
DESCRIPTION:Join us for breakfast and fellowship. No reading for this week. \nMeet us 8am Saturdays at Noah’s Ark Café in Bacliff\, 4438 Boulevard St\, Bacliff\, TX 77518 \nMore Info: Contact Rob Bailey at rbailey@southlakelc.org \nTo register: https://southlakelc.churchcenter.com/registrations/events/3297173 \nEngage | Grow | Share
URL:https://southlakelc.org/calendar/immerse-bible-study-18
LOCATION:Noah’s Ark\, 4438 Boulevard St\, Bacliff\, TX\, 77518\, United States
CATEGORIES:Community,Food,Outreach
END:VEVENT
BEGIN:VEVENT
DTSTART;TZID=America/Chicago:20260419T103000
DTEND;TZID=America/Chicago:20260419T120000
DTSTAMP:20260425T061404
CREATED:20260120T103811Z
LAST-MODIFIED:20260120T103811Z
UID:116540-1776594600-1776600000@southlakelc.org
SUMMARY:Weekly Worship- Communion Sunday
DESCRIPTION:Weekly Worship Sundays 10:30am\nWe are meeting at Hometown Heroes Park 1001 E League City Pkwy\, League City\, TX 77573 League City\, TX 77573.\n\n\nLive Stream – SouthLakeLC.org
URL:https://southlakelc.org/calendar/weekly-worship-communion-sunday-14
LOCATION:Hometown Heroes Park\, 1001 E League City Pkwy\, League City\, TX\, 77573\, United States
CATEGORIES:Community,Music,Outreach,Worship
END:VEVENT
BEGIN:VEVENT
DTSTART;TZID=America/Chicago:20260419T123000
DTEND;TZID=America/Chicago:20260419T140000
DTSTAMP:20260425T061404
CREATED:20260122T181616Z
LAST-MODIFIED:20260406T064620Z
UID:117169-1776601800-1776607200@southlakelc.org
SUMMARY:Sunday Funday
DESCRIPTION:Welcome to South Lake’s Sunday Funday Gathering. A chance to gather together after church and have lunch. We go to different restaurants South of the Lake monthly to enjoy the food and people. \nThis Month’s location is T Bone Tom’s\, 707 TX-146\, Kemah\, TX 77565. \nFor more information and to let us know you’re coming\, clicking here. \n\nEngage | Grow | Share
URL:https://southlakelc.org/calendar/sunday-funday-26
LOCATION:T Bone Tom’s\, 707 TX-146\, Kemah\, TX\, 77565\, United States
CATEGORIES:Community,Food,Outreach
END:VEVENT
BEGIN:VEVENT
DTSTART;TZID=America/Chicago:20260422T070000
DTEND;TZID=America/Chicago:20260422T080000
DTSTAMP:20260425T061404
CREATED:20260121T151144Z
LAST-MODIFIED:20260121T151144Z
UID:116865-1776841200-1776844800@southlakelc.org
SUMMARY:Wednesday Morning Recap
DESCRIPTION:Got questions or thoughts from this past Sunday or just hungry to start your morning? Join us at Kelley’s Country Cookin’ 7:00 AM each Wednesday to go over the reading from last Sunday\, discuss\, and be together as we begin the work day. Another great opportunity to share with friends and invite them to get to know Jesus. \n1502 FM518\, League City\, TX 77573 \n  \nEngage | Grow | Share
URL:https://southlakelc.org/calendar/wednesday-morning-recap-22
LOCATION:Kelley’s Country Cookin’\, 1502 West Main Street\, League City\, TX\, 77573\, United States
CATEGORIES:Community,Food,Outreach
END:VEVENT
BEGIN:VEVENT
DTSTART;TZID=America/Chicago:20260422T130000
DTEND;TZID=America/Chicago:20260422T140000
DTSTAMP:20260425T061404
CREATED:20260122T193410Z
LAST-MODIFIED:20260122T193410Z
UID:117279-1776862800-1776866400@southlakelc.org
SUMMARY:Renschen's Small Group
DESCRIPTION:Meet us Wednesday’s at 1pm at the Renschen’s home. \nFor more information and to register\, click here. \n  \nEngage | Grow | Share
URL:https://southlakelc.org/calendar/renschens-small-group-19
CATEGORIES:Community,Outreach
END:VEVENT
BEGIN:VEVENT
DTSTART;TZID=America/Chicago:20260423T121500
DTEND;TZID=America/Chicago:20260423T140000
DTSTAMP:20260425T061404
CREATED:20260122T150905Z
LAST-MODIFIED:20260421T110103Z
UID:117073-1776946500-1776952800@southlakelc.org
SUMMARY:South Lake Luncheon
DESCRIPTION:Bring your appetite and a friend as we gather. As we meet for lunch\, we’ll get to know one another and enjoy great food. \nEngage | Grow | Share
URL:https://southlakelc.org/calendar/south-lake-luncheon-82
LOCATION:La Brisa Mexican Restaurant\, 501 N Wesley Dr\, League City\, TX\, 77573\, United States
CATEGORIES:Community,Food,Outreach
END:VEVENT
BEGIN:VEVENT
DTSTART;TZID=America/Chicago:20260425T080000
DTEND;TZID=America/Chicago:20260425T100000
DTSTAMP:20260425T061404
CREATED:20260331T025730Z
LAST-MODIFIED:20260331T101725Z
UID:123908-1777104000-1777111200@southlakelc.org
SUMMARY:Immerse Bible Study
DESCRIPTION:Join us for breakfast and fellowship. This week we start Poets\, week 1. \nMeet us 8am Saturdays at Noah’s Ark Café in Bacliff\, 4438 Boulevard St\, Bacliff\, TX 77518 \n\nPoets 16-Week Reading Plan \n\nMore Info: Contact Rob Bailey at rbailey@southlakelc.org \nTo register: https://southlakelc.churchcenter.com/registrations/events/3297173 \nEngage | Grow | Share
URL:https://southlakelc.org/calendar/immerse-bible-study-19
LOCATION:Noah’s Ark\, 4438 Boulevard St\, Bacliff\, TX\, 77518\, United States
CATEGORIES:Community,Food,Outreach
END:VEVENT
BEGIN:VEVENT
DTSTART;TZID=America/Chicago:20260426T103000
DTEND;TZID=America/Chicago:20260426T120000
DTSTAMP:20260425T061404
CREATED:20260120T112550Z
LAST-MODIFIED:20260120T112550Z
UID:116600-1777199400-1777204800@southlakelc.org
SUMMARY:Weekly Worship- No Communion Sunday
DESCRIPTION:Weekly Worship Sundays 10:30am\nWe are meeting at Hometown Heroes Park 1001 E League City Pkwy\, League City\, TX 77573 League City\, TX 77573.\n\n\nLive Stream – SouthLakeLC.org
URL:https://southlakelc.org/calendar/weekly-worship-no-communion-sunday-8
CATEGORIES:Community,Music,Outreach,Worship
END:VEVENT
BEGIN:VEVENT
DTSTART;TZID=America/Chicago:20260428T140000
DTEND;TZID=America/Chicago:20260428T150000
DTSTAMP:20260425T061404
CREATED:20260120T133639Z
LAST-MODIFIED:20260121T144409Z
UID:116667-1777384800-1777388400@southlakelc.org
SUMMARY:Prayer @ 2
DESCRIPTION:Join Pastor Rob every Tuesday at 2 for prayer time at Panera. Location: Panera. 2630 Gulf Fwy Suite A\, League City\, TX 77573 \nEngage | Grow | Share
URL:https://southlakelc.org/calendar/prayer-2-21
CATEGORIES:Community,Food,Outreach
END:VEVENT
BEGIN:VEVENT
DTSTART;TZID=America/Chicago:20260428T140000
DTEND;TZID=America/Chicago:20260428T150000
DTSTAMP:20260425T061404
CREATED:20260122T184259Z
LAST-MODIFIED:20260122T184259Z
UID:117205-1777384800-1777388400@southlakelc.org
SUMMARY:Arbet's Small Group
DESCRIPTION:Meet us on the 2nd and 4th Tuesdays at 2:30pm at the Arbet home. \nThis Small Group is for the Tuscan Lakes area. \nFor more information and to register\, click here. \n  \nEngage | Grow | Share
URL:https://southlakelc.org/calendar/arbets-small-group-9
CATEGORIES:Community,Outreach
END:VEVENT
BEGIN:VEVENT
DTSTART;TZID=America/Chicago:20260429T070000
DTEND;TZID=America/Chicago:20260429T080000
DTSTAMP:20260425T061404
CREATED:20260121T151235Z
LAST-MODIFIED:20260121T151235Z
UID:116868-1777446000-1777449600@southlakelc.org
SUMMARY:Wednesday Morning Recap
DESCRIPTION:Got questions or thoughts from this past Sunday or just hungry to start your morning? Join us at Kelley’s Country Cookin’ 7:00 AM each Wednesday to go over the reading from last Sunday\, discuss\, and be together as we begin the work day. Another great opportunity to share with friends and invite them to get to know Jesus. \n1502 FM518\, League City\, TX 77573 \n  \nEngage | Grow | Share
URL:https://southlakelc.org/calendar/wednesday-morning-recap-23
LOCATION:Kelley’s Country Cookin’\, 1502 West Main Street\, League City\, TX\, 77573\, United States
CATEGORIES:Community,Food,Outreach
END:VEVENT
BEGIN:VEVENT
DTSTART;TZID=America/Chicago:20260429T130000
DTEND;TZID=America/Chicago:20260429T140000
DTSTAMP:20260425T061404
CREATED:20260122T193519Z
LAST-MODIFIED:20260122T193519Z
UID:117281-1777467600-1777471200@southlakelc.org
SUMMARY:Renschen's Small Group
DESCRIPTION:Meet us Wednesday’s at 1pm at the Renschen’s home. \nFor more information and to register\, click here. \n  \nEngage | Grow | Share
URL:https://southlakelc.org/calendar/renschens-small-group-20
CATEGORIES:Community,Outreach
END:VEVENT
BEGIN:VEVENT
DTSTART;TZID=America/Chicago:20260502T080000
DTEND;TZID=America/Chicago:20260502T100000
DTSTAMP:20260425T061404
CREATED:20260331T101939Z
LAST-MODIFIED:20260331T103150Z
UID:123943-1777708800-1777716000@southlakelc.org
SUMMARY:Immerse Bible Study
DESCRIPTION:Join us for breakfast and fellowship. This week is Poets\, week 2. \nMeet us 8am Saturdays at Noah’s Ark Café in Bacliff\, 4438 Boulevard St\, Bacliff\, TX 77518 \n\nPoets 16-Week Reading Plan \n\nMore Info: Contact Rob Bailey at rbailey@southlakelc.org \nTo register: https://southlakelc.churchcenter.com/registrations/events/3297173 \nEngage | Grow | Share
URL:https://southlakelc.org/calendar/123943
LOCATION:Noah’s Ark\, 4438 Boulevard St\, Bacliff\, TX\, 77518\, United States
CATEGORIES:Community,Food,Outreach
END:VEVENT
BEGIN:VEVENT
DTSTART;TZID=America/Chicago:20260503T103000
DTEND;TZID=America/Chicago:20260503T120000
DTSTAMP:20260425T061404
CREATED:20260120T104033Z
LAST-MODIFIED:20260120T104033Z
UID:116544-1777804200-1777809600@southlakelc.org
SUMMARY:Weekly Worship- Communion Sunday
DESCRIPTION:Weekly Worship Sundays 10:30am\nWe are meeting at Hometown Heroes Park 1001 E League City Pkwy\, League City\, TX 77573 League City\, TX 77573.\n\n\nLive Stream – SouthLakeLC.org
URL:https://southlakelc.org/calendar/weekly-worship-communion-sunday-16
LOCATION:Hometown Heroes Park\, 1001 E League City Pkwy\, League City\, TX\, 77573\, United States
CATEGORIES:Community,Music,Outreach,Worship
END:VEVENT
END:VCALENDAR