BEGIN:VCALENDAR
VERSION:2.0
PRODID:-//South Lake Church - ECPv6.15.20//NONSGML v1.0//EN
CALSCALE:GREGORIAN
METHOD:PUBLISH
X-WR-CALNAME:South Lake Church
X-ORIGINAL-URL:https://southlakelc.org
X-WR-CALDESC:Events for South Lake Church
REFRESH-INTERVAL;VALUE=DURATION:PT1H
X-Robots-Tag:noindex
X-PUBLISHED-TTL:PT1H
BEGIN:VTIMEZONE
TZID:America/Chicago
BEGIN:DAYLIGHT
TZOFFSETFROM:-0600
TZOFFSETTO:-0500
TZNAME:CDT
DTSTART:20240310T080000
END:DAYLIGHT
BEGIN:STANDARD
TZOFFSETFROM:-0500
TZOFFSETTO:-0600
TZNAME:CST
DTSTART:20241103T070000
END:STANDARD
BEGIN:DAYLIGHT
TZOFFSETFROM:-0600
TZOFFSETTO:-0500
TZNAME:CDT
DTSTART:20250309T080000
END:DAYLIGHT
BEGIN:STANDARD
TZOFFSETFROM:-0500
TZOFFSETTO:-0600
TZNAME:CST
DTSTART:20251102T070000
END:STANDARD
BEGIN:DAYLIGHT
TZOFFSETFROM:-0600
TZOFFSETTO:-0500
TZNAME:CDT
DTSTART:20260308T080000
END:DAYLIGHT
BEGIN:STANDARD
TZOFFSETFROM:-0500
TZOFFSETTO:-0600
TZNAME:CST
DTSTART:20261101T070000
END:STANDARD
END:VTIMEZONE
BEGIN:VEVENT
DTSTART;TZID=America/Chicago:20250928T103000
DTEND;TZID=America/Chicago:20250928T113000
DTSTAMP:20260425T103133
CREATED:20250828T145910Z
LAST-MODIFIED:20250828T145910Z
UID:102164-1759055400-1759059000@southlakelc.org
SUMMARY:Weekly Worship
DESCRIPTION:Weekly Worship Sundays 10:30am\nHometown Heroes Park\n1001 E League City Pkwy\, League City\, TX 77573\n\n\nLive Stream – SouthLakeLC.org
URL:https://southlakelc.org/calendar/weekly-worship-53
CATEGORIES:Community,Music,Outreach
ATTACH;FMTTYPE=image/jpeg:https://southlakelc.org/wp-content/uploads/2020/11/worship-2-orh4uyww62p8wcxyfofslvas4h3zxl5gtyzjhk1g_26784dd1e7ecdceb97fd98a90e6b97d4-opt-1.jpg
END:VEVENT
BEGIN:VEVENT
DTSTART;TZID=America/Chicago:20250927T080000
DTEND;TZID=America/Chicago:20250927T090000
DTSTAMP:20260425T103133
CREATED:20250828T152053Z
LAST-MODIFIED:20250828T152053Z
UID:102210-1758960000-1758963600@southlakelc.org
SUMMARY:Immerse
DESCRIPTION:Join us as we continue the 16-week series: Beginnings. Getting to know Jesus the best way possible. We’ll be reading together from the Old Testament about God’s plan from the very beginning and need of His love and forgiveness. Meet us 8am Saturdays. \nMore info: https://southlakelc.churchcenter.com/registrations/events/524440 \n\nContact Rob Bailey at rbailey@southlakelc.org\n\n  \nEngage | Grow | Share
URL:https://southlakelc.org/calendar/immerse-152
CATEGORIES:Community,Food,Outreach
ATTACH;FMTTYPE=image/png:https://southlakelc.org/wp-content/uploads/2025/06/Immerse-Bible-Experience1.png
END:VEVENT
BEGIN:VEVENT
DTSTART;TZID=America/Chicago:20250925T123000
DTEND;TZID=America/Chicago:20250925T133000
DTSTAMP:20260425T103133
CREATED:20250828T151712Z
LAST-MODIFIED:20250828T151712Z
UID:102204-1758803400-1758807000@southlakelc.org
SUMMARY:South Lake Luncheon
DESCRIPTION:Join us every 2nd and 4th Thursdays of the month. Bring your appetite and a friend as we gather. As we meet for lunch\, we’ll get to know one another and enjoy great food. \nThis week’s meeting will start at 12:30pm and we will be meeting at La Brisa League City 501 N Wesley Dr\, League City\, TX 77573 \nMore Info \n  \nEngage | Grow | Share
URL:https://southlakelc.org/calendar/south-lake-luncheon-69
CATEGORIES:Community,Food,Outreach
ATTACH;FMTTYPE=image/png:https://southlakelc.org/wp-content/uploads/2024/03/Luncheon-1.png
END:VEVENT
BEGIN:VEVENT
DTSTART;TZID=America/Chicago:20250924T130000
DTEND;TZID=America/Chicago:20250924T140000
DTSTAMP:20260425T103133
CREATED:20250828T151517Z
LAST-MODIFIED:20250828T151517Z
UID:102197-1758718800-1758722400@southlakelc.org
SUMMARY:Small Group - Renschen's
DESCRIPTION:Join us every Wednesday to discuss the book of John\, taught by scholar and professor Gary M. Burge\, you’ll learn about the text itself\, explore issues in John’s culture and in ours that help us understand the ultimate meaning of each passage\, and discover ways in which the eternal theology of John can be understood and lived out in our modern culture. \nFor more information and to register\, click here. \n  \nEngage | Grow | Share
URL:https://southlakelc.org/calendar/small-group-renschens-98
CATEGORIES:Community,Outreach
ATTACH;FMTTYPE=image/jpeg:https://southlakelc.org/wp-content/uploads/2023/03/small_groups-title-2-Wide-16x9-1.jpg
END:VEVENT
BEGIN:VEVENT
DTSTART;TZID=America/Chicago:20250924T070000
DTEND;TZID=America/Chicago:20250924T080000
DTSTAMP:20260425T103133
CREATED:20250828T151029Z
LAST-MODIFIED:20250828T151029Z
UID:102189-1758697200-1758700800@southlakelc.org
SUMMARY:Wednesday Recap Breakfast
DESCRIPTION:Got questions or thoughts from this past Sunday or just hungry to start your morning? Join us at Kelley’s Country Cookin 7am each Wednesday to go over the reading from last Sunday\, discuss\, and be together as we begin the work day. Another great opportunity to share with friends and invite them to get to know Jesus. \n1502 FM518\, League City\, TX 77573 \n  \nEngage | Grow | Share
URL:https://southlakelc.org/calendar/wednesday-recap-breakfast-134
CATEGORIES:Community,Food,Outreach
ATTACH;FMTTYPE=image/jpeg:https://southlakelc.org/wp-content/uploads/2024/10/Breakfast-Wednesday-Morning-web-scaled.jpg
END:VEVENT
BEGIN:VEVENT
DTSTART;TZID=America/Chicago:20250923T143000
DTEND;TZID=America/Chicago:20250923T160000
DTSTAMP:20260425T103133
CREATED:20250828T150653Z
LAST-MODIFIED:20250828T150653Z
UID:102184-1758637800-1758643200@southlakelc.org
SUMMARY:Small Group - Arbet's
DESCRIPTION:Meet us on the 2nd and 4th Tuesdays at 2:30pm at the Arbet home. \nThis Small Group is for the Tuscan Lakes area. \nFor more information and to register\, click here. \n  \nEngage | Grow | Share
URL:https://southlakelc.org/calendar/small-group-arbets-54
CATEGORIES:Community,Outreach
ATTACH;FMTTYPE=image/jpeg:https://southlakelc.org/wp-content/uploads/2023/03/small_groups-title-2-Wide-16x9-1.jpg
END:VEVENT
BEGIN:VEVENT
DTSTART;TZID=America/Chicago:20250923T140000
DTEND;TZID=America/Chicago:20250923T150000
DTSTAMP:20260425T103133
CREATED:20250828T150147Z
LAST-MODIFIED:20250904T140847Z
UID:102172-1758636000-1758639600@southlakelc.org
SUMMARY:Prayer at 2
DESCRIPTION:Join Pastor Rob every Tuesday at 2 for prayer time at Panera. \nLocation: Panera. 2630 Gulf Fwy Suite A\, League City\, TX 77573 \nEngage | Grow | Share
URL:https://southlakelc.org/calendar/prayer-at-2-17
CATEGORIES:Community,Outreach
ATTACH;FMTTYPE=image/jpeg:https://southlakelc.org/wp-content/uploads/2025/08/Prayers-At-2.jpg
END:VEVENT
BEGIN:VEVENT
DTSTART;TZID=America/Chicago:20250921T103000
DTEND;TZID=America/Chicago:20250921T113000
DTSTAMP:20260425T103133
CREATED:20250828T145842Z
LAST-MODIFIED:20250828T145842Z
UID:102163-1758450600-1758454200@southlakelc.org
SUMMARY:Weekly Worship
DESCRIPTION:Weekly Worship Sundays 10:30am\nHometown Heroes Park\n1001 E League City Pkwy\, League City\, TX 77573\n\n\nLive Stream – SouthLakeLC.org
URL:https://southlakelc.org/calendar/weekly-worship-52
CATEGORIES:Community,Music,Outreach
ATTACH;FMTTYPE=image/jpeg:https://southlakelc.org/wp-content/uploads/2020/11/worship-2-orh4uyww62p8wcxyfofslvas4h3zxl5gtyzjhk1g_26784dd1e7ecdceb97fd98a90e6b97d4-opt-1.jpg
END:VEVENT
BEGIN:VEVENT
DTSTART;TZID=America/Chicago:20250920T080000
DTEND;TZID=America/Chicago:20250920T090000
DTSTAMP:20260425T103133
CREATED:20250828T152022Z
LAST-MODIFIED:20250828T152022Z
UID:102209-1758355200-1758358800@southlakelc.org
SUMMARY:Immerse
DESCRIPTION:Join us as we continue the 16-week series: Beginnings. Getting to know Jesus the best way possible. We’ll be reading together from the Old Testament about God’s plan from the very beginning and need of His love and forgiveness. Meet us 8am Saturdays. \nMore info: https://southlakelc.churchcenter.com/registrations/events/524440 \n\nContact Rob Bailey at rbailey@southlakelc.org\n\n  \nEngage | Grow | Share
URL:https://southlakelc.org/calendar/immerse-151
CATEGORIES:Community,Food,Outreach
ATTACH;FMTTYPE=image/png:https://southlakelc.org/wp-content/uploads/2025/06/Immerse-Bible-Experience1.png
END:VEVENT
BEGIN:VEVENT
DTSTART;TZID=America/Chicago:20250919T183000
DTEND;TZID=America/Chicago:20250919T203000
DTSTAMP:20260425T103133
CREATED:20250728T145018Z
LAST-MODIFIED:20250728T145018Z
UID:99149-1758306600-1758313800@southlakelc.org
SUMMARY:Renewal - Women's Gathering
DESCRIPTION:Renewal is South Lake’s Women’s Gathering. A chance for women from all over our League City community to gather together\, be renewed from all that life throws at us and be reminded we walk together on our faith journey. \n\nLocation: TBD \nFor more information and to register: click here \n\n  \nEngage | Grow | Share
URL:https://southlakelc.org/calendar/renewal-womens-gathering-31
CATEGORIES:Community,Food,Outreach
ATTACH;FMTTYPE=image/jpeg:https://southlakelc.org/wp-content/uploads/2022/01/womens-gathering.jpeg
END:VEVENT
BEGIN:VEVENT
DTSTART;TZID=America/Chicago:20250917T130000
DTEND;TZID=America/Chicago:20250917T140000
DTSTAMP:20260425T103133
CREATED:20250828T151459Z
LAST-MODIFIED:20250828T151459Z
UID:102196-1758114000-1758117600@southlakelc.org
SUMMARY:Small Group - Renschen's
DESCRIPTION:Join us every Wednesday to discuss the book of John\, taught by scholar and professor Gary M. Burge\, you’ll learn about the text itself\, explore issues in John’s culture and in ours that help us understand the ultimate meaning of each passage\, and discover ways in which the eternal theology of John can be understood and lived out in our modern culture. \nFor more information and to register\, click here. \n  \nEngage | Grow | Share
URL:https://southlakelc.org/calendar/small-group-renschens-97
CATEGORIES:Community,Outreach
ATTACH;FMTTYPE=image/jpeg:https://southlakelc.org/wp-content/uploads/2023/03/small_groups-title-2-Wide-16x9-1.jpg
END:VEVENT
BEGIN:VEVENT
DTSTART;TZID=America/Chicago:20250917T070000
DTEND;TZID=America/Chicago:20250917T080000
DTSTAMP:20260425T103133
CREATED:20250828T151014Z
LAST-MODIFIED:20250828T151014Z
UID:102188-1758092400-1758096000@southlakelc.org
SUMMARY:Wednesday Recap Breakfast
DESCRIPTION:Got questions or thoughts from this past Sunday or just hungry to start your morning? Join us at Kelley’s Country Cookin 7am each Wednesday to go over the reading from last Sunday\, discuss\, and be together as we begin the work day. Another great opportunity to share with friends and invite them to get to know Jesus. \n1502 FM518\, League City\, TX 77573 \n  \nEngage | Grow | Share
URL:https://southlakelc.org/calendar/wednesday-recap-breakfast-133
CATEGORIES:Community,Food,Outreach
ATTACH;FMTTYPE=image/jpeg:https://southlakelc.org/wp-content/uploads/2024/10/Breakfast-Wednesday-Morning-web-scaled.jpg
END:VEVENT
BEGIN:VEVENT
DTSTART;TZID=America/Chicago:20250916T140000
DTEND;TZID=America/Chicago:20250916T150000
DTSTAMP:20260425T103133
CREATED:20250828T150157Z
LAST-MODIFIED:20250904T140837Z
UID:102171-1758031200-1758034800@southlakelc.org
SUMMARY:Prayer at 2
DESCRIPTION:Join Pastor Rob every Tuesday at 2 for prayer time at Panera. \nLocation: Panera. 2630 Gulf Fwy Suite A\, League City\, TX 77573 \nEngage | Grow | Share
URL:https://southlakelc.org/calendar/prayer-at-2-18
CATEGORIES:Community,Outreach
ATTACH;FMTTYPE=image/jpeg:https://southlakelc.org/wp-content/uploads/2025/08/Prayers-At-2.jpg
END:VEVENT
BEGIN:VEVENT
DTSTART;TZID=America/Chicago:20250914T103000
DTEND;TZID=America/Chicago:20250914T113000
DTSTAMP:20260425T103133
CREATED:20250828T145815Z
LAST-MODIFIED:20250828T145815Z
UID:102162-1757845800-1757849400@southlakelc.org
SUMMARY:Weekly Worship
DESCRIPTION:Weekly Worship Sundays 10:30am\nHometown Heroes Park\n1001 E League City Pkwy\, League City\, TX 77573\n\n\nLive Stream – SouthLakeLC.org
URL:https://southlakelc.org/calendar/weekly-worship-51
CATEGORIES:Community,Music,Outreach
ATTACH;FMTTYPE=image/jpeg:https://southlakelc.org/wp-content/uploads/2020/11/worship-2-orh4uyww62p8wcxyfofslvas4h3zxl5gtyzjhk1g_26784dd1e7ecdceb97fd98a90e6b97d4-opt-1.jpg
END:VEVENT
BEGIN:VEVENT
DTSTART;TZID=America/Chicago:20250913T080000
DTEND;TZID=America/Chicago:20250913T090000
DTSTAMP:20260425T103133
CREATED:20250828T152000Z
LAST-MODIFIED:20250828T152000Z
UID:102208-1757750400-1757754000@southlakelc.org
SUMMARY:Immerse
DESCRIPTION:Join us as we continue the 16-week series: Beginnings. Getting to know Jesus the best way possible. We’ll be reading together from the Old Testament about God’s plan from the very beginning and need of His love and forgiveness. Meet us 8am Saturdays. \nMore info: https://southlakelc.churchcenter.com/registrations/events/524440 \n\nContact Rob Bailey at rbailey@southlakelc.org\n\n  \nEngage | Grow | Share
URL:https://southlakelc.org/calendar/immerse-150
CATEGORIES:Community,Food,Outreach
ATTACH;FMTTYPE=image/png:https://southlakelc.org/wp-content/uploads/2025/06/Immerse-Bible-Experience1.png
END:VEVENT
BEGIN:VEVENT
DTSTART;TZID=America/Chicago:20250912T183000
DTEND;TZID=America/Chicago:20250912T203000
DTSTAMP:20260425T103133
CREATED:20250728T144942Z
LAST-MODIFIED:20250728T144943Z
UID:99147-1757701800-1757709000@southlakelc.org
SUMMARY:Guys' Gathering
DESCRIPTION:Men of South Lake\, we are having our next guys gathering. Join us as we take time to be together\, share what’s going on with all the craziness of our life. Bring a side dish (chips or nuts count) Come together for whisky or drink of choice\, cigars\, and a side. \nLocation: TBD \nFor more information and to register\, click here. \n  \nEngage | Grow | Share
URL:https://southlakelc.org/calendar/guys-gathering-35
CATEGORIES:Community,Food,Outreach
ATTACH;FMTTYPE=image/jpeg:https://southlakelc.org/wp-content/uploads/2022/01/guys-gathering-update.jpg
END:VEVENT
BEGIN:VEVENT
DTSTART;TZID=America/Chicago:20250911T123000
DTEND;TZID=America/Chicago:20250911T133000
DTSTAMP:20260425T103133
CREATED:20250728T144634Z
LAST-MODIFIED:20250728T144634Z
UID:99143-1757593800-1757597400@southlakelc.org
SUMMARY:South Lake Luncheon
DESCRIPTION:Join us every 2nd and 4th Thursdays of the month. Bring your appetite and a friend as we gather. As we meet for lunch\, we’ll get to know one another and enjoy great food. \nThis week’s meeting will start at 12:30pm and we will be meeting at La Brisa League City 501 N Wesley Dr\, League City\, TX 77573 \nMore Info \n  \nEngage | Grow | Share
URL:https://southlakelc.org/calendar/south-lake-luncheon-68
CATEGORIES:Community,Food,Outreach
ATTACH;FMTTYPE=image/png:https://southlakelc.org/wp-content/uploads/2024/03/Luncheon-1.png
END:VEVENT
BEGIN:VEVENT
DTSTART;TZID=America/Chicago:20250910T130000
DTEND;TZID=America/Chicago:20250910T140000
DTSTAMP:20260425T103133
CREATED:20250828T151431Z
LAST-MODIFIED:20250828T151431Z
UID:102195-1757509200-1757512800@southlakelc.org
SUMMARY:Small Group - Renschen's
DESCRIPTION:Join us every Wednesday to discuss the book of John\, taught by scholar and professor Gary M. Burge\, you’ll learn about the text itself\, explore issues in John’s culture and in ours that help us understand the ultimate meaning of each passage\, and discover ways in which the eternal theology of John can be understood and lived out in our modern culture. \nFor more information and to register\, click here. \n  \nEngage | Grow | Share
URL:https://southlakelc.org/calendar/small-group-renschens-96
CATEGORIES:Community,Outreach
ATTACH;FMTTYPE=image/jpeg:https://southlakelc.org/wp-content/uploads/2023/03/small_groups-title-2-Wide-16x9-1.jpg
END:VEVENT
BEGIN:VEVENT
DTSTART;TZID=America/Chicago:20250910T070000
DTEND;TZID=America/Chicago:20250910T080000
DTSTAMP:20260425T103133
CREATED:20250828T151000Z
LAST-MODIFIED:20250828T151000Z
UID:102187-1757487600-1757491200@southlakelc.org
SUMMARY:Wednesday Recap Breakfast
DESCRIPTION:Got questions or thoughts from this past Sunday or just hungry to start your morning? Join us at Kelley’s Country Cookin 7am each Wednesday to go over the reading from last Sunday\, discuss\, and be together as we begin the work day. Another great opportunity to share with friends and invite them to get to know Jesus. \n1502 FM518\, League City\, TX 77573 \n  \nEngage | Grow | Share
URL:https://southlakelc.org/calendar/wednesday-recap-breakfast-132
CATEGORIES:Community,Food,Outreach
ATTACH;FMTTYPE=image/jpeg:https://southlakelc.org/wp-content/uploads/2024/10/Breakfast-Wednesday-Morning-web-scaled.jpg
END:VEVENT
BEGIN:VEVENT
DTSTART;TZID=America/Chicago:20250909T143000
DTEND;TZID=America/Chicago:20250909T160000
DTSTAMP:20260425T103133
CREATED:20250828T150711Z
LAST-MODIFIED:20250828T150711Z
UID:102183-1757428200-1757433600@southlakelc.org
SUMMARY:Small Group - Arbet's
DESCRIPTION:Meet us on the 2nd and 4th Tuesdays at 2:30pm at the Arbet home. \nThis Small Group is for the Tuscan Lakes area. \nFor more information and to register\, click here. \n  \nEngage | Grow | Share
URL:https://southlakelc.org/calendar/small-group-arbets-55
CATEGORIES:Community,Outreach
ATTACH;FMTTYPE=image/jpeg:https://southlakelc.org/wp-content/uploads/2023/03/small_groups-title-2-Wide-16x9-1.jpg
END:VEVENT
BEGIN:VEVENT
DTSTART;TZID=America/Chicago:20250909T140000
DTEND;TZID=America/Chicago:20250909T150000
DTSTAMP:20260425T103133
CREATED:20250828T150206Z
LAST-MODIFIED:20250904T140827Z
UID:102170-1757426400-1757430000@southlakelc.org
SUMMARY:Prayer at 2
DESCRIPTION:Join Pastor Rob every Tuesday at 2 for prayer time at Panera. \nLocation: Panera. 2630 Gulf Fwy Suite A\, League City\, TX 77573 \nEngage | Grow | Share
URL:https://southlakelc.org/calendar/prayer-at-2-19
CATEGORIES:Community,Outreach
ATTACH;FMTTYPE=image/jpeg:https://southlakelc.org/wp-content/uploads/2025/08/Prayers-At-2.jpg
END:VEVENT
BEGIN:VEVENT
DTSTART;TZID=America/Chicago:20250907T103000
DTEND;TZID=America/Chicago:20250907T113000
DTSTAMP:20260425T103133
CREATED:20250728T143417Z
LAST-MODIFIED:20250728T143417Z
UID:99113-1757241000-1757244600@southlakelc.org
SUMMARY:Weekly Worship
DESCRIPTION:Weekly Worship Sundays 10:30am\nHometown Heroes Park\n1001 E League City Pkwy\, League City\, TX 77573\n\n\nLive Stream – SouthLakeLC.org
URL:https://southlakelc.org/calendar/weekly-worship-49
CATEGORIES:Community,Music,Outreach
ATTACH;FMTTYPE=image/jpeg:https://southlakelc.org/wp-content/uploads/2020/11/worship-2-orh4uyww62p8wcxyfofslvas4h3zxl5gtyzjhk1g_26784dd1e7ecdceb97fd98a90e6b97d4-opt-1.jpg
END:VEVENT
BEGIN:VEVENT
DTSTART;TZID=America/Chicago:20250906T080000
DTEND;TZID=America/Chicago:20250906T090000
DTSTAMP:20260425T103133
CREATED:20250728T145324Z
LAST-MODIFIED:20250728T145324Z
UID:99158-1757145600-1757149200@southlakelc.org
SUMMARY:Immerse
DESCRIPTION:Join us as we continue the 16-week series: Beginnings. Getting to know Jesus the best way possible. We’ll be reading together from the Old Testament about God’s plan from the very beginning and need of His love and forgiveness. Meet us 8am Saturdays. \nMore info: https://southlakelc.churchcenter.com/registrations/events/524440 \n\nContact Rob Bailey at rbailey@southlakelc.org\n\n  \nEngage | Grow | Share
URL:https://southlakelc.org/calendar/immerse-149
CATEGORIES:Community,Food,Outreach
ATTACH;FMTTYPE=image/png:https://southlakelc.org/wp-content/uploads/2025/06/Immerse-Bible-Experience1.png
END:VEVENT
BEGIN:VEVENT
DTSTART;TZID=America/Chicago:20250903T130000
DTEND;TZID=America/Chicago:20250903T140000
DTSTAMP:20260425T103133
CREATED:20250728T144234Z
LAST-MODIFIED:20250728T144234Z
UID:99134-1756904400-1756908000@southlakelc.org
SUMMARY:Small Group - Renschen's
DESCRIPTION:Join us every Wednesday to discuss the book of John\, taught by scholar and professor Gary M. Burge\, you’ll learn about the text itself\, explore issues in John’s culture and in ours that help us understand the ultimate meaning of each passage\, and discover ways in which the eternal theology of John can be understood and lived out in our modern culture. \nFor more information and to register\, click here. \n  \nEngage | Grow | Share
URL:https://southlakelc.org/calendar/small-group-renschens-95
CATEGORIES:Community,Outreach
ATTACH;FMTTYPE=image/jpeg:https://southlakelc.org/wp-content/uploads/2023/03/small_groups-title-2-Wide-16x9-1.jpg
END:VEVENT
BEGIN:VEVENT
DTSTART;TZID=America/Chicago:20250903T070000
DTEND;TZID=America/Chicago:20250903T080000
DTSTAMP:20260425T103133
CREATED:20250728T143108Z
LAST-MODIFIED:20250728T143108Z
UID:99104-1756882800-1756886400@southlakelc.org
SUMMARY:Wednesday Recap Breakfast
DESCRIPTION:Got questions or thoughts from this past Sunday or just hungry to start your morning? Join us at Kelley’s Country Cookin 7am each Wednesday to go over the reading from last Sunday\, discuss\, and be together as we begin the work day. Another great opportunity to share with friends and invite them to get to know Jesus. \n1502 FM518\, League City\, TX 77573 \n  \nEngage | Grow | Share
URL:https://southlakelc.org/calendar/wednesday-recap-breakfast-131
CATEGORIES:Community,Food,Outreach
ATTACH;FMTTYPE=image/jpeg:https://southlakelc.org/wp-content/uploads/2024/10/Breakfast-Wednesday-Morning-web-scaled.jpg
END:VEVENT
BEGIN:VEVENT
DTSTART;TZID=America/Chicago:20250902T190000
DTEND;TZID=America/Chicago:20250902T203000
DTSTAMP:20260425T103133
CREATED:20250828T150331Z
LAST-MODIFIED:20250828T150430Z
UID:102181-1756839600-1756845000@southlakelc.org
SUMMARY:Pints and Questions (Ps and Qs)
DESCRIPTION:Join us for Ps & Qs every 1st Tuesday at 7pm! This is a great opportunity to ask Pastor Rob questions!\nCheck out more info about the South Lake Church @ SouthLakeLC.org\n\nMeet us at Craft 96\, 2575 E League City Pkwy\, League City\, TX 77573\n\n  \nEngage | Grow | Share
URL:https://southlakelc.org/calendar/pints-and-questions-ps-and-qs-44
CATEGORIES:Community,Food,Outreach
ATTACH;FMTTYPE=image/jpeg:https://southlakelc.org/wp-content/uploads/2024/06/psqs-web-scaled.jpg
END:VEVENT
BEGIN:VEVENT
DTSTART;TZID=America/Chicago:20250902T140000
DTEND;TZID=America/Chicago:20250902T150000
DTSTAMP:20260425T103133
CREATED:20250728T143915Z
LAST-MODIFIED:20250904T141021Z
UID:99125-1756821600-1756825200@southlakelc.org
SUMMARY:Prayer at 2
DESCRIPTION:Join Pastor Rob every Tuesday at 2 for prayer time at Panera. \nLocation: Panera. 2630 Gulf Fwy Suite A\, League City\, TX 77573 \nEngage | Grow | Share
URL:https://southlakelc.org/calendar/prayer-at-2-14
CATEGORIES:Community,Food,Outreach
ATTACH;FMTTYPE=image/jpeg:https://southlakelc.org/wp-content/uploads/2025/08/Prayers-At-2.jpg
END:VEVENT
BEGIN:VEVENT
DTSTART;TZID=America/Chicago:20250831T103000
DTEND;TZID=America/Chicago:20250831T113000
DTSTAMP:20260425T103133
CREATED:20250728T143402Z
LAST-MODIFIED:20250728T143402Z
UID:99112-1756636200-1756639800@southlakelc.org
SUMMARY:Weekly Worship
DESCRIPTION:Weekly Worship Sundays 10:30am\nHometown Heroes Park\n1001 E League City Pkwy\, League City\, TX 77573\n\n\nLive Stream – SouthLakeLC.org
URL:https://southlakelc.org/calendar/weekly-worship-48
CATEGORIES:Community,Music,Outreach
ATTACH;FMTTYPE=image/jpeg:https://southlakelc.org/wp-content/uploads/2020/11/worship-2-orh4uyww62p8wcxyfofslvas4h3zxl5gtyzjhk1g_26784dd1e7ecdceb97fd98a90e6b97d4-opt-1.jpg
END:VEVENT
BEGIN:VEVENT
DTSTART;TZID=America/Chicago:20250830T080000
DTEND;TZID=America/Chicago:20250830T090000
DTSTAMP:20260425T103133
CREATED:20250728T145311Z
LAST-MODIFIED:20250728T145311Z
UID:99157-1756540800-1756544400@southlakelc.org
SUMMARY:Immerse
DESCRIPTION:Join us as we continue the 16-week series: Beginnings. Getting to know Jesus the best way possible. We’ll be reading together from the Old Testament about God’s plan from the very beginning and need of His love and forgiveness. Meet us 8am Saturdays. \nMore info: https://southlakelc.churchcenter.com/registrations/events/524440 \n\nContact Rob Bailey at rbailey@southlakelc.org\n\n  \nEngage | Grow | Share
URL:https://southlakelc.org/calendar/immerse-148
CATEGORIES:Community,Food,Outreach
ATTACH;FMTTYPE=image/png:https://southlakelc.org/wp-content/uploads/2025/06/Immerse-Bible-Experience1.png
END:VEVENT
BEGIN:VEVENT
DTSTART;TZID=America/Chicago:20250828T123000
DTEND;TZID=America/Chicago:20250828T133000
DTSTAMP:20260425T103133
CREATED:20250728T144621Z
LAST-MODIFIED:20250728T144621Z
UID:99142-1756384200-1756387800@southlakelc.org
SUMMARY:South Lake Luncheon
DESCRIPTION:Join us every 2nd and 4th Thursdays of the month. Bring your appetite and a friend as we gather. As we meet for lunch\, we’ll get to know one another and enjoy great food. \nThis week’s meeting will start at 12:30pm and we will be meeting at La Brisa League City 501 N Wesley Dr\, League City\, TX 77573 \nMore Info \n  \nEngage | Grow | Share
URL:https://southlakelc.org/calendar/south-lake-luncheon-67
CATEGORIES:Community,Food,Outreach
ATTACH;FMTTYPE=image/png:https://southlakelc.org/wp-content/uploads/2024/03/Luncheon-1.png
END:VEVENT
END:VCALENDAR