BEGIN:VCALENDAR
VERSION:2.0
PRODID:-//South Lake Church - ECPv6.15.20//NONSGML v1.0//EN
CALSCALE:GREGORIAN
METHOD:PUBLISH
X-WR-CALNAME:South Lake Church
X-ORIGINAL-URL:https://southlakelc.org
X-WR-CALDESC:Events for South Lake Church
REFRESH-INTERVAL;VALUE=DURATION:PT1H
X-Robots-Tag:noindex
X-PUBLISHED-TTL:PT1H
BEGIN:VTIMEZONE
TZID:America/Chicago
BEGIN:DAYLIGHT
TZOFFSETFROM:-0600
TZOFFSETTO:-0500
TZNAME:CDT
DTSTART:20250309T080000
END:DAYLIGHT
BEGIN:STANDARD
TZOFFSETFROM:-0500
TZOFFSETTO:-0600
TZNAME:CST
DTSTART:20251102T070000
END:STANDARD
BEGIN:DAYLIGHT
TZOFFSETFROM:-0600
TZOFFSETTO:-0500
TZNAME:CDT
DTSTART:20260308T080000
END:DAYLIGHT
BEGIN:STANDARD
TZOFFSETFROM:-0500
TZOFFSETTO:-0600
TZNAME:CST
DTSTART:20261101T070000
END:STANDARD
BEGIN:DAYLIGHT
TZOFFSETFROM:-0600
TZOFFSETTO:-0500
TZNAME:CDT
DTSTART:20270314T080000
END:DAYLIGHT
BEGIN:STANDARD
TZOFFSETFROM:-0500
TZOFFSETTO:-0600
TZNAME:CST
DTSTART:20271107T070000
END:STANDARD
END:VTIMEZONE
BEGIN:VEVENT
DTSTART;TZID=America/Chicago:20260409T121500
DTEND;TZID=America/Chicago:20260409T140000
DTSTAMP:20260425T080950
CREATED:20260122T150748Z
LAST-MODIFIED:20260421T120425Z
UID:117071-1775736900-1775743200@southlakelc.org
SUMMARY:South Lake Luncheon
DESCRIPTION:Bring your appetite and a friend as we gather. As we meet for lunch\, we’ll get to know one another and enjoy great food. \n  \nEngage | Grow | Share
URL:https://southlakelc.org/calendar/south-lake-luncheon-81
LOCATION:La Brisa Mexican Restaurant\, 501 N Wesley Dr\, League City\, TX\, 77573\, United States
CATEGORIES:Community,Food,Outreach
END:VEVENT
BEGIN:VEVENT
DTSTART;TZID=America/Chicago:20260408T130000
DTEND;TZID=America/Chicago:20260408T140000
DTSTAMP:20260425T080950
CREATED:20260122T193236Z
LAST-MODIFIED:20260122T193236Z
UID:117275-1775653200-1775656800@southlakelc.org
SUMMARY:Renschen's Small Group
DESCRIPTION:Meet us Wednesday’s at 1pm at the Renschen’s home. \nFor more information and to register\, click here. \n  \nEngage | Grow | Share
URL:https://southlakelc.org/calendar/renschens-small-group-17
CATEGORIES:Community,Outreach
END:VEVENT
BEGIN:VEVENT
DTSTART;TZID=America/Chicago:20260408T070000
DTEND;TZID=America/Chicago:20260408T080000
DTSTAMP:20260425T080950
CREATED:20260121T150951Z
LAST-MODIFIED:20260121T150951Z
UID:116861-1775631600-1775635200@southlakelc.org
SUMMARY:Wednesday Morning Recap
DESCRIPTION:Got questions or thoughts from this past Sunday or just hungry to start your morning? Join us at Kelley’s Country Cookin’ 7:00 AM each Wednesday to go over the reading from last Sunday\, discuss\, and be together as we begin the work day. Another great opportunity to share with friends and invite them to get to know Jesus. \n1502 FM518\, League City\, TX 77573 \n  \nEngage | Grow | Share
URL:https://southlakelc.org/calendar/wednesday-morning-recap-20
LOCATION:Kelley’s Country Cookin’\, 1502 West Main Street\, League City\, TX\, 77573\, United States
CATEGORIES:Community,Food,Outreach
END:VEVENT
BEGIN:VEVENT
DTSTART;TZID=America/Chicago:20260408T070000
DTEND;TZID=America/Chicago:20260408T080000
DTSTAMP:20260425T080950
CREATED:20260121T150249Z
LAST-MODIFIED:20260121T150249Z
UID:116859-1775631600-1775635200@southlakelc.org
SUMMARY:Wednesday Morning Recap
DESCRIPTION:Got questions or thoughts from this past Sunday or just hungry to start your morning? Join us at Kelley’s Country Cookin’ 7:00 AM each Wednesday to go over the reading from last Sunday\, discuss\, and be together as we begin the work day. Another great opportunity to share with friends and invite them to get to know Jesus. \n1502 FM518\, League City\, TX 77573 \n  \nEngage | Grow | Share
URL:https://southlakelc.org/calendar/wednesday-morning-recap-19
CATEGORIES:Community,Food,Outreach
END:VEVENT
BEGIN:VEVENT
DTSTART;TZID=America/Chicago:20260407T190000
DTEND;TZID=America/Chicago:20260407T200000
DTSTAMP:20260425T080950
CREATED:20260120T095644Z
LAST-MODIFIED:20260120T095644Z
UID:116486-1775588400-1775592000@southlakelc.org
SUMMARY:Pints & Questions (Ps & Qs)
DESCRIPTION:Join us for Ps & Qs every 1st Tuesday at 7pm! This is a great opportunity to ask Pastor Rob questions!\nCheck out more info about the South Lake Church @ SouthLakeLC.org\n\nMeet us at Craft 96\, 2575 E League City Pkwy\, League City\, TX 77573\n\n  \nEngage | Grow | Share
URL:https://southlakelc.org/calendar/pints-questions-ps-qs-5
LOCATION:Craft 96\, 2575 League City Pkwy\, League City\, TX\, 77573\, United States
CATEGORIES:Community,Food,Outreach
END:VEVENT
BEGIN:VEVENT
DTSTART;TZID=America/Chicago:20260407T140000
DTEND;TZID=America/Chicago:20260407T150000
DTSTAMP:20260425T080950
CREATED:20260120T133306Z
LAST-MODIFIED:20260121T144913Z
UID:116661-1775570400-1775574000@southlakelc.org
SUMMARY:Prayer @ 2
DESCRIPTION:Join Pastor Rob every Tuesday at 2 for prayer time at Panera. Location: Panera. 2630 Gulf Fwy Suite A\, League City\, TX 77573 \nEngage | Grow | Share
URL:https://southlakelc.org/calendar/prayer-2-18
LOCATION:Panera Bread (2630 Gulf Freeway\, Suite A\, League City\, TX 77573\, United States)
CATEGORIES:Community,Food,Outreach
END:VEVENT
BEGIN:VEVENT
DTSTART;TZID=America/Chicago:20260405T103000
DTEND;TZID=America/Chicago:20260405T120000
DTSTAMP:20260425T080950
CREATED:20260120T103647Z
LAST-MODIFIED:20260323T132401Z
UID:116538-1775385000-1775390400@southlakelc.org
SUMMARY:Weekly Worship- Communion Sunday
DESCRIPTION:Weekly Worship Sundays 10:30am\nWe are meeting at League City Sports Plex\, 1251 League City Pkwy\, League City\, TX 77573.\n\n\nLive Stream – SouthLakeLC.org
URL:https://southlakelc.org/calendar/weekly-worship-communion-sunday-13
LOCATION:League City Sportsplex\, 1251 League City Pkwy\, League City\, 77573\, United States
CATEGORIES:Community,Music,Outreach,Worship
END:VEVENT
BEGIN:VEVENT
DTSTART;TZID=America/Chicago:20260403T190000
DTEND;TZID=America/Chicago:20260403T200000
DTSTAMP:20260425T080950
CREATED:20260330T132222Z
LAST-MODIFIED:20260330T132222Z
UID:123845-1775242800-1775246400@southlakelc.org
SUMMARY:Good Friday Tenebrae
DESCRIPTION:  \nJoin us at 7:00 P.M. at the League City Civic Center for Good Friday Tenebrae. \n 
URL:https://southlakelc.org/calendar/good-friday-tenebrae
LOCATION:League City Civic Center\, 400 W. Walker\, League City\, 77573\, United States
CATEGORIES:Community,Music,Worship
END:VEVENT
BEGIN:VEVENT
DTSTART;TZID=America/Chicago:20260402T183000
DTEND;TZID=America/Chicago:20260402T193000
DTSTAMP:20260425T080950
CREATED:20260323T133714Z
LAST-MODIFIED:20260323T133714Z
UID:123154-1775154600-1775158200@southlakelc.org
SUMMARY:Maundy Thursday
DESCRIPTION:Join us for Maundy Thursday in the Volesky’s home for Maundy Thursday.
URL:https://southlakelc.org/calendar/maundy-thursday
LOCATION:Volesky’s Home\, 1155 Rustling Wind\, League City\, TX\, 77573\, United States
CATEGORIES:Community,Food,Worship
END:VEVENT
BEGIN:VEVENT
DTSTART;TZID=America/Chicago:20260401T130000
DTEND;TZID=America/Chicago:20260401T140000
DTSTAMP:20260425T080950
CREATED:20260122T193142Z
LAST-MODIFIED:20260122T193142Z
UID:117273-1775048400-1775052000@southlakelc.org
SUMMARY:Renschen's Small Group
DESCRIPTION:Meet us Wednesday’s at 1pm at the Renschen’s home. \nFor more information and to register\, click here. \n  \nEngage | Grow | Share
URL:https://southlakelc.org/calendar/renschens-small-group-16
CATEGORIES:Community,Outreach
END:VEVENT
BEGIN:VEVENT
DTSTART;TZID=America/Chicago:20260401T070000
DTEND;TZID=America/Chicago:20260401T080000
DTSTAMP:20260425T080950
CREATED:20260120T145022Z
LAST-MODIFIED:20260120T145022Z
UID:116760-1775026800-1775030400@southlakelc.org
SUMMARY:Wednesday Morning Recap
DESCRIPTION:Got questions or thoughts from this past Sunday or just hungry to start your morning? Join us at Kelley’s Country Cookin’ 7:00 AM each Wednesday to go over the reading from last Sunday\, discuss\, and be together as we begin the work day. Another great opportunity to share with friends and invite them to get to know Jesus. \n1502 FM518\, League City\, TX 77573 \n  \nEngage | Grow | Share
URL:https://southlakelc.org/calendar/wednesday-morning-recap-18
LOCATION:Kelley’s Country Cookin’\, 1502 West Main Street\, League City\, TX\, 77573\, United States
CATEGORIES:Community,Food,Outreach
END:VEVENT
BEGIN:VEVENT
DTSTART;TZID=America/Chicago:20260331T140000
DTEND;TZID=America/Chicago:20260331T150000
DTSTAMP:20260425T080950
CREATED:20260120T133218Z
LAST-MODIFIED:20260121T145202Z
UID:116659-1774965600-1774969200@southlakelc.org
SUMMARY:Prayer @ 2
DESCRIPTION:Join Pastor Rob every Tuesday at 2 for prayer time at Panera. Location: Panera. 2630 Gulf Fwy Suite A\, League City\, TX 77573 \nEngage | Grow | Share
URL:https://southlakelc.org/calendar/prayer-2-17
LOCATION:Panera Bread (2630 Gulf Freeway\, Suite A\, League City\, TX 77573\, United States)
CATEGORIES:Community,Food,Outreach
END:VEVENT
BEGIN:VEVENT
DTSTART;TZID=America/Chicago:20260329T103000
DTEND;TZID=America/Chicago:20260329T120000
DTSTAMP:20260425T080950
CREATED:20260120T103542Z
LAST-MODIFIED:20260323T131730Z
UID:116536-1774780200-1774785600@southlakelc.org
SUMMARY:Weekly Worship- Communion Sunday
DESCRIPTION:Weekly Worship Sundays 10:30am\nWe are meeting at League City Community Center\, 400 S Kansas Ave\nLeague City\, TX 77573\nUnited States\n\n\nLive Stream – SouthLakeLC.org
URL:https://southlakelc.org/calendar/weekly-worship-communion-sunday-12
LOCATION:League City Civic Center\, 400 W. Walker\, League City\, 77573\, United States
CATEGORIES:Community,Music,Outreach,Worship
END:VEVENT
BEGIN:VEVENT
DTSTART;TZID=America/Chicago:20260328T080000
DTEND;TZID=America/Chicago:20260328T100000
DTSTAMP:20260425T080950
CREATED:20260223T134317Z
LAST-MODIFIED:20260223T134317Z
UID:120452-1774684800-1774692000@southlakelc.org
SUMMARY:Immerse Bible Study
DESCRIPTION:Join us for breakfast and fellowship. Meet us 8am Saturdays at Noah’s Ark Café in Bacliff\, 4438 Boulevard St\, Bacliff\, TX 77518 More Info: Contact Rob Bailey at rbailey@southlakelc.org To register: https://southlakelc.churchcenter.com/registrations/events/3297173  \nEngage | Grow | Share
URL:https://southlakelc.org/calendar/immerse-bible-study-16
LOCATION:Noah’s Ark\, 4438 Boulevard St\, Bacliff\, TX\, 77518\, United States
CATEGORIES:Community,Food,Outreach
END:VEVENT
BEGIN:VEVENT
DTSTART;TZID=America/Chicago:20260326T121500
DTEND;TZID=America/Chicago:20260326T140000
DTSTAMP:20260425T080950
CREATED:20260122T150641Z
LAST-MODIFIED:20260421T120920Z
UID:117069-1774527300-1774533600@southlakelc.org
SUMMARY:South Lake Luncheon
DESCRIPTION:Bring your appetite and a friend as we gather. As we meet for lunch\, we’ll get to know one another and enjoy great food. \n  \nEngage | Grow | Share
URL:https://southlakelc.org/calendar/south-lake-luncheon-80
LOCATION:La Brisa Mexican Restaurant\, 501 N Wesley Dr\, League City\, TX\, 77573\, United States
CATEGORIES:Community,Food,Outreach
END:VEVENT
BEGIN:VEVENT
DTSTART;TZID=America/Chicago:20260325T130000
DTEND;TZID=America/Chicago:20260325T140000
DTSTAMP:20260425T080950
CREATED:20260122T192907Z
LAST-MODIFIED:20260122T192907Z
UID:117270-1774443600-1774447200@southlakelc.org
SUMMARY:Renschen's Small Group
DESCRIPTION:Meet us Wednesday’s at 1pm at the Renschen’s home. \nFor more information and to register\, click here. \n  \nEngage | Grow | Share
URL:https://southlakelc.org/calendar/renschens-small-group-15
CATEGORIES:Community,Outreach
END:VEVENT
BEGIN:VEVENT
DTSTART;TZID=America/Chicago:20260325T070000
DTEND;TZID=America/Chicago:20260325T080000
DTSTAMP:20260425T080950
CREATED:20260120T144743Z
LAST-MODIFIED:20260120T144743Z
UID:116758-1774422000-1774425600@southlakelc.org
SUMMARY:Wednesday Morning Recap
DESCRIPTION:Got questions or thoughts from this past Sunday or just hungry to start your morning? Join us at Kelley’s Country Cookin’ 7:00 AM each Wednesday to go over the reading from last Sunday\, discuss\, and be together as we begin the work day. Another great opportunity to share with friends and invite them to get to know Jesus. \n1502 FM518\, League City\, TX 77573 \n  \nEngage | Grow | Share
URL:https://southlakelc.org/calendar/wednesday-morning-recap-17
CATEGORIES:Community,Food,Outreach
END:VEVENT
BEGIN:VEVENT
DTSTART;TZID=America/Chicago:20260324T140000
DTEND;TZID=America/Chicago:20260324T150000
DTSTAMP:20260425T080950
CREATED:20260122T183939Z
LAST-MODIFIED:20260122T183939Z
UID:117200-1774360800-1774364400@southlakelc.org
SUMMARY:Arbet's Small Group
DESCRIPTION:Meet us on the 2nd and 4th Tuesdays at 2:30pm at the Arbet home. \nThis Small Group is for the Tuscan Lakes area. \nFor more information and to register\, click here. \n  \nEngage | Grow | Share
URL:https://southlakelc.org/calendar/arbets-small-group-7
CATEGORIES:Community,Outreach
END:VEVENT
BEGIN:VEVENT
DTSTART;TZID=America/Chicago:20260324T140000
DTEND;TZID=America/Chicago:20260324T150000
DTSTAMP:20260425T080950
CREATED:20260120T133121Z
LAST-MODIFIED:20260121T145251Z
UID:116657-1774360800-1774364400@southlakelc.org
SUMMARY:Prayer @ 2
DESCRIPTION:Join Pastor Rob every Tuesday at 2 for prayer time at Panera. Location: Panera. 2630 Gulf Fwy Suite A\, League City\, TX 77573 \nEngage | Grow | Share
URL:https://southlakelc.org/calendar/prayer-2-16
LOCATION:Panera Bread (2630 Gulf Freeway\, Suite A\, League City\, TX 77573\, United States)
CATEGORIES:Community,Food,Outreach
END:VEVENT
BEGIN:VEVENT
DTSTART;TZID=America/Chicago:20260323T190000
DTEND;TZID=America/Chicago:20260323T200000
DTSTAMP:20260425T080950
CREATED:20260323T134448Z
LAST-MODIFIED:20260323T134638Z
UID:123157-1774292400-1774296000@southlakelc.org
SUMMARY:Good Friday Worship Service
DESCRIPTION:Join us at League City Community Center for Good Friday service at League City Community Center at 7:00 P.M.
URL:https://southlakelc.org/calendar/good-friday-worship-service
LOCATION:League City Civic Center\, 400 W. Walker\, League City\, 77573\, United States
CATEGORIES:Community,Music,Worship
END:VEVENT
BEGIN:VEVENT
DTSTART;TZID=America/Chicago:20260322T123000
DTEND;TZID=America/Chicago:20260322T140000
DTSTAMP:20260425T080950
CREATED:20260122T181456Z
LAST-MODIFIED:20260122T181456Z
UID:117167-1774182600-1774188000@southlakelc.org
SUMMARY:Sunday Funday
DESCRIPTION:Welcome to South Lake’s Sunday Funday Gathering. A chance to gather together after church and have lunch. We go to different restaurants South of the Lake monthly to enjoy the food and people. \nThis Month’s location is TBD \nFor more information and to let us know you’re coming\, clicking here. \n\nEngage | Grow | Share
URL:https://southlakelc.org/calendar/sunday-funday-25
CATEGORIES:Community,Food,Outreach
END:VEVENT
BEGIN:VEVENT
DTSTART;TZID=America/Chicago:20260322T103000
DTEND;TZID=America/Chicago:20260322T120000
DTSTAMP:20260425T080950
CREATED:20260120T112251Z
LAST-MODIFIED:20260120T112251Z
UID:116596-1774175400-1774180800@southlakelc.org
SUMMARY:Weekly Worship- No Communion Sunday
DESCRIPTION:Weekly Worship Sundays 10:30am\nWe are meeting at Hometown Heroes Park 1001 E League City Pkwy\, League City\, TX 77573 League City\, TX 77573.\n\n\nLive Stream – SouthLakeLC.org
URL:https://southlakelc.org/calendar/weekly-worship-no-communion-sunday-6
LOCATION:Hometown Heroes Park\, 1001 E League City Pkwy\, League City\, TX\, 77573\, United States
CATEGORIES:Community,Music,Outreach,Worship
END:VEVENT
BEGIN:VEVENT
DTSTART;TZID=America/Chicago:20260321T080000
DTEND;TZID=America/Chicago:20260321T100000
DTSTAMP:20260425T080950
CREATED:20260223T131710Z
LAST-MODIFIED:20260223T131710Z
UID:120450-1774080000-1774087200@southlakelc.org
SUMMARY:Immerse Bible Study
DESCRIPTION:Join us for breakfast and fellowship. Meet us 8am Saturdays at Noah’s Ark Café in Bacliff\, 4438 Boulevard St\, Bacliff\, TX 77518 More Info: Contact Rob Bailey at rbailey@southlakelc.org To register: https://southlakelc.churchcenter.com/registrations/events/3297173  \nEngage | Grow | Share
URL:https://southlakelc.org/calendar/immerse-bible-study-15
LOCATION:Noah’s Ark\, 4438 Boulevard St\, Bacliff\, TX\, 77518\, United States
CATEGORIES:Community,Food,Outreach
END:VEVENT
BEGIN:VEVENT
DTSTART;TZID=America/Chicago:20260320T183000
DTEND;TZID=America/Chicago:20260320T200000
DTSTAMP:20260425T080950
CREATED:20260122T175525Z
LAST-MODIFIED:20260317T152754Z
UID:117142-1774031400-1774036800@southlakelc.org
SUMMARY:Renewal- A Women's Gathering
DESCRIPTION:Renewal is South Lake’s Women’s Gathering. A chance for women from all over our League City community to gather together\, be renewed from all that life throws at us and be reminded we walk together on our faith journey. \n\nLocation: Coconut Grove\, 207 FM 2094\, Kemah\, TX 77565 \nFor more information and to register: click here \n\n  \nEngage | Grow | Share
URL:https://southlakelc.org/calendar/renewal-a-womens-gathering-2
LOCATION:Coconut Grove\, 207 FM 2094\, Kemah\, Texas\, 77565
CATEGORIES:Community,Food,Outreach
END:VEVENT
BEGIN:VEVENT
DTSTART;TZID=America/Chicago:20260318T130000
DTEND;TZID=America/Chicago:20260318T140000
DTSTAMP:20260425T080950
CREATED:20260122T192724Z
LAST-MODIFIED:20260122T192801Z
UID:117267-1773838800-1773842400@southlakelc.org
SUMMARY:Renschen's Small Group
DESCRIPTION:Meet us Wednesday’s at 1pm at the Renschen’s home. \nFor more information and to register\, click here. \n  \nEngage | Grow | Share
URL:https://southlakelc.org/calendar/renschens-small-group-14
CATEGORIES:Community,Outreach
END:VEVENT
BEGIN:VEVENT
DTSTART;TZID=America/Chicago:20260318T070000
DTEND;TZID=America/Chicago:20260318T080000
DTSTAMP:20260425T080950
CREATED:20260120T143954Z
LAST-MODIFIED:20260120T143954Z
UID:116753-1773817200-1773820800@southlakelc.org
SUMMARY:Wednesday Morning Recap
DESCRIPTION:Got questions or thoughts from this past Sunday or just hungry to start your morning? Join us at Kelley’s Country Cookin’ 7:00 AM each Wednesday to go over the reading from last Sunday\, discuss\, and be together as we begin the work day. Another great opportunity to share with friends and invite them to get to know Jesus. \n1502 FM518\, League City\, TX 77573 \n  \nEngage | Grow | Share
URL:https://southlakelc.org/calendar/wednesday-morning-recap-16
LOCATION:Kelley’s Country Cookin’\, 1502 West Main Street\, League City\, TX\, 77573\, United States
CATEGORIES:Community,Food,Outreach
END:VEVENT
BEGIN:VEVENT
DTSTART;TZID=America/Chicago:20260317T140000
DTEND;TZID=America/Chicago:20260317T150000
DTSTAMP:20260425T080950
CREATED:20260120T132925Z
LAST-MODIFIED:20260121T145351Z
UID:116655-1773756000-1773759600@southlakelc.org
SUMMARY:Prayer @ 2
DESCRIPTION:Join Pastor Rob every Tuesday at 2 for prayer time at Panera. Location: Panera. 2630 Gulf Fwy Suite A\, League City\, TX 77573 \nEngage | Grow | Share
URL:https://southlakelc.org/calendar/prayer-2-15
LOCATION:Panera Bread (2630 Gulf Freeway\, Suite A\, League City\, TX 77573\, United States)
CATEGORIES:Community,Food,Outreach
END:VEVENT
BEGIN:VEVENT
DTSTART;TZID=America/Chicago:20260315T103000
DTEND;TZID=America/Chicago:20260315T120000
DTSTAMP:20260425T080950
CREATED:20260120T103421Z
LAST-MODIFIED:20260120T103421Z
UID:116533-1773570600-1773576000@southlakelc.org
SUMMARY:Weekly Worship- Communion Sunday
DESCRIPTION:Weekly Worship Sundays 10:30am\nWe are meeting at Hometown Heroes Park 1001 E League City Pkwy\, League City\, TX 77573 League City\, TX 77573.\n\n\nLive Stream – SouthLakeLC.org
URL:https://southlakelc.org/calendar/weekly-worship-communion-sunday-11
LOCATION:Hometown Heroes Park\, 1001 E League City Pkwy\, League City\, TX\, 77573\, United States
CATEGORIES:Community,Music,Outreach,Worship
END:VEVENT
BEGIN:VEVENT
DTSTART;TZID=America/Chicago:20260314T080000
DTEND;TZID=America/Chicago:20260314T100000
DTSTAMP:20260425T080950
CREATED:20260223T130146Z
LAST-MODIFIED:20260223T130146Z
UID:120447-1773475200-1773482400@southlakelc.org
SUMMARY:Immerse Bible Study
DESCRIPTION:Join us for breakfast and fellowship. Meet us 8am Saturdays at Noah’s Ark Café in Bacliff\, 4438 Boulevard St\, Bacliff\, TX 77518 More Info: Contact Rob Bailey at rbailey@southlakelc.org To register: https://southlakelc.churchcenter.com/registrations/events/3297173  \nEngage | Grow | Share
URL:https://southlakelc.org/calendar/immerse-bible-study-14
LOCATION:Noah’s Ark\, 4438 Boulevard St\, Bacliff\, TX\, 77518\, United States
CATEGORIES:Community,Food,Outreach
END:VEVENT
BEGIN:VEVENT
DTSTART;TZID=America/Chicago:20260312T121500
DTEND;TZID=America/Chicago:20260312T140000
DTSTAMP:20260425T080950
CREATED:20260122T150542Z
LAST-MODIFIED:20260421T121447Z
UID:117067-1773317700-1773324000@southlakelc.org
SUMMARY:South Lake Luncheon
DESCRIPTION:Bring your appetite and a friend as we gather. As we meet for lunch\, we’ll get to know one another and enjoy great food. \n  \nEngage | Grow | Share
URL:https://southlakelc.org/calendar/south-lake-luncheon-79
LOCATION:La Brisa Mexican Restaurant\, 501 N Wesley Dr\, League City\, TX\, 77573\, United States
CATEGORIES:Community,Food,Outreach
END:VEVENT
END:VCALENDAR