BEGIN:VCALENDAR
VERSION:2.0
PRODID:-//South Lake Church - ECPv6.15.20//NONSGML v1.0//EN
CALSCALE:GREGORIAN
METHOD:PUBLISH
X-ORIGINAL-URL:https://southlakelc.org
X-WR-CALDESC:Events for South Lake Church
REFRESH-INTERVAL;VALUE=DURATION:PT1H
X-Robots-Tag:noindex
X-PUBLISHED-TTL:PT1H
BEGIN:VTIMEZONE
TZID:America/Chicago
BEGIN:DAYLIGHT
TZOFFSETFROM:-0600
TZOFFSETTO:-0500
TZNAME:CDT
DTSTART:20240310T080000
END:DAYLIGHT
BEGIN:STANDARD
TZOFFSETFROM:-0500
TZOFFSETTO:-0600
TZNAME:CST
DTSTART:20241103T070000
END:STANDARD
BEGIN:DAYLIGHT
TZOFFSETFROM:-0600
TZOFFSETTO:-0500
TZNAME:CDT
DTSTART:20250309T080000
END:DAYLIGHT
BEGIN:STANDARD
TZOFFSETFROM:-0500
TZOFFSETTO:-0600
TZNAME:CST
DTSTART:20251102T070000
END:STANDARD
BEGIN:DAYLIGHT
TZOFFSETFROM:-0600
TZOFFSETTO:-0500
TZNAME:CDT
DTSTART:20260308T080000
END:DAYLIGHT
BEGIN:STANDARD
TZOFFSETFROM:-0500
TZOFFSETTO:-0600
TZNAME:CST
DTSTART:20261101T070000
END:STANDARD
END:VTIMEZONE
BEGIN:VEVENT
DTSTART;TZID=America/Chicago:20250101T070000
DTEND;TZID=America/Chicago:20250101T080000
DTSTAMP:20260425T103437
CREATED:20250113T161134Z
LAST-MODIFIED:20250113T161208Z
UID:79764-1735714800-1735718400@southlakelc.org
SUMMARY:Wednesday Recap Breakfast
DESCRIPTION:Got questions or thoughts from this past Sunday or just hungry to start your morning? Join us at Kelley’s Country Cookin 7am each Wednesday to go over the reading from last Sunday\, discuss\, and be together as we begin the work day. Another great opportunity to share with friends and invite them to get to know Jesus. \n1502 FM518\, League City\, TX 77573 \n  \nEngage | Grow | Share
URL:https://southlakelc.org/calendar/wednesday-recap-breakfast-99
LOCATION:TX
CATEGORIES:Community,Food,Outreach
ATTACH;FMTTYPE=image/jpeg:https://southlakelc.org/wp-content/uploads/2024/06/Wednesday-Morning-web-scaled.jpg
END:VEVENT
BEGIN:VEVENT
DTSTART;TZID=America/Chicago:20250104T080000
DTEND;TZID=America/Chicago:20250104T090000
DTSTAMP:20260425T103437
CREATED:20250113T161932Z
LAST-MODIFIED:20250113T161932Z
UID:79782-1735977600-1735981200@southlakelc.org
SUMMARY:Immerse
DESCRIPTION:This is a 8 Week Reading Plan: https://immersebible.com/messiah \nGetting to know Jesus the best way possible. We’ll be reading together through the New Testament reading about God’s plan from getting to know who Jesus and the Church are as well as what does it mean to live a life as a Christian. Meet us 8am Saturdays at Noah’s Ark Café in Bacliff\, 4438 Boulevard St\, Bacliff\, TX 77518 \n\nContact Rob Bailey at rbailey@southlakelc.org\n\n  \nEngage | Grow | Share
URL:https://southlakelc.org/calendar/immerse-115
LOCATION:TX
CATEGORIES:Community,Food,Outreach
ATTACH;FMTTYPE=image/jpeg:https://southlakelc.org/wp-content/uploads/2024/06/Immerse-Update-Recoveredweb-scaled.jpg
END:VEVENT
BEGIN:VEVENT
DTSTART;TZID=America/Chicago:20250105T103000
DTEND;TZID=America/Chicago:20250105T113000
DTSTAMP:20260425T103437
CREATED:20241125T153240Z
LAST-MODIFIED:20241125T153240Z
UID:74971-1736073000-1736076600@southlakelc.org
SUMMARY:Weekly Worship
DESCRIPTION:Weekly Worship Sundays 10:30am\nHometown Heroes Park\n1001 E League City Pkwy\, League City\, TX 77573\n\n\nLive Stream – SouthLakeLC.org
URL:https://southlakelc.org/calendar/weekly-worship-14
LOCATION:TX
CATEGORIES:Community,Music,Outreach
ATTACH;FMTTYPE=image/jpeg:https://southlakelc.org/wp-content/uploads/2022/01/test-pic-of-church-scaled.jpg
END:VEVENT
BEGIN:VEVENT
DTSTART;TZID=America/Chicago:20250107T190000
DTEND;TZID=America/Chicago:20250107T200000
DTSTAMP:20260425T103437
CREATED:20250113T160853Z
LAST-MODIFIED:20250113T160853Z
UID:79760-1736276400-1736280000@southlakelc.org
SUMMARY:Pints and Questions (Ps and Qs)
DESCRIPTION:Join us for Ps & Qs every 1st Tuesday at 7pm! This is a great opportunity to ask Pastor Rob questions!\nCheck out more info about the South Lake Church @ SouthLakeLC.org\n\nMeet us at Craft 96\, 2575 E League City Pkwy\, League City\, TX 77573\n\n  \nEngage | Grow | Share
URL:https://southlakelc.org/calendar/pints-and-questions-ps-and-qs-37
LOCATION:TX
CATEGORIES:Community,Food,Outreach
ATTACH;FMTTYPE=image/jpeg:https://southlakelc.org/wp-content/uploads/2024/06/psqs-web-scaled.jpg
END:VEVENT
BEGIN:VEVENT
DTSTART;TZID=America/Chicago:20250108T070000
DTEND;TZID=America/Chicago:20250108T080000
DTSTAMP:20260425T103437
CREATED:20250113T161209Z
LAST-MODIFIED:20250113T161209Z
UID:79765-1736319600-1736323200@southlakelc.org
SUMMARY:Wednesday Recap Breakfast
DESCRIPTION:Got questions or thoughts from this past Sunday or just hungry to start your morning? Join us at Kelley’s Country Cookin 7am each Wednesday to go over the reading from last Sunday\, discuss\, and be together as we begin the work day. Another great opportunity to share with friends and invite them to get to know Jesus. \n1502 FM518\, League City\, TX 77573 \n  \nEngage | Grow | Share
URL:https://southlakelc.org/calendar/wednesday-recap-breakfast-100
LOCATION:TX
CATEGORIES:Community,Food,Outreach
ATTACH;FMTTYPE=image/jpeg:https://southlakelc.org/wp-content/uploads/2024/06/Wednesday-Morning-web-scaled.jpg
END:VEVENT
BEGIN:VEVENT
DTSTART;TZID=America/Chicago:20250109T130000
DTEND;TZID=America/Chicago:20250109T140000
DTSTAMP:20260425T103437
CREATED:20241125T153739Z
LAST-MODIFIED:20241125T153739Z
UID:74978-1736427600-1736431200@southlakelc.org
SUMMARY:Small Group - Renschen's
DESCRIPTION:Meet us every Thursdays at 1pm at the Renschen’s home to discuss “NT in Antiquity – Studying the New Testament”  with a 27 week video Bible study presented by Gary M. Burge & Gene L. Green. \nSynopsis: The New Testament in Antiquity. The New Testament in Antiquity skillfully develops how Jewish\, Hellenistic\, and Roman cultures formed the essential environment in which the New Testament authors wrote their books and letters. Throughout the video lectures\, presenters Gary Burge and Gene Green provide windows into the first-century world and discuss issues of interpretation derived from cultural observations. You will learn how understanding the land\, history\, and culture of this world brings remarkable new insights into how we read the New Testament itself.\nFor more information and to register\, click here. \n  \nEngage | Grow | Share
URL:https://southlakelc.org/calendar/small-group-renschens-58
LOCATION:TX
CATEGORIES:Community,Outreach
ATTACH;FMTTYPE=image/jpeg:https://southlakelc.org/wp-content/uploads/2023/03/small_groups-title-2-Wide-16x9-1.jpg
END:VEVENT
BEGIN:VEVENT
DTSTART;TZID=America/Chicago:20250110T183000
DTEND;TZID=America/Chicago:20250110T203000
DTSTAMP:20260425T103437
CREATED:20250113T161814Z
LAST-MODIFIED:20250113T161814Z
UID:79778-1736533800-1736541000@southlakelc.org
SUMMARY:Guys' Gathering
DESCRIPTION:Men of South Lake\, we are having our next guys gathering. Join us as we take time to be together\, share what’s going on with all the craziness of our life. Bring a side dish (chips or nuts count) Come together for whisky or drink of choice\, cigars\, and a side. \nLocation: Rob’s home \nFor more information and to register\, click here. \n  \nEngage | Grow | Share
URL:https://southlakelc.org/calendar/guys-gathering-31
LOCATION:TX
CATEGORIES:Community,Food,Outreach
ATTACH;FMTTYPE=image/jpeg:https://southlakelc.org/wp-content/uploads/2022/01/guys-gathering-update.jpg
END:VEVENT
BEGIN:VEVENT
DTSTART;TZID=America/Chicago:20250111T080000
DTEND;TZID=America/Chicago:20250111T090000
DTSTAMP:20260425T103437
CREATED:20250113T161947Z
LAST-MODIFIED:20250113T161947Z
UID:79783-1736582400-1736586000@southlakelc.org
SUMMARY:
DESCRIPTION:This is a 8 Week Reading Plan: https://immersebible.com/messiah \nGetting to know Jesus the best way possible. We’ll be reading together through the New Testament reading about God’s plan from getting to know who Jesus and the Church are as well as what does it mean to live a life as a Christian. Meet us 8am Saturdays at Noah’s Ark Café in Bacliff\, 4438 Boulevard St\, Bacliff\, TX 77518 \n\nContact Rob Bailey at rbailey@southlakelc.org\n\n  \nEngage | Grow | Share
URL:https://southlakelc.org/calendar/79783
LOCATION:TX
CATEGORIES:Community,Food,Outreach
ATTACH;FMTTYPE=image/jpeg:https://southlakelc.org/wp-content/uploads/2024/06/Immerse-Update-Recoveredweb-scaled.jpg
END:VEVENT
BEGIN:VEVENT
DTSTART;TZID=America/Chicago:20250112T103000
DTEND;TZID=America/Chicago:20250112T113000
DTSTAMP:20260425T103437
CREATED:20250113T160051Z
LAST-MODIFIED:20250113T160051Z
UID:79739-1736677800-1736681400@southlakelc.org
SUMMARY:Weekly Worship
DESCRIPTION:Weekly Worship Sundays 10:30am\nHometown Heroes Park\n1001 E League City Pkwy\, League City\, TX 77573\n\n\nLive Stream – SouthLakeLC.org
URL:https://southlakelc.org/calendar/weekly-worship-17
LOCATION:TX
CATEGORIES:Community,Food,Outreach
ATTACH;FMTTYPE=image/jpeg:https://southlakelc.org/wp-content/uploads/2020/11/worship-2-orh4uyww62p8wcxyfofslvas4h3zxl5gtyzjhk1g_26784dd1e7ecdceb97fd98a90e6b97d4-opt-1.jpg
END:VEVENT
BEGIN:VEVENT
DTSTART;TZID=America/Chicago:20250114T143000
DTEND;TZID=America/Chicago:20250114T153000
DTSTAMP:20260425T103437
CREATED:20250113T160633Z
LAST-MODIFIED:20250113T160633Z
UID:79750-1736865000-1736868600@southlakelc.org
SUMMARY:Small Group - Arbet's
DESCRIPTION:Meet us on the 2nd and 4th Tuesdays at 2:30pm at the Arbet home. We will be discussing the Serendipity Bible study called “Coping with Tough Times”. \nThis Small Group is for the Tuscan Lakes area. \nFor more information and to register\, click here. \n  \nEngage | Grow | Share
URL:https://southlakelc.org/calendar/small-group-arbets-41
LOCATION:TX
CATEGORIES:Community,Outreach
ATTACH;FMTTYPE=image/jpeg:https://southlakelc.org/wp-content/uploads/2023/03/small_groups-title-2-Wide-16x9-1.jpg
END:VEVENT
BEGIN:VEVENT
DTSTART;TZID=America/Chicago:20250115T070000
DTEND;TZID=America/Chicago:20250115T080000
DTSTAMP:20260425T103437
CREATED:20250113T161222Z
LAST-MODIFIED:20250113T161222Z
UID:79766-1736924400-1736928000@southlakelc.org
SUMMARY:Wednesday Recap Breakfast
DESCRIPTION:Got questions or thoughts from this past Sunday or just hungry to start your morning? Join us at Kelley’s Country Cookin 7am each Wednesday to go over the reading from last Sunday\, discuss\, and be together as we begin the work day. Another great opportunity to share with friends and invite them to get to know Jesus. \n1502 FM518\, League City\, TX 77573 \n  \nEngage | Grow | Share
URL:https://southlakelc.org/calendar/wednesday-recap-breakfast-101
LOCATION:TX
CATEGORIES:Community,Food,Outreach
ATTACH;FMTTYPE=image/jpeg:https://southlakelc.org/wp-content/uploads/2024/06/Wednesday-Morning-web-scaled.jpg
END:VEVENT
BEGIN:VEVENT
DTSTART;TZID=America/Chicago:20250116T130000
DTEND;TZID=America/Chicago:20250116T140000
DTSTAMP:20260425T103437
CREATED:20241125T153737Z
LAST-MODIFIED:20241125T153737Z
UID:74979-1737032400-1737036000@southlakelc.org
SUMMARY:Small Group - Renschen's
DESCRIPTION:Meet us every Thursdays at 1pm at the Renschen’s home to discuss “NT in Antiquity – Studying the New Testament”  with a 27 week video Bible study presented by Gary M. Burge & Gene L. Green. \nSynopsis: The New Testament in Antiquity. The New Testament in Antiquity skillfully develops how Jewish\, Hellenistic\, and Roman cultures formed the essential environment in which the New Testament authors wrote their books and letters. Throughout the video lectures\, presenters Gary Burge and Gene Green provide windows into the first-century world and discuss issues of interpretation derived from cultural observations. You will learn how understanding the land\, history\, and culture of this world brings remarkable new insights into how we read the New Testament itself.\nFor more information and to register\, click here. \n  \nEngage | Grow | Share
URL:https://southlakelc.org/calendar/small-group-renschens-57
LOCATION:TX
CATEGORIES:Community,Outreach
ATTACH;FMTTYPE=image/jpeg:https://southlakelc.org/wp-content/uploads/2023/03/small_groups-title-2-Wide-16x9-1.jpg
END:VEVENT
BEGIN:VEVENT
DTSTART;TZID=America/Chicago:20250117T183000
DTEND;TZID=America/Chicago:20250117T203000
DTSTAMP:20260425T103437
CREATED:20250113T161856Z
LAST-MODIFIED:20250113T161856Z
UID:79780-1737138600-1737145800@southlakelc.org
SUMMARY:Renewal - Women's Gathering
DESCRIPTION:Renewal is South Lake’s Women’s Gathering. A chance for women from all over our League City community to gather together\, be renewed from all that life throws at us and be reminded we walk together on our faith journey. We are also going to be discussing the book Don’t forget to grab a copy of “Here For It (the Good\, the Bad\, and the Queso): The How-To Guide for Deepening Your Friendships and Doing Life Together” by Amy Weatherly and Jess Johnston \nLocation: Amber‘s home \nFor more information and to register: click here \n\nAmazon link to the book: click here \n  \nEngage | Grow | Share
URL:https://southlakelc.org/calendar/renewal-womens-gathering-26
LOCATION:TX
CATEGORIES:Community,Food,Outreach
ATTACH;FMTTYPE=image/jpeg:https://southlakelc.org/wp-content/uploads/2022/01/womens-gathering.jpeg
END:VEVENT
BEGIN:VEVENT
DTSTART;TZID=America/Chicago:20250118T080000
DTEND;TZID=America/Chicago:20250118T090000
DTSTAMP:20260425T103437
CREATED:20250113T162001Z
LAST-MODIFIED:20250113T162001Z
UID:79784-1737187200-1737190800@southlakelc.org
SUMMARY:Immerse
DESCRIPTION:This is a 8 Week Reading Plan: https://immersebible.com/messiah \nGetting to know Jesus the best way possible. We’ll be reading together through the New Testament reading about God’s plan from getting to know who Jesus and the Church are as well as what does it mean to live a life as a Christian. Meet us 8am Saturdays at Noah’s Ark Café in Bacliff\, 4438 Boulevard St\, Bacliff\, TX 77518 \n\nContact Rob Bailey at rbailey@southlakelc.org\n\n  \nEngage | Grow | Share
URL:https://southlakelc.org/calendar/immerse-116
LOCATION:TX
CATEGORIES:Community,Food,Outreach
ATTACH;FMTTYPE=image/jpeg:https://southlakelc.org/wp-content/uploads/2024/06/Immerse-Update-Recoveredweb-scaled.jpg
END:VEVENT
BEGIN:VEVENT
DTSTART;TZID=America/Chicago:20250119T103000
DTEND;TZID=America/Chicago:20250119T113000
DTSTAMP:20260425T103437
CREATED:20250113T160102Z
LAST-MODIFIED:20250113T160102Z
UID:79740-1737282600-1737286200@southlakelc.org
SUMMARY:Weekly Worship
DESCRIPTION:Weekly Worship Sundays 10:30am\nHometown Heroes Park\n1001 E League City Pkwy\, League City\, TX 77573\n\n\nLive Stream – SouthLakeLC.org
URL:https://southlakelc.org/calendar/weekly-worship-18
LOCATION:TX
CATEGORIES:Community,Music,Outreach
ATTACH;FMTTYPE=image/jpeg:https://southlakelc.org/wp-content/uploads/2020/11/worship-2-orh4uyww62p8wcxyfofslvas4h3zxl5gtyzjhk1g_26784dd1e7ecdceb97fd98a90e6b97d4-opt-1.jpg
END:VEVENT
BEGIN:VEVENT
DTSTART;TZID=America/Chicago:20250119T120000
DTEND;TZID=America/Chicago:20250119T140000
DTSTAMP:20260425T103437
CREATED:20250113T155358Z
LAST-MODIFIED:20250113T155717Z
UID:79736-1737288000-1737295200@southlakelc.org
SUMMARY:Sunday Funday
DESCRIPTION:Welcome to South Lake’s Sunday Funday Gathering. A chance to gather together after church and have lunch. We go to different restaurants South of the Lake monthly to enjoy the food and people.\nThis Month’s location is BB’s Tex-Orleans.1039 W Bay Area Blvd\, Webster\, TX 77598\nFor more information and to let us know you’re coming\, clicking here.
URL:https://southlakelc.org/calendar/79736
LOCATION:TX
CATEGORIES:Community,Food,Outreach
ATTACH;FMTTYPE=image/jpeg:https://southlakelc.org/wp-content/uploads/2024/06/Sunday-Funday-scaled.jpg
END:VEVENT
BEGIN:VEVENT
DTSTART;TZID=America/Chicago:20250123T130000
DTEND;TZID=America/Chicago:20250123T140000
DTSTAMP:20260425T103437
CREATED:20241125T153733Z
LAST-MODIFIED:20241125T153733Z
UID:74980-1737637200-1737640800@southlakelc.org
SUMMARY:Small Group - Renschen's
DESCRIPTION:Meet us every Thursdays at 1pm at the Renschen’s home to discuss “NT in Antiquity – Studying the New Testament”  with a 27 week video Bible study presented by Gary M. Burge & Gene L. Green. \nSynopsis: The New Testament in Antiquity. The New Testament in Antiquity skillfully develops how Jewish\, Hellenistic\, and Roman cultures formed the essential environment in which the New Testament authors wrote their books and letters. Throughout the video lectures\, presenters Gary Burge and Gene Green provide windows into the first-century world and discuss issues of interpretation derived from cultural observations. You will learn how understanding the land\, history\, and culture of this world brings remarkable new insights into how we read the New Testament itself.\nFor more information and to register\, click here. \n  \nEngage | Grow | Share
URL:https://southlakelc.org/calendar/small-group-renschens-52
LOCATION:TX
CATEGORIES:Community,Outreach
ATTACH;FMTTYPE=image/jpeg:https://southlakelc.org/wp-content/uploads/2023/03/small_groups-title-2-Wide-16x9-1.jpg
END:VEVENT
BEGIN:VEVENT
DTSTART;TZID=America/Chicago:20250125T080000
DTEND;TZID=America/Chicago:20250125T090000
DTSTAMP:20260425T103437
CREATED:20250113T162016Z
LAST-MODIFIED:20250113T162016Z
UID:79785-1737792000-1737795600@southlakelc.org
SUMMARY:Immerse
DESCRIPTION:This is a 8 Week Reading Plan: https://immersebible.com/messiah \nGetting to know Jesus the best way possible. We’ll be reading together through the New Testament reading about God’s plan from getting to know who Jesus and the Church are as well as what does it mean to live a life as a Christian. Meet us 8am Saturdays at Noah’s Ark Café in Bacliff\, 4438 Boulevard St\, Bacliff\, TX 77518 \n\nContact Rob Bailey at rbailey@southlakelc.org\n\n  \nEngage | Grow | Share
URL:https://southlakelc.org/calendar/immerse-117
LOCATION:TX
CATEGORIES:Community,Food,Outreach
ATTACH;FMTTYPE=image/jpeg:https://southlakelc.org/wp-content/uploads/2024/06/Immerse-Update-Recoveredweb-scaled.jpg
END:VEVENT
BEGIN:VEVENT
DTSTART;TZID=America/Chicago:20250126T103000
DTEND;TZID=America/Chicago:20250126T113000
DTSTAMP:20260425T103437
CREATED:20250113T160110Z
LAST-MODIFIED:20250113T160110Z
UID:79741-1737887400-1737891000@southlakelc.org
SUMMARY:Weekly Worship
DESCRIPTION:Weekly Worship Sundays 10:30am\nHometown Heroes Park\n1001 E League City Pkwy\, League City\, TX 77573\n\n\nLive Stream – SouthLakeLC.org
URL:https://southlakelc.org/calendar/weekly-worship-19
LOCATION:TX
CATEGORIES:Community,Music,Outreach
ATTACH;FMTTYPE=image/jpeg:https://southlakelc.org/wp-content/uploads/2020/11/worship-2-orh4uyww62p8wcxyfofslvas4h3zxl5gtyzjhk1g_26784dd1e7ecdceb97fd98a90e6b97d4-opt-1.jpg
END:VEVENT
BEGIN:VEVENT
DTSTART;TZID=America/Chicago:20250128T143000
DTEND;TZID=America/Chicago:20250128T153000
DTSTAMP:20260425T103437
CREATED:20250113T160638Z
LAST-MODIFIED:20250113T160638Z
UID:79751-1738074600-1738078200@southlakelc.org
SUMMARY:Small Group - Arbet's
DESCRIPTION:Meet us on the 2nd and 4th Tuesdays at 2:30pm at the Arbet home. We will be discussing the Serendipity Bible study called “Coping with Tough Times”. \nThis Small Group is for the Tuscan Lakes area. \nFor more information and to register\, click here. \n  \nEngage | Grow | Share
URL:https://southlakelc.org/calendar/small-group-arbets-42
LOCATION:TX
CATEGORIES:Community,Outreach
ATTACH;FMTTYPE=image/jpeg:https://southlakelc.org/wp-content/uploads/2023/03/small_groups-title-2-Wide-16x9-1.jpg
END:VEVENT
BEGIN:VEVENT
DTSTART;TZID=America/Chicago:20250129T070000
DTEND;TZID=America/Chicago:20250129T080000
DTSTAMP:20260425T103437
CREATED:20250113T161246Z
LAST-MODIFIED:20250113T161246Z
UID:79768-1738134000-1738137600@southlakelc.org
SUMMARY:Wednesday Recap Breakfast
DESCRIPTION:Got questions or thoughts from this past Sunday or just hungry to start your morning? Join us at Kelley’s Country Cookin 7am each Wednesday to go over the reading from last Sunday\, discuss\, and be together as we begin the work day. Another great opportunity to share with friends and invite them to get to know Jesus. \n1502 FM518\, League City\, TX 77573 \n  \nEngage | Grow | Share
URL:https://southlakelc.org/calendar/wednesday-recap-breakfast-103
LOCATION:TX
CATEGORIES:Community,Food,Outreach
ATTACH;FMTTYPE=image/jpeg:https://southlakelc.org/wp-content/uploads/2024/06/Wednesday-Morning-web-scaled.jpg
END:VEVENT
BEGIN:VEVENT
DTSTART;TZID=America/Chicago:20250130T123000
DTEND;TZID=America/Chicago:20250130T133000
DTSTAMP:20260425T103437
CREATED:20250120T152729Z
LAST-MODIFIED:20250120T152738Z
UID:80468-1738240200-1738243800@southlakelc.org
SUMMARY:South Lake Luncheon
DESCRIPTION:Join us every 2nd and 4th Thursdays of the month. Bring your appetite and a friend as we gather. As we meet for lunch\, we’ll get to know one another and enjoy great food. \nThis week’s meeting will start at 12:30pm and we will be meeting at La Brisa League City 501 N Wesley Dr\, League City\, TX 77573 \nMore Info \n  \nEngage | Grow | Share
URL:https://southlakelc.org/calendar/south-lake-luncheon-58
LOCATION:TX
CATEGORIES:Community,Food,Outreach
ATTACH;FMTTYPE=image/png:https://southlakelc.org/wp-content/uploads/2024/03/Luncheon-1.png
END:VEVENT
BEGIN:VEVENT
DTSTART;TZID=America/Chicago:20250130T130000
DTEND;TZID=America/Chicago:20250130T140000
DTSTAMP:20260425T103437
CREATED:20250113T160707Z
LAST-MODIFIED:20250113T160707Z
UID:79752-1738242000-1738245600@southlakelc.org
SUMMARY:Small Group - Renschen's
DESCRIPTION:Meet us every Thursdays at 1pm at the Renschen’s home to discuss “NT in Antiquity – Studying the New Testament”  with a 27 week video Bible study presented by Gary M. Burge & Gene L. Green. \nSynopsis: The New Testament in Antiquity. The New Testament in Antiquity skillfully develops how Jewish\, Hellenistic\, and Roman cultures formed the essential environment in which the New Testament authors wrote their books and letters. Throughout the video lectures\, presenters Gary Burge and Gene Green provide windows into the first-century world and discuss issues of interpretation derived from cultural observations. You will learn how understanding the land\, history\, and culture of this world brings remarkable new insights into how we read the New Testament itself.\nFor more information and to register\, click here. \n  \nEngage | Grow | Share
URL:https://southlakelc.org/calendar/small-group-renschens-61
LOCATION:TX
CATEGORIES:Community,Outreach
ATTACH;FMTTYPE=image/jpeg:https://southlakelc.org/wp-content/uploads/2023/03/small_groups-title-2-Wide-16x9-1.jpg
END:VEVENT
END:VCALENDAR